| Back to Multiple platform build/check report for BioC 3.11 |
|
This page was generated on 2020-10-17 11:58:08 -0400 (Sat, 17 Oct 2020).
| TO THE DEVELOPERS/MAINTAINERS OF THE BioTIP PACKAGE: Please make sure to use the following settings in order to reproduce any error or warning you see on this page. |
| Package 184/1905 | Hostname | OS / Arch | INSTALL | BUILD | CHECK | BUILD BIN | ||||||
| BioTIP 1.2.0 Zhezhen Wang
| malbec2 | Linux (Ubuntu 18.04.4 LTS) / x86_64 | OK | OK | WARNINGS | |||||||
| tokay2 | Windows Server 2012 R2 Standard / x64 | OK | OK | WARNINGS | OK | |||||||
| machv2 | macOS 10.14.6 Mojave / x86_64 | OK | [ OK ] | WARNINGS | OK |
| Package: BioTIP |
| Version: 1.2.0 |
| Command: /Library/Frameworks/R.framework/Versions/Current/Resources/bin/R CMD build --keep-empty-dirs --no-resave-data BioTIP |
| StartedAt: 2020-10-16 18:00:53 -0400 (Fri, 16 Oct 2020) |
| EndedAt: 2020-10-16 18:03:40 -0400 (Fri, 16 Oct 2020) |
| EllapsedTime: 166.4 seconds |
| RetCode: 0 |
| Status: OK |
| PackageFile: BioTIP_1.2.0.tar.gz |
| PackageFileSize: 2.668 MiB |
############################################################################## ############################################################################## ### ### Running command: ### ### /Library/Frameworks/R.framework/Versions/Current/Resources/bin/R CMD build --keep-empty-dirs --no-resave-data BioTIP ### ############################################################################## ############################################################################## * checking for file ‘BioTIP/DESCRIPTION’ ... OK * preparing ‘BioTIP’: * checking DESCRIPTION meta-information ... OK Warning: /private/tmp/RtmpyfPYlJ/Rbuildef212ab8bef6/BioTIP/man/optimize.sd_selection.Rd:40: unknown macro '\item' Warning: /private/tmp/RtmpyfPYlJ/Rbuildef212ab8bef6/BioTIP/man/optimize.sd_selection.Rd:52: unknown macro '\item' Warning: /private/tmp/RtmpyfPYlJ/Rbuildef212ab8bef6/BioTIP/man/optimize.sd_selection.Rd:55: unknown macro '\item' Warning: /private/tmp/RtmpyfPYlJ/Rbuildef212ab8bef6/BioTIP/man/optimize.sd_selection.Rd:58: unexpected section header '\value' Warning: /private/tmp/RtmpyfPYlJ/Rbuildef212ab8bef6/BioTIP/man/optimize.sd_selection.Rd:63: unexpected section header '\description' Warning: /private/tmp/RtmpyfPYlJ/Rbuildef212ab8bef6/BioTIP/man/optimize.sd_selection.Rd:68: unexpected section header '\examples' Warning: /private/tmp/RtmpyfPYlJ/Rbuildef212ab8bef6/BioTIP/man/optimize.sd_selection.Rd:78: unexpected section header '\seealso' Warning: /private/tmp/RtmpyfPYlJ/Rbuildef212ab8bef6/BioTIP/man/optimize.sd_selection.Rd:81: unexpected section header '\author' Warning: /private/tmp/RtmpyfPYlJ/Rbuildef212ab8bef6/BioTIP/man/optimize.sd_selection.Rd:84: unexpected END_OF_INPUT ' ' Warning: /private/tmp/RtmpyfPYlJ/Rbuildef212ab8bef6/BioTIP/man/sd_selection.Rd:29: unknown macro '\item' Warning: /private/tmp/RtmpyfPYlJ/Rbuildef212ab8bef6/BioTIP/man/sd_selection.Rd:41: unknown macro '\item' Warning: /private/tmp/RtmpyfPYlJ/Rbuildef212ab8bef6/BioTIP/man/sd_selection.Rd:44: unknown macro '\item' Warning: /private/tmp/RtmpyfPYlJ/Rbuildef212ab8bef6/BioTIP/man/sd_selection.Rd:47: unexpected section header '\value' Warning: /private/tmp/RtmpyfPYlJ/Rbuildef212ab8bef6/BioTIP/man/sd_selection.Rd:54: unexpected section header '\description' Warning: /private/tmp/RtmpyfPYlJ/Rbuildef212ab8bef6/BioTIP/man/sd_selection.Rd:61: unexpected section header '\examples' Warning: /private/tmp/RtmpyfPYlJ/Rbuildef212ab8bef6/BioTIP/man/sd_selection.Rd:71: unexpected section header '\seealso' Warning: /private/tmp/RtmpyfPYlJ/Rbuildef212ab8bef6/BioTIP/man/sd_selection.Rd:74: unexpected section header '\author' Warning: /private/tmp/RtmpyfPYlJ/Rbuildef212ab8bef6/BioTIP/man/sd_selection.Rd:77: unexpected END_OF_INPUT ' ' * installing the package to build vignettes * creating vignettes ... OK * checking for LF line-endings in source and make files and shell scripts * checking for empty or unneeded directories * building ‘BioTIP_1.2.0.tar.gz’