Back to Workflows build report for BioC 3.10 |
This page was generated on 2020-04-15 18:30:18 -0400 (Wed, 15 Apr 2020).
Package 11/27 | Hostname | OS / Arch | INSTALL | BUILD | ||||||
ExpressionNormalizationWorkflow 1.12.0 Karthikeyan Murugesan
| malbec1 | Linux (Ubuntu 18.04.4 LTS) / x86_64 | [ OK ] | OK | ![]() |
Package: ExpressionNormalizationWorkflow |
Version: 1.12.0 |
Command: /home/biocbuild/bbs-3.10-bioc/R/bin/R CMD INSTALL ExpressionNormalizationWorkflow |
StartedAt: 2020-04-15 11:00:08 -0400 (Wed, 15 Apr 2020) |
EndedAt: 2020-04-15 11:00:22 -0400 (Wed, 15 Apr 2020) |
EllapsedTime: 13.9 seconds |
RetCode: 0 |
Status: OK |
############################################################################## ############################################################################## ### ### Running command: ### ### /home/biocbuild/bbs-3.10-bioc/R/bin/R CMD INSTALL ExpressionNormalizationWorkflow ### ############################################################################## ############################################################################## * installing to library ‘/home/biocbuild/bbs-3.10-bioc/R/library’ * installing *source* package ‘ExpressionNormalizationWorkflow’ ... ** using staged installation ** R ** inst ** byte-compile and prepare package for lazy loading Warning: replacing previous import ‘Biobase::anyMissing’ by ‘matrixStats::anyMissing’ when loading ‘ExpressionNormalizationWorkflow’ Warning: replacing previous import ‘Biobase::rowMedians’ by ‘matrixStats::rowMedians’ when loading ‘ExpressionNormalizationWorkflow’ ** help Warning: /home/biocbuild/bbs-3.10-workflows/meat/ExpressionNormalizationWorkflow/man/ExpressionNormalizationWorkflow-package.Rd:29: All text must be in a section Warning: /home/biocbuild/bbs-3.10-workflows/meat/ExpressionNormalizationWorkflow/man/ExpressionNormalizationWorkflow-package.Rd:30: All text must be in a section *** installing help indices ** building package indices ** installing vignettes ** testing if installed package can be loaded from temporary location Warning: replacing previous import ‘Biobase::anyMissing’ by ‘matrixStats::anyMissing’ when loading ‘ExpressionNormalizationWorkflow’ Warning: replacing previous import ‘Biobase::rowMedians’ by ‘matrixStats::rowMedians’ when loading ‘ExpressionNormalizationWorkflow’ ** testing if installed package can be loaded from final location Warning: replacing previous import ‘Biobase::anyMissing’ by ‘matrixStats::anyMissing’ when loading ‘ExpressionNormalizationWorkflow’ Warning: replacing previous import ‘Biobase::rowMedians’ by ‘matrixStats::rowMedians’ when loading ‘ExpressionNormalizationWorkflow’ ** testing if installed package keeps a record of temporary installation path * DONE (ExpressionNormalizationWorkflow)