This page was generated on 2020-04-15 18:30:18 -0400 (Wed, 15 Apr 2020).
malbec1 |
Linux (Ubuntu 18.04.4 LTS) / x86_64 | | | |
|
annotation 1.10.0 | Bioconductor Package Maintainer | OK | ERROR | |
arrays 1.12.0 | Bioconductor Package Maintainer | OK | OK | ![UNNEEDED, same version exists in internal repository UNNEEDED, same version exists in internal repository](120px-Blue_Light_Icon.svg.png) |
BgeeCall 1.2.1 | Julien Wollbrett | OK | OK | ![UNNEEDED, same version exists in internal repository UNNEEDED, same version exists in internal repository](120px-Blue_Light_Icon.svg.png) |
BiocMetaWorkflow 1.8.1 | Mike Smith | OK | OK | ![UNNEEDED, same version exists in internal repository UNNEEDED, same version exists in internal repository](120px-Blue_Light_Icon.svg.png) |
CAGEWorkflow 1.2.0 | Malte Thodberg | OK | OK | ![UNNEEDED, same version exists in internal repository UNNEEDED, same version exists in internal repository](120px-Blue_Light_Icon.svg.png) |
chipseqDB 1.10.0 | Aaron Lun | OK | OK | ![UNNEEDED, same version exists in internal repository UNNEEDED, same version exists in internal repository](120px-Blue_Light_Icon.svg.png) |
csawUsersGuide 1.2.0 | Aaron Lun | OK | OK | ![UNNEEDED, same version exists in internal repository UNNEEDED, same version exists in internal repository](120px-Blue_Light_Icon.svg.png) |
cytofWorkflow 1.10.2 | Malgorzata Nowicka | OK | OK | ![UNNEEDED, same version exists in internal repository UNNEEDED, same version exists in internal repository](120px-Blue_Light_Icon.svg.png) |
EGSEA123 1.10.0 | Matthew Ritchie | OK | OK | ![UNNEEDED, same version exists in internal repository UNNEEDED, same version exists in internal repository](120px-Blue_Light_Icon.svg.png) |
eQTL 1.10.0 | Vincent Carey | OK | OK | ![UNNEEDED, same version exists in internal repository UNNEEDED, same version exists in internal repository](120px-Blue_Light_Icon.svg.png) |
ExpressionNormalizationWorkflow 1.12.0 | Karthikeyan Murugesan | OK | OK | ![UNNEEDED, same version exists in internal repository UNNEEDED, same version exists in internal repository](120px-Blue_Light_Icon.svg.png) |
generegulation 1.10.0 | Bioconductor Package Maintainer | OK | OK | ![UNNEEDED, same version exists in internal repository UNNEEDED, same version exists in internal repository](120px-Blue_Light_Icon.svg.png) |
highthroughputassays 1.10.0 | Bioconductor Package Maintainer | OK | OK | ![UNNEEDED, same version exists in internal repository UNNEEDED, same version exists in internal repository](120px-Blue_Light_Icon.svg.png) |
liftOver 1.10.0 | Bioconductor Package Maintainer | OK | OK | ![UNNEEDED, same version exists in internal repository UNNEEDED, same version exists in internal repository](120px-Blue_Light_Icon.svg.png) |
maEndToEnd 2.6.1 | Stefanie Reisenauer | OK | OK | ![UNNEEDED, same version exists in internal repository UNNEEDED, same version exists in internal repository](120px-Blue_Light_Icon.svg.png) |
methylationArrayAnalysis 1.10.0 | Jovana Maksimovic | OK | OK | ![UNNEEDED, same version exists in internal repository UNNEEDED, same version exists in internal repository](120px-Blue_Light_Icon.svg.png) |
proteomics 1.10.0 | Laurent Gatto | OK | OK | ![UNNEEDED, same version exists in internal repository UNNEEDED, same version exists in internal repository](120px-Blue_Light_Icon.svg.png) |
recountWorkflow 1.10.0 | Leonardo Collado-Torres | OK | OK | ![UNNEEDED, same version exists in internal repository UNNEEDED, same version exists in internal repository](120px-Blue_Light_Icon.svg.png) |
RNAseq123 1.10.0 | Matthew Ritchie | OK | OK | ![UNNEEDED, same version exists in internal repository UNNEEDED, same version exists in internal repository](120px-Blue_Light_Icon.svg.png) |
rnaseqDTU 1.6.0 | Michael Love | OK | OK | ![UNNEEDED, same version exists in internal repository UNNEEDED, same version exists in internal repository](120px-Blue_Light_Icon.svg.png) |
rnaseqGene 1.10.0 | Michael Love | OK | OK | ![UNNEEDED, same version exists in internal repository UNNEEDED, same version exists in internal repository](120px-Blue_Light_Icon.svg.png) |
RnaSeqGeneEdgeRQL 1.10.0 | Yunshun Chen | OK | OK | ![UNNEEDED, same version exists in internal repository UNNEEDED, same version exists in internal repository](120px-Blue_Light_Icon.svg.png) |
sequencing 1.10.0 | Bioconductor Package Maintainer | OK | OK | ![UNNEEDED, same version exists in internal repository UNNEEDED, same version exists in internal repository](120px-Blue_Light_Icon.svg.png) |
simpleSingleCell 1.10.1 | Aaron Lun | OK | OK | ![UNNEEDED, same version exists in internal repository UNNEEDED, same version exists in internal repository](120px-Blue_Light_Icon.svg.png) |
SingscoreAMLMutations 1.2.0 | Dharmesh D. Bhuva | OK | OK | ![UNNEEDED, same version exists in internal repository UNNEEDED, same version exists in internal repository](120px-Blue_Light_Icon.svg.png) |
TCGAWorkflow 1.10.1 | Tiago Chedraoui Silva | OK | OK | ![UNNEEDED, same version exists in internal repository UNNEEDED, same version exists in internal repository](120px-Blue_Light_Icon.svg.png) |
variants 1.10.0 | Bioconductor Package Maintainer | OK | OK | ![UNNEEDED, same version exists in internal repository UNNEEDED, same version exists in internal repository](120px-Blue_Light_Icon.svg.png) |