| Back to Build/check report for BioC 3.10 experimental data |
This page was generated on 2020-04-14 17:46:14 -0400 (Tue, 14 Apr 2020).
| Package 114/384 | Hostname | OS / Arch | INSTALL | BUILD | CHECK | ||||||
| facsDorit 1.28.0 Florian Hahne
| malbec1 | Linux (Ubuntu 18.04.4 LTS) / x86_64 | OK | OK | [ OK ] |
| Package: facsDorit |
| Version: 1.28.0 |
| Command: /home/biocbuild/bbs-3.10-bioc/R/bin/R CMD check --install=check:facsDorit.install-out.txt --library=/home/biocbuild/bbs-3.10-bioc/R/library --no-vignettes --timings facsDorit_1.28.0.tar.gz |
| StartedAt: 2020-04-14 12:53:44 -0400 (Tue, 14 Apr 2020) |
| EndedAt: 2020-04-14 12:54:07 -0400 (Tue, 14 Apr 2020) |
| EllapsedTime: 22.6 seconds |
| RetCode: 0 |
| Status: OK |
| CheckDir: facsDorit.Rcheck |
| Warnings: 0 |
##############################################################################
##############################################################################
###
### Running command:
###
### /home/biocbuild/bbs-3.10-bioc/R/bin/R CMD check --install=check:facsDorit.install-out.txt --library=/home/biocbuild/bbs-3.10-bioc/R/library --no-vignettes --timings facsDorit_1.28.0.tar.gz
###
##############################################################################
##############################################################################
* using log directory ‘/home/biocbuild/bbs-3.10-data-experiment/meat/facsDorit.Rcheck’
* using R version 3.6.3 (2020-02-29)
* using platform: x86_64-pc-linux-gnu (64-bit)
* using session charset: UTF-8
* using option ‘--no-vignettes’
* checking for file ‘facsDorit/DESCRIPTION’ ... OK
* this is package ‘facsDorit’ version ‘1.28.0’
* checking package namespace information ... OK
* checking package dependencies ... OK
* checking if this is a source package ... OK
* checking if there is a namespace ... OK
* checking for hidden files and directories ... OK
* checking for portable file names ... OK
* checking for sufficient/correct file permissions ... OK
* checking whether package ‘facsDorit’ can be installed ... OK
* checking installed package size ... NOTE
installed size is 32.4Mb
sub-directories of 1Mb or more:
extdata 32.3Mb
* checking package directory ... OK
* checking DESCRIPTION meta-information ... OK
* checking top-level files ... OK
* checking for left-over files ... OK
* checking index information ... OK
* checking package subdirectories ... OK
* checking R files for non-ASCII characters ... OK
* checking R files for syntax errors ... OK
* checking whether the package can be loaded ... OK
* checking whether the package can be loaded with stated dependencies ... OK
* checking whether the package can be unloaded cleanly ... OK
* checking whether the namespace can be loaded with stated dependencies ... OK
* checking whether the namespace can be unloaded cleanly ... OK
* checking dependencies in R code ... NOTE
Package in Depends field not imported from: ‘prada’
These packages need to be imported from (in the NAMESPACE file)
for when this namespace is loaded but not attached.
* checking S3 generic/method consistency ... OK
* checking replacement functions ... OK
* checking foreign function calls ... OK
* checking R code for possible problems ... OK
* checking Rd files ... NOTE
prepare_Rd: facsDorit.Rd:22: Dropping empty section \keyword
prepare_Rd: facsDorit.Rd:17-18: Dropping empty section \references
* checking Rd metadata ... OK
* checking Rd cross-references ... OK
* checking for missing documentation entries ... OK
* checking for code/documentation mismatches ... OK
* checking Rd \usage sections ... OK
* checking Rd contents ... OK
* checking for unstated dependencies in examples ... OK
* checking examples ... OK
* checking PDF version of manual ... OK
* DONE
Status: 3 NOTEs
See
‘/home/biocbuild/bbs-3.10-data-experiment/meat/facsDorit.Rcheck/00check.log’
for details.
facsDorit.Rcheck/00install.out
############################################################################## ############################################################################## ### ### Running command: ### ### /home/biocbuild/bbs-3.10-bioc/R/bin/R CMD INSTALL facsDorit ### ############################################################################## ############################################################################## * installing to library ‘/home/biocbuild/bbs-3.10-bioc/R/library’ * installing *source* package ‘facsDorit’ ... ** using staged installation ** R ** inst ** byte-compile and prepare package for lazy loading ** help *** installing help indices ** building package indices ** testing if installed package can be loaded from temporary location ** testing if installed package can be loaded from final location ** testing if installed package keeps a record of temporary installation path * DONE (facsDorit)
facsDorit.Rcheck/facsDorit-Ex.timings
| name | user | system | elapsed | |
| facsDorit | 0.008 | 0.004 | 0.188 | |