| Back to Build/check report for BioC 3.10 experimental data |
This page was generated on 2020-04-14 17:46:14 -0400 (Tue, 14 Apr 2020).
| Package 114/384 | Hostname | OS / Arch | INSTALL | BUILD | CHECK | ||||||
| facsDorit 1.28.0 Florian Hahne
| malbec1 | Linux (Ubuntu 18.04.4 LTS) / x86_64 | OK | [ OK ] | OK |
| Package: facsDorit |
| Version: 1.28.0 |
| Command: /home/biocbuild/bbs-3.10-bioc/R/bin/R CMD build --keep-empty-dirs --no-resave-data facsDorit |
| StartedAt: 2020-04-14 11:26:52 -0400 (Tue, 14 Apr 2020) |
| EndedAt: 2020-04-14 11:26:59 -0400 (Tue, 14 Apr 2020) |
| EllapsedTime: 6.6 seconds |
| RetCode: 0 |
| Status: OK |
| PackageFile: facsDorit_1.28.0.tar.gz |
| PackageFileSize: 21.58 MiB |
############################################################################## ############################################################################## ### ### Running command: ### ### /home/biocbuild/bbs-3.10-bioc/R/bin/R CMD build --keep-empty-dirs --no-resave-data facsDorit ### ############################################################################## ############################################################################## * checking for file ‘facsDorit/DESCRIPTION’ ... OK * preparing ‘facsDorit’: * checking DESCRIPTION meta-information ... OK * checking for LF line-endings in source and make files and shell scripts * checking for empty or unneeded directories * building ‘facsDorit_1.28.0.tar.gz’