| Back to Build/check report for BioC 3.10 experimental data |
This page was generated on 2020-04-14 17:46:14 -0400 (Tue, 14 Apr 2020).
| Package 4/384 | Hostname | OS / Arch | INSTALL | BUILD | CHECK | ||||||
| affydata 1.34.0 Harris Jaffee
| malbec1 | Linux (Ubuntu 18.04.4 LTS) / x86_64 | [ OK ] | OK | WARNINGS |
| Package: affydata |
| Version: 1.34.0 |
| Command: /home/biocbuild/bbs-3.10-bioc/R/bin/R CMD INSTALL affydata |
| StartedAt: 2020-04-14 11:10:44 -0400 (Tue, 14 Apr 2020) |
| EndedAt: 2020-04-14 11:10:47 -0400 (Tue, 14 Apr 2020) |
| EllapsedTime: 3.5 seconds |
| RetCode: 0 |
| Status: OK |
##############################################################################
##############################################################################
###
### Running command:
###
### /home/biocbuild/bbs-3.10-bioc/R/bin/R CMD INSTALL affydata
###
##############################################################################
##############################################################################
* installing to library ‘/home/biocbuild/bbs-3.10-bioc/R/library’
* installing *source* package ‘affydata’ ...
** using staged installation
** R
** data
** inst
** byte-compile and prepare package for lazy loading
** help
*** installing help indices
** building package indices
** installing vignettes
** testing if installed package can be loaded from temporary location
Package LibPath
[1,] "affydata" "/home/biocbuild/bbs-3.10-bioc/R/library/00LOCK-affydata/00new"
Item Title
[1,] "Dilution" "AffyBatch instance Dilution"
** testing if installed package can be loaded from final location
Package LibPath Item
[1,] "affydata" "/home/biocbuild/bbs-3.10-bioc/R/library" "Dilution"
Title
[1,] "AffyBatch instance Dilution"
** testing if installed package keeps a record of temporary installation path
* DONE (affydata)