Back to Build/check report for BioC 3.10 experimental data |
This page was generated on 2020-04-14 17:46:14 -0400 (Tue, 14 Apr 2020).
Package 4/384 | Hostname | OS / Arch | INSTALL | BUILD | CHECK | ||||||
affydata 1.34.0 Harris Jaffee
| malbec1 | Linux (Ubuntu 18.04.4 LTS) / x86_64 | OK | [ OK ] | WARNINGS |
Package: affydata |
Version: 1.34.0 |
Command: /home/biocbuild/bbs-3.10-bioc/R/bin/R CMD build --keep-empty-dirs --no-resave-data affydata |
StartedAt: 2020-04-14 11:26:31 -0400 (Tue, 14 Apr 2020) |
EndedAt: 2020-04-14 11:26:57 -0400 (Tue, 14 Apr 2020) |
EllapsedTime: 25.7 seconds |
RetCode: 0 |
Status: OK |
PackageFile: affydata_1.34.0.tar.gz |
PackageFileSize: 12.15 MiB |
############################################################################## ############################################################################## ### ### Running command: ### ### /home/biocbuild/bbs-3.10-bioc/R/bin/R CMD build --keep-empty-dirs --no-resave-data affydata ### ############################################################################## ############################################################################## * checking for file ‘affydata/DESCRIPTION’ ... OK * preparing ‘affydata’: * checking DESCRIPTION meta-information ... OK * installing the package to build vignettes * creating vignettes ... OK * checking for LF line-endings in source and make files and shell scripts * checking for empty or unneeded directories * looking to see if a ‘data/datalist’ file should be added * building ‘affydata_1.34.0.tar.gz’