| Back to Multiple platform build/check report for BioC 3.10 |
|
This page was generated on 2020-04-15 12:33:26 -0400 (Wed, 15 Apr 2020).
| Package 1534/1823 | Hostname | OS / Arch | INSTALL | BUILD | CHECK | BUILD BIN | ||||||
| schex 1.0.55 Saskia Freytag
| malbec1 | Linux (Ubuntu 18.04.4 LTS) / x86_64 | OK | OK | OK | |||||||
| tokay1 | Windows Server 2012 R2 Standard / x64 | [ OK ] | OK | OK | OK | |||||||
| merida1 | OS X 10.11.6 El Capitan / x86_64 | OK | OK | OK | OK |
| Package: schex |
| Version: 1.0.55 |
| Command: C:\cygwin\bin\curl.exe -O https://malbec1.bioconductor.org/BBS/3.10/bioc/src/contrib/schex_1.0.55.tar.gz && rm -rf schex.buildbin-libdir && mkdir schex.buildbin-libdir && C:\Users\biocbuild\bbs-3.10-bioc\R\bin\R.exe CMD INSTALL --merge-multiarch --build --library=schex.buildbin-libdir schex_1.0.55.tar.gz && C:\Users\biocbuild\bbs-3.10-bioc\R\bin\R.exe CMD INSTALL schex_1.0.55.zip && rm schex_1.0.55.tar.gz schex_1.0.55.zip |
| StartedAt: 2020-04-14 20:13:20 -0400 (Tue, 14 Apr 2020) |
| EndedAt: 2020-04-14 20:15:15 -0400 (Tue, 14 Apr 2020) |
| EllapsedTime: 115.2 seconds |
| RetCode: 0 |
| Status: OK |
##############################################################################
##############################################################################
###
### Running command:
###
### C:\cygwin\bin\curl.exe -O https://malbec1.bioconductor.org/BBS/3.10/bioc/src/contrib/schex_1.0.55.tar.gz && rm -rf schex.buildbin-libdir && mkdir schex.buildbin-libdir && C:\Users\biocbuild\bbs-3.10-bioc\R\bin\R.exe CMD INSTALL --merge-multiarch --build --library=schex.buildbin-libdir schex_1.0.55.tar.gz && C:\Users\biocbuild\bbs-3.10-bioc\R\bin\R.exe CMD INSTALL schex_1.0.55.zip && rm schex_1.0.55.tar.gz schex_1.0.55.zip
###
##############################################################################
##############################################################################
% Total % Received % Xferd Average Speed Time Time Time Current
Dload Upload Total Spent Left Speed
0 0 0 0 0 0 0 0 --:--:-- --:--:-- --:--:-- 0
1 1481k 1 16384 0 0 19607 0 0:01:17 --:--:-- 0:01:17 19668
100 1481k 100 1481k 0 0 1519k 0 --:--:-- --:--:-- --:--:-- 1523k
install for i386
* installing *source* package 'schex' ...
** using staged installation
** R
** byte-compile and prepare package for lazy loading
** help
*** installing help indices
converting help for package 'schex'
finding HTML links ... done
make_hexbin html
make_hexbin_label html
plot_hexbin_density html
finding level-2 HTML links ... done
plot_hexbin_feature html
plot_hexbin_gene html
plot_hexbin_interact html
plot_hexbin_meta html
schex html
*** copying figures
** building package indices
** installing vignettes
** testing if installed package can be loaded from temporary location
** testing if installed package can be loaded from final location
** testing if installed package keeps a record of temporary installation path
install for x64
* installing *source* package 'schex' ...
** testing if installed package can be loaded
* MD5 sums
packaged installation of 'schex' as schex_1.0.55.zip
* DONE (schex)
* installing to library 'C:/Users/biocbuild/bbs-3.10-bioc/R/library'
package 'schex' successfully unpacked and MD5 sums checked