| Back to Multiple platform build/check report for BioC 3.10 |
|
This page was generated on 2020-04-15 12:33:27 -0400 (Wed, 15 Apr 2020).
| Package 1534/1823 | Hostname | OS / Arch | INSTALL | BUILD | CHECK | BUILD BIN | ||||||
| schex 1.0.55 Saskia Freytag
| malbec1 | Linux (Ubuntu 18.04.4 LTS) / x86_64 | OK | OK | OK | |||||||
| tokay1 | Windows Server 2012 R2 Standard / x64 | OK | OK | OK | [ OK ] | |||||||
| merida1 | OS X 10.11.6 El Capitan / x86_64 | OK | OK | OK | OK |
| Package: schex |
| Version: 1.0.55 |
| Command: rm -rf schex.buildbin-libdir && mkdir schex.buildbin-libdir && C:\Users\biocbuild\bbs-3.10-bioc\R\bin\R.exe CMD INSTALL --merge-multiarch --build --library=schex.buildbin-libdir schex_1.0.55.tar.gz |
| StartedAt: 2020-04-15 09:38:26 -0400 (Wed, 15 Apr 2020) |
| EndedAt: 2020-04-15 09:39:19 -0400 (Wed, 15 Apr 2020) |
| EllapsedTime: 52.6 seconds |
| RetCode: 0 |
| Status: OK |
| PackageFile: schex_1.0.55.zip |
| PackageFileSize: 445.9 KiB |
##############################################################################
##############################################################################
###
### Running command:
###
### rm -rf schex.buildbin-libdir && mkdir schex.buildbin-libdir && C:\Users\biocbuild\bbs-3.10-bioc\R\bin\R.exe CMD INSTALL --merge-multiarch --build --library=schex.buildbin-libdir schex_1.0.55.tar.gz
###
##############################################################################
##############################################################################
install for i386
* installing *source* package 'schex' ...
** using staged installation
** R
** inst
** byte-compile and prepare package for lazy loading
** help
*** installing help indices
converting help for package 'schex'
finding HTML links ... done
make_hexbin html
make_hexbin_label html
plot_hexbin_density html
finding level-2 HTML links ... done
plot_hexbin_feature html
plot_hexbin_gene html
plot_hexbin_interact html
plot_hexbin_meta html
schex html
*** copying figures
** building package indices
** installing vignettes
** testing if installed package can be loaded from temporary location
** testing if installed package can be loaded from final location
** testing if installed package keeps a record of temporary installation path
install for x64
* installing *source* package 'schex' ...
** testing if installed package can be loaded
* MD5 sums
packaged installation of 'schex' as schex_1.0.55.zip
* DONE (schex)