| Back to Multiple platform build/check report for BioC 3.10 | 
  | 
This page was generated on 2020-04-15 12:32:52 -0400 (Wed, 15 Apr 2020).
| Package 1307/1823 | Hostname | OS / Arch | INSTALL | BUILD | CHECK | BUILD BIN | ||||||
| proDA 1.0.0 Constantin Ahlmann-Eltze 
  | malbec1 | Linux (Ubuntu 18.04.4 LTS) / x86_64 | OK | OK | OK | |||||||
| tokay1 | Windows Server 2012 R2 Standard / x64 | [ OK ] | OK | OK | OK | |||||||
| merida1 | OS X 10.11.6 El Capitan / x86_64 | OK | OK | OK | OK | 
| Package: proDA | 
| Version: 1.0.0 | 
| Command: C:\cygwin\bin\curl.exe -O https://malbec1.bioconductor.org/BBS/3.10/bioc/src/contrib/proDA_1.0.0.tar.gz && rm -rf proDA.buildbin-libdir && mkdir proDA.buildbin-libdir && C:\Users\biocbuild\bbs-3.10-bioc\R\bin\R.exe CMD INSTALL --merge-multiarch --build --library=proDA.buildbin-libdir proDA_1.0.0.tar.gz && C:\Users\biocbuild\bbs-3.10-bioc\R\bin\R.exe CMD INSTALL proDA_1.0.0.zip && rm proDA_1.0.0.tar.gz proDA_1.0.0.zip | 
| StartedAt: 2020-04-14 19:47:40 -0400 (Tue, 14 Apr 2020) | 
| EndedAt: 2020-04-14 19:48:24 -0400 (Tue, 14 Apr 2020) | 
| EllapsedTime: 43.5 seconds | 
| RetCode: 0 | 
| Status: OK | 
##############################################################################
##############################################################################
###
### Running command:
###
###   C:\cygwin\bin\curl.exe -O https://malbec1.bioconductor.org/BBS/3.10/bioc/src/contrib/proDA_1.0.0.tar.gz && rm -rf proDA.buildbin-libdir && mkdir proDA.buildbin-libdir && C:\Users\biocbuild\bbs-3.10-bioc\R\bin\R.exe CMD INSTALL --merge-multiarch --build --library=proDA.buildbin-libdir proDA_1.0.0.tar.gz && C:\Users\biocbuild\bbs-3.10-bioc\R\bin\R.exe CMD INSTALL proDA_1.0.0.zip && rm proDA_1.0.0.tar.gz proDA_1.0.0.zip
###
##############################################################################
##############################################################################
  % Total    % Received % Xferd  Average Speed   Time    Time     Time  Current
                                 Dload  Upload   Total   Spent    Left  Speed
  0     0    0     0    0     0      0      0 --:--:-- --:--:-- --:--:--     0
  0 1310k    0     0    0     0      0      0 --:--:-- --:--:-- --:--:--     0
100 1310k  100 1310k    0     0  2667k      0 --:--:-- --:--:-- --:--:-- 2680k
install for i386
* installing *source* package 'proDA' ...
** using staged installation
** R
** inst
** byte-compile and prepare package for lazy loading
** help
*** installing help indices
  converting help for package 'proDA'
    finding HTML links ... done
    abundances                              html  
    accessor_methods                        html  
    as_replicate                            html  
    cash-proDAFit-method                    html  
    coefficient_variance_matrices           html  
    coefficients                            html  
    convergence                             html  
    dist_approx                             html  
    dist_approx_impl                        html  
    distance_sq                             html  
    feature_parameters                      html  
    generate_synthetic_data                 html  
    grapes-zero_dom_mat_mult-grapes         html  
    hyper_parameters                        html  
    invprobit                               html  
    invprobit_fast                          html  
    median_normalization                    html  
    mply_dbl                                html  
    pd_lm                                   html  
    pd_lm.fit                               html  
    pd_row_t_test                           html  
    predict-proDAFit-method                 html  
    proDA                                   html  
    proDAFit-class                          html  
    proDA_package                           html  
    reference_level                         html  
    result_names                            html  
    test_diff                               html  
** building package indices
** installing vignettes
** testing if installed package can be loaded from temporary location
** testing if installed package can be loaded from final location
** testing if installed package keeps a record of temporary installation path
install for x64
* installing *source* package 'proDA' ...
** testing if installed package can be loaded
* MD5 sums
packaged installation of 'proDA' as proDA_1.0.0.zip
* DONE (proDA)
* installing to library 'C:/Users/biocbuild/bbs-3.10-bioc/R/library'
package 'proDA' successfully unpacked and MD5 sums checked