| Back to Multiple platform build/check report for BioC 3.10 |
|
This page was generated on 2020-04-15 12:32:53 -0400 (Wed, 15 Apr 2020).
| Package 1307/1823 | Hostname | OS / Arch | INSTALL | BUILD | CHECK | BUILD BIN | ||||||
| proDA 1.0.0 Constantin Ahlmann-Eltze
| malbec1 | Linux (Ubuntu 18.04.4 LTS) / x86_64 | OK | OK | OK | |||||||
| tokay1 | Windows Server 2012 R2 Standard / x64 | OK | OK | OK | [ OK ] | |||||||
| merida1 | OS X 10.11.6 El Capitan / x86_64 | OK | OK | OK | OK |
| Package: proDA |
| Version: 1.0.0 |
| Command: rm -rf proDA.buildbin-libdir && mkdir proDA.buildbin-libdir && C:\Users\biocbuild\bbs-3.10-bioc\R\bin\R.exe CMD INSTALL --merge-multiarch --build --library=proDA.buildbin-libdir proDA_1.0.0.tar.gz |
| StartedAt: 2020-04-15 09:25:25 -0400 (Wed, 15 Apr 2020) |
| EndedAt: 2020-04-15 09:26:12 -0400 (Wed, 15 Apr 2020) |
| EllapsedTime: 46.0 seconds |
| RetCode: 0 |
| Status: OK |
| PackageFile: proDA_1.0.0.zip |
| PackageFileSize: 1.033 MiB |
##############################################################################
##############################################################################
###
### Running command:
###
### rm -rf proDA.buildbin-libdir && mkdir proDA.buildbin-libdir && C:\Users\biocbuild\bbs-3.10-bioc\R\bin\R.exe CMD INSTALL --merge-multiarch --build --library=proDA.buildbin-libdir proDA_1.0.0.tar.gz
###
##############################################################################
##############################################################################
install for i386
* installing *source* package 'proDA' ...
** using staged installation
** R
** inst
** byte-compile and prepare package for lazy loading
** help
*** installing help indices
converting help for package 'proDA'
finding HTML links ... done
abundances html
accessor_methods html
as_replicate html
cash-proDAFit-method html
coefficient_variance_matrices html
coefficients html
convergence html
dist_approx html
dist_approx_impl html
distance_sq html
feature_parameters html
generate_synthetic_data html
grapes-zero_dom_mat_mult-grapes html
hyper_parameters html
invprobit html
invprobit_fast html
median_normalization html
mply_dbl html
pd_lm html
pd_lm.fit html
pd_row_t_test html
predict-proDAFit-method html
proDA html
proDAFit-class html
proDA_package html
reference_level html
result_names html
test_diff html
** building package indices
** installing vignettes
** testing if installed package can be loaded from temporary location
** testing if installed package can be loaded from final location
** testing if installed package keeps a record of temporary installation path
install for x64
* installing *source* package 'proDA' ...
** testing if installed package can be loaded
* MD5 sums
packaged installation of 'proDA' as proDA_1.0.0.zip
* DONE (proDA)