| Back to Multiple platform build/check report for BioC 3.10 |
|
This page was generated on 2020-04-15 12:20:03 -0400 (Wed, 15 Apr 2020).
| Package 1164/1823 | Hostname | OS / Arch | INSTALL | BUILD | CHECK | BUILD BIN | ||||||
| nucleR 2.18.4 Diego Gallego
| malbec1 | Linux (Ubuntu 18.04.4 LTS) / x86_64 | OK | OK | WARNINGS | |||||||
| tokay1 | Windows Server 2012 R2 Standard / x64 | OK | OK | WARNINGS | [ OK ] | |||||||
| merida1 | OS X 10.11.6 El Capitan / x86_64 | OK | OK | WARNINGS | OK |
| Package: nucleR |
| Version: 2.18.4 |
| Command: rm -rf nucleR.buildbin-libdir && mkdir nucleR.buildbin-libdir && C:\Users\biocbuild\bbs-3.10-bioc\R\bin\R.exe CMD INSTALL --merge-multiarch --build --library=nucleR.buildbin-libdir nucleR_2.18.4.tar.gz |
| StartedAt: 2020-04-15 09:17:13 -0400 (Wed, 15 Apr 2020) |
| EndedAt: 2020-04-15 09:18:13 -0400 (Wed, 15 Apr 2020) |
| EllapsedTime: 59.5 seconds |
| RetCode: 0 |
| Status: OK |
| PackageFile: nucleR_2.18.4.zip |
| PackageFileSize: 1.012 MiB |
##############################################################################
##############################################################################
###
### Running command:
###
### rm -rf nucleR.buildbin-libdir && mkdir nucleR.buildbin-libdir && C:\Users\biocbuild\bbs-3.10-bioc\R\bin\R.exe CMD INSTALL --merge-multiarch --build --library=nucleR.buildbin-libdir nucleR_2.18.4.tar.gz
###
##############################################################################
##############################################################################
install for i386
* installing *source* package 'nucleR' ...
** using staged installation
** R
** data
** inst
** byte-compile and prepare package for lazy loading
** help
*** installing help indices
converting help for package 'nucleR'
finding HTML links ... done
controlCorrection html
coverage.rpm html
Rd warning: C:/Users/biocbuild/bbs-3.10-bioc/tmpdir/Rtmpo76KuL/R.INSTALL2f006b363ad/nucleR/man/coverage.rpm.Rd:35: file link 'GRanges' in package 'GenomicRanges' does not exist and so has been treated as a topic
Rd warning: C:/Users/biocbuild/bbs-3.10-bioc/tmpdir/Rtmpo76KuL/R.INSTALL2f006b363ad/nucleR/man/coverage.rpm.Rd:36: file link 'IRanges' in package 'IRanges' does not exist and so has been treated as a topic
Rd warning: C:/Users/biocbuild/bbs-3.10-bioc/tmpdir/Rtmpo76KuL/R.INSTALL2f006b363ad/nucleR/man/coverage.rpm.Rd:23: file link 'GenomicRanges' in package 'GenomicRanges' does not exist and so has been treated as a topic
Rd warning: C:/Users/biocbuild/bbs-3.10-bioc/tmpdir/Rtmpo76KuL/R.INSTALL2f006b363ad/nucleR/man/coverage.rpm.Rd:23: file link 'IRanges' in package 'IRanges' does not exist and so has been treated as a topic
Rd warning: C:/Users/biocbuild/bbs-3.10-bioc/tmpdir/Rtmpo76KuL/R.INSTALL2f006b363ad/nucleR/man/coverage.rpm.Rd:52: file link 'coverage' in package 'IRanges' does not exist and so has been treated as a topic
export.bed html
Rd warning: C:/Users/biocbuild/bbs-3.10-bioc/tmpdir/Rtmpo76KuL/R.INSTALL2f006b363ad/nucleR/man/export.bed.Rd:28: file link 'IRanges' in package 'IRanges' does not exist and so has been treated as a topic
Rd warning: C:/Users/biocbuild/bbs-3.10-bioc/tmpdir/Rtmpo76KuL/R.INSTALL2f006b363ad/nucleR/man/export.bed.Rd:29: file link 'IRangesList' in package 'IRanges' does not exist and so has been treated as a topic
Rd warning: C:/Users/biocbuild/bbs-3.10-bioc/tmpdir/Rtmpo76KuL/R.INSTALL2f006b363ad/nucleR/man/export.bed.Rd:29: file link 'GRanges' in package 'GenomicRanges' does not exist and so has been treated as a topic
export.wig html
filterFFT html
fragmentLenDetect html
Rd warning: C:/Users/biocbuild/bbs-3.10-bioc/tmpdir/Rtmpo76KuL/R.INSTALL2f006b363ad/nucleR/man/fragmentLenDetect.Rd:27: file link 'GRanges' in package 'GenomicRanges' does not exist and so has been treated as a topic
mergeCalls html
Rd warning: C:/Users/biocbuild/bbs-3.10-bioc/tmpdir/Rtmpo76KuL/R.INSTALL2f006b363ad/nucleR/man/mergeCalls.Rd:16: file link 'GRanges' in package 'GenomicRanges' does not exist and so has been treated as a topic
Rd warning: C:/Users/biocbuild/bbs-3.10-bioc/tmpdir/Rtmpo76KuL/R.INSTALL2f006b363ad/nucleR/man/mergeCalls.Rd:28: file link 'GRanges' in package 'GenomicRanges' does not exist and so has been treated as a topic
nucleR-package html
nucleosome_htseq html
nucleosome_tiling html
pcKeepCompDetect html
peakDetection html
peakScoring html
Rd warning: C:/Users/biocbuild/bbs-3.10-bioc/tmpdir/Rtmpo76KuL/R.INSTALL2f006b363ad/nucleR/man/peakScoring.Rd:63: file link 'GRanges' in package 'GenomicRanges' does not exist and so has been treated as a topic
plotPeaks html
Rd warning: C:/Users/biocbuild/bbs-3.10-bioc/tmpdir/Rtmpo76KuL/R.INSTALL2f006b363ad/nucleR/man/plotPeaks.Rd:67: file link 'geom_rect' in package 'ggplot2' does not exist and so has been treated as a topic
processReads html
Rd warning: C:/Users/biocbuild/bbs-3.10-bioc/tmpdir/Rtmpo76KuL/R.INSTALL2f006b363ad/nucleR/man/processReads.Rd:29: file link 'GRanges' in package 'GenomicRanges' does not exist and so has been treated as a topic
Rd warning: C:/Users/biocbuild/bbs-3.10-bioc/tmpdir/Rtmpo76KuL/R.INSTALL2f006b363ad/nucleR/man/processReads.Rd:54: file link 'GRanges' in package 'GenomicRanges' does not exist and so has been treated as a topic
Rd warning: C:/Users/biocbuild/bbs-3.10-bioc/tmpdir/Rtmpo76KuL/R.INSTALL2f006b363ad/nucleR/man/processReads.Rd:44: file link 'GRanges' in package 'GenomicRanges' does not exist and so has been treated as a topic
Rd warning: C:/Users/biocbuild/bbs-3.10-bioc/tmpdir/Rtmpo76KuL/R.INSTALL2f006b363ad/nucleR/man/processReads.Rd:114: file link 'GRanges' in package 'GenomicRanges' does not exist and so has been treated as a topic
processTilingArray html
Rd warning: C:/Users/biocbuild/bbs-3.10-bioc/tmpdir/Rtmpo76KuL/R.INSTALL2f006b363ad/nucleR/man/processTilingArray.Rd:123: file link 'ExpressionSet' in package 'Biobase' does not exist and so has been treated as a topic
readBAM html
Rd warning: C:/Users/biocbuild/bbs-3.10-bioc/tmpdir/Rtmpo76KuL/R.INSTALL2f006b363ad/nucleR/man/readBAM.Rd:16: file link 'GRangesList' in package 'GenomicRanges' does not exist and so has been treated as a topic
readBowtie html
Rd warning: C:/Users/biocbuild/bbs-3.10-bioc/tmpdir/Rtmpo76KuL/R.INSTALL2f006b363ad/nucleR/man/readBowtie.Rd:16: file link 'GRangesList' in package 'GenomicRanges' does not exist and so has been treated as a topic
syntheticNucMap html
** building package indices
** installing vignettes
** testing if installed package can be loaded from temporary location
** testing if installed package can be loaded from final location
** testing if installed package keeps a record of temporary installation path
install for x64
* installing *source* package 'nucleR' ...
** testing if installed package can be loaded
* MD5 sums
packaged installation of 'nucleR' as nucleR_2.18.4.zip
* DONE (nucleR)