| Back to Multiple platform build/check report for BioC 3.10 | 
 | 
This page was generated on 2020-04-15 12:37:07 -0400 (Wed, 15 Apr 2020).
| Package 1164/1823 | Hostname | OS / Arch | INSTALL | BUILD | CHECK | BUILD BIN | ||||||
| nucleR 2.18.4 Diego Gallego 
 | malbec1 | Linux (Ubuntu 18.04.4 LTS) / x86_64 | OK | OK | WARNINGS |  | ||||||
| tokay1 | Windows Server 2012 R2 Standard / x64 | OK | OK | WARNINGS | OK |  | ||||||
| merida1 | OS X 10.11.6 El Capitan / x86_64 | OK | OK | WARNINGS | [ OK ] |  | 
| Package: nucleR | 
| Version: 2.18.4 | 
| Command: rm -rf nucleR.buildbin-libdir && mkdir nucleR.buildbin-libdir && /Users/biocbuild/BBS/utils/build-universal.sh nucleR_2.18.4.tar.gz /Library/Frameworks/R.framework/Versions/Current/Resources/bin/R nucleR.buildbin-libdir | 
| StartedAt: 2020-04-15 08:12:31 -0400 (Wed, 15 Apr 2020) | 
| EndedAt: 2020-04-15 08:13:10 -0400 (Wed, 15 Apr 2020) | 
| EllapsedTime: 39.2 seconds | 
| RetCode: 0 | 
| Status: OK | 
| PackageFile: nucleR_2.18.4.tgz | 
| PackageFileSize: 996.9 KiB | 
############################################################################## ############################################################################## ### ### Running command: ### ### rm -rf nucleR.buildbin-libdir && mkdir nucleR.buildbin-libdir && /Users/biocbuild/BBS/utils/build-universal.sh nucleR_2.18.4.tar.gz /Library/Frameworks/R.framework/Versions/Current/Resources/bin/R nucleR.buildbin-libdir ### ############################################################################## ############################################################################## >>>>>>> >>>>>>> INSTALLATION WITH 'R CMD INSTALL --preclean --no-multiarch --library=nucleR.buildbin-libdir nucleR_2.18.4.tar.gz' >>>>>>> * installing *source* package ‘nucleR’ ... ** using staged installation ** R ** data ** inst ** byte-compile and prepare package for lazy loading ** help *** installing help indices ** building package indices ** installing vignettes ** testing if installed package can be loaded from temporary location ** testing if installed package can be loaded from final location ** testing if installed package keeps a record of temporary installation path * DONE (nucleR)