| Back to Multiple platform build/check report for BioC 3.10 | 
 | 
This page was generated on 2020-04-15 12:19:48 -0400 (Wed, 15 Apr 2020).
| Package 973/1823 | Hostname | OS / Arch | INSTALL | BUILD | CHECK | BUILD BIN | ||||||
| mcaGUI 1.34.0 Wade K. Copeland 
 | malbec1 | Linux (Ubuntu 18.04.4 LTS) / x86_64 | OK | OK | WARNINGS |  | ||||||
| tokay1 | Windows Server 2012 R2 Standard / x64 | [ ERROR ] | OK | ERROR | ERROR | |||||||
| merida1 | OS X 10.11.6 El Capitan / x86_64 | OK | OK | WARNINGS | OK |  | 
| Package: mcaGUI | 
| Version: 1.34.0 | 
| Command: C:\cygwin\bin\curl.exe -O https://malbec1.bioconductor.org/BBS/3.10/bioc/src/contrib/mcaGUI_1.34.0.tar.gz && rm -rf mcaGUI.buildbin-libdir && mkdir mcaGUI.buildbin-libdir && C:\Users\biocbuild\bbs-3.10-bioc\R\bin\R.exe CMD INSTALL --merge-multiarch --build --library=mcaGUI.buildbin-libdir mcaGUI_1.34.0.tar.gz && C:\Users\biocbuild\bbs-3.10-bioc\R\bin\R.exe CMD INSTALL mcaGUI_1.34.0.zip && rm mcaGUI_1.34.0.tar.gz mcaGUI_1.34.0.zip | 
| StartedAt: 2020-04-14 19:45:34 -0400 (Tue, 14 Apr 2020) | 
| EndedAt: 2020-04-14 19:45:48 -0400 (Tue, 14 Apr 2020) | 
| EllapsedTime: 13.6 seconds | 
| RetCode: 1 | 
| Status: ERROR | 
##############################################################################
##############################################################################
###
### Running command:
###
###   C:\cygwin\bin\curl.exe -O https://malbec1.bioconductor.org/BBS/3.10/bioc/src/contrib/mcaGUI_1.34.0.tar.gz && rm -rf mcaGUI.buildbin-libdir && mkdir mcaGUI.buildbin-libdir && C:\Users\biocbuild\bbs-3.10-bioc\R\bin\R.exe CMD INSTALL --merge-multiarch --build --library=mcaGUI.buildbin-libdir mcaGUI_1.34.0.tar.gz && C:\Users\biocbuild\bbs-3.10-bioc\R\bin\R.exe CMD INSTALL mcaGUI_1.34.0.zip && rm mcaGUI_1.34.0.tar.gz mcaGUI_1.34.0.zip
###
##############################################################################
##############################################################################
  % Total    % Received % Xferd  Average Speed   Time    Time     Time  Current
                                 Dload  Upload   Total   Spent    Left  Speed
  0     0    0     0    0     0      0      0 --:--:-- --:--:-- --:--:--     0
100 2212k  100 2212k    0     0  7363k      0 --:--:-- --:--:-- --:--:-- 7476k
install for i386
* installing *source* package 'mcaGUI' ...
** using staged installation
** R
** inst
** byte-compile and prepare package for lazy loading
Error: package 'rgl' is not installed for 'arch = i386'
Execution halted
ERROR: lazy loading failed for package 'mcaGUI'
* removing 'C:/Users/biocbuild/bbs-3.10-bioc/meat/mcaGUI.buildbin-libdir/mcaGUI'