| Back to Multiple platform build/check report for BioC 3.10 | 
 | 
This page was generated on 2020-04-15 12:19:48 -0400 (Wed, 15 Apr 2020).
| Package 973/1823 | Hostname | OS / Arch | INSTALL | BUILD | CHECK | BUILD BIN | ||||||
| mcaGUI 1.34.0 Wade K. Copeland 
 | malbec1 | Linux (Ubuntu 18.04.4 LTS) / x86_64 | OK | OK | WARNINGS |  | ||||||
| tokay1 | Windows Server 2012 R2 Standard / x64 | ERROR | OK | ERROR | [ ERROR ] | |||||||
| merida1 | OS X 10.11.6 El Capitan / x86_64 | OK | OK | WARNINGS | OK |  | 
| Package: mcaGUI | 
| Version: 1.34.0 | 
| Command: rm -rf mcaGUI.buildbin-libdir && mkdir mcaGUI.buildbin-libdir && C:\Users\biocbuild\bbs-3.10-bioc\R\bin\R.exe CMD INSTALL --merge-multiarch --build --library=mcaGUI.buildbin-libdir mcaGUI_1.34.0.tar.gz | 
| StartedAt: 2020-04-15 09:06:24 -0400 (Wed, 15 Apr 2020) | 
| EndedAt: 2020-04-15 09:07:01 -0400 (Wed, 15 Apr 2020) | 
| EllapsedTime: 37.0 seconds | 
| RetCode: 1 | 
| Status: ERROR | 
| PackageFile: None | 
| PackageFileSize: NA | 
############################################################################## ############################################################################## ### ### Running command: ### ### rm -rf mcaGUI.buildbin-libdir && mkdir mcaGUI.buildbin-libdir && C:\Users\biocbuild\bbs-3.10-bioc\R\bin\R.exe CMD INSTALL --merge-multiarch --build --library=mcaGUI.buildbin-libdir mcaGUI_1.34.0.tar.gz ### ############################################################################## ############################################################################## install for i386 * installing *source* package 'mcaGUI' ... ** using staged installation ** R ** inst ** byte-compile and prepare package for lazy loading Error: package 'rgl' is not installed for 'arch = i386' Execution halted ERROR: lazy loading failed for package 'mcaGUI' * removing 'C:/Users/biocbuild/bbs-3.10-bioc/meat/mcaGUI.buildbin-libdir/mcaGUI'