| Back to Multiple platform build/check report for BioC 3.10 |
|
This page was generated on 2020-04-15 12:17:38 -0400 (Wed, 15 Apr 2020).
| Package 916/1823 | Hostname | OS / Arch | INSTALL | BUILD | CHECK | BUILD BIN | ||||||
| logicFS 2.6.2 Holger Schwender
| malbec1 | Linux (Ubuntu 18.04.4 LTS) / x86_64 | OK | OK | OK | |||||||
| tokay1 | Windows Server 2012 R2 Standard / x64 | [ OK ] | OK | OK | OK | |||||||
| merida1 | OS X 10.11.6 El Capitan / x86_64 | OK | OK | OK | OK |
| Package: logicFS |
| Version: 2.6.2 |
| Command: C:\cygwin\bin\curl.exe -O https://malbec1.bioconductor.org/BBS/3.10/bioc/src/contrib/logicFS_2.6.2.tar.gz && rm -rf logicFS.buildbin-libdir && mkdir logicFS.buildbin-libdir && C:\Users\biocbuild\bbs-3.10-bioc\R\bin\R.exe CMD INSTALL --merge-multiarch --build --library=logicFS.buildbin-libdir logicFS_2.6.2.tar.gz && C:\Users\biocbuild\bbs-3.10-bioc\R\bin\R.exe CMD INSTALL logicFS_2.6.2.zip && rm logicFS_2.6.2.tar.gz logicFS_2.6.2.zip |
| StartedAt: 2020-04-14 18:48:46 -0400 (Tue, 14 Apr 2020) |
| EndedAt: 2020-04-14 18:49:18 -0400 (Tue, 14 Apr 2020) |
| EllapsedTime: 32.2 seconds |
| RetCode: 0 |
| Status: OK |
##############################################################################
##############################################################################
###
### Running command:
###
### C:\cygwin\bin\curl.exe -O https://malbec1.bioconductor.org/BBS/3.10/bioc/src/contrib/logicFS_2.6.2.tar.gz && rm -rf logicFS.buildbin-libdir && mkdir logicFS.buildbin-libdir && C:\Users\biocbuild\bbs-3.10-bioc\R\bin\R.exe CMD INSTALL --merge-multiarch --build --library=logicFS.buildbin-libdir logicFS_2.6.2.tar.gz && C:\Users\biocbuild\bbs-3.10-bioc\R\bin\R.exe CMD INSTALL logicFS_2.6.2.zip && rm logicFS_2.6.2.tar.gz logicFS_2.6.2.zip
###
##############################################################################
##############################################################################
% Total % Received % Xferd Average Speed Time Time Time Current
Dload Upload Total Spent Left Speed
0 0 0 0 0 0 0 0 --:--:-- --:--:-- --:--:-- 0
100 196k 100 196k 0 0 5445k 0 --:--:-- --:--:-- --:--:-- 6131k
install for i386
* installing *source* package 'logicFS' ...
** using staged installation
** R
** data
** inst
** byte-compile and prepare package for lazy loading
** help
*** installing help indices
converting help for package 'logicFS'
finding HTML links ... done
data.logicfs html
getMatEval html
logic.bagging html
logic.oob html
logic.pimp html
finding level-2 HTML links ... done
logicFS-internal html
logicFS html
make.snp.dummy html
mlogreg html
plot.logicFS html
plot.predict.survivalFS html
predict.logicBagg html
predict.mlogreg html
print.logicFS html
survivalFS html
vim.approxPval html
vim.chisq html
vim.ebam html
vim.individual html
vim.logicFS html
vim.norm html
vim.permSet html
vim.set html
** building package indices
** installing vignettes
'logicFS.Rnw'
** testing if installed package can be loaded from temporary location
** testing if installed package can be loaded from final location
** testing if installed package keeps a record of temporary installation path
install for x64
* installing *source* package 'logicFS' ...
** testing if installed package can be loaded
* MD5 sums
packaged installation of 'logicFS' as logicFS_2.6.2.zip
* DONE (logicFS)
* installing to library 'C:/Users/biocbuild/bbs-3.10-bioc/R/library'
package 'logicFS' successfully unpacked and MD5 sums checked