| Back to Multiple platform build/check report for BioC 3.10 |
|
This page was generated on 2020-04-15 12:17:38 -0400 (Wed, 15 Apr 2020).
| Package 916/1823 | Hostname | OS / Arch | INSTALL | BUILD | CHECK | BUILD BIN | ||||||
| logicFS 2.6.2 Holger Schwender
| malbec1 | Linux (Ubuntu 18.04.4 LTS) / x86_64 | OK | OK | OK | |||||||
| tokay1 | Windows Server 2012 R2 Standard / x64 | OK | [ OK ] | OK | OK | |||||||
| merida1 | OS X 10.11.6 El Capitan / x86_64 | OK | OK | OK | OK |
| Package: logicFS |
| Version: 2.6.2 |
| Command: chmod a+r logicFS -R && C:\Users\biocbuild\bbs-3.10-bioc\R\bin\R.exe CMD build --keep-empty-dirs --no-resave-data logicFS |
| StartedAt: 2020-04-14 20:53:05 -0400 (Tue, 14 Apr 2020) |
| EndedAt: 2020-04-14 20:53:35 -0400 (Tue, 14 Apr 2020) |
| EllapsedTime: 30.2 seconds |
| RetCode: 0 |
| Status: OK |
| PackageFile: logicFS_2.6.2.tar.gz |
| PackageFileSize: 194.3 KiB |
##############################################################################
##############################################################################
###
### Running command:
###
### chmod a+r logicFS -R && C:\Users\biocbuild\bbs-3.10-bioc\R\bin\R.exe CMD build --keep-empty-dirs --no-resave-data logicFS
###
##############################################################################
##############################################################################
* checking for file 'logicFS/DESCRIPTION' ... OK
* preparing 'logicFS':
* checking DESCRIPTION meta-information ... OK
* installing the package to build vignettes
* creating vignettes ... OK
Warning: 'inst/doc' file
'logicFS.pdf'
ignored as vignettes have been rebuilt.
Run R CMD build with --no-build-vignettes to prevent rebuilding.
* checking for LF line-endings in source and make files and shell scripts
* checking for empty or unneeded directories
* looking to see if a 'data/datalist' file should be added
* building 'logicFS_2.6.2.tar.gz'