| Back to Multiple platform build/check report for BioC 3.10 | 
 | 
This page was generated on 2020-04-15 12:23:22 -0400 (Wed, 15 Apr 2020).
| Package 853/1823 | Hostname | OS / Arch | INSTALL | BUILD | CHECK | BUILD BIN | ||||||
| interactiveDisplayBase 1.24.0 Shawn Balcome 
 | malbec1 | Linux (Ubuntu 18.04.4 LTS) / x86_64 | OK | OK | WARNINGS |  | ||||||
| tokay1 | Windows Server 2012 R2 Standard / x64 | [ OK ] | OK | WARNINGS | OK |  | ||||||
| merida1 | OS X 10.11.6 El Capitan / x86_64 | OK | OK | WARNINGS | OK |  | 
| Package: interactiveDisplayBase | 
| Version: 1.24.0 | 
| Command: C:\cygwin\bin\curl.exe -O https://malbec1.bioconductor.org/BBS/3.10/bioc/src/contrib/interactiveDisplayBase_1.24.0.tar.gz && rm -rf interactiveDisplayBase.buildbin-libdir && mkdir interactiveDisplayBase.buildbin-libdir && C:\Users\biocbuild\bbs-3.10-bioc\R\bin\R.exe CMD INSTALL --merge-multiarch --build --library=interactiveDisplayBase.buildbin-libdir interactiveDisplayBase_1.24.0.tar.gz && C:\Users\biocbuild\bbs-3.10-bioc\R\bin\R.exe CMD INSTALL interactiveDisplayBase_1.24.0.zip && rm interactiveDisplayBase_1.24.0.tar.gz interactiveDisplayBase_1.24.0.zip | 
| StartedAt: 2020-04-14 18:45:01 -0400 (Tue, 14 Apr 2020) | 
| EndedAt: 2020-04-14 18:45:26 -0400 (Tue, 14 Apr 2020) | 
| EllapsedTime: 25.1 seconds | 
| RetCode: 0 | 
| Status: OK | 
##############################################################################
##############################################################################
###
### Running command:
###
###   C:\cygwin\bin\curl.exe -O https://malbec1.bioconductor.org/BBS/3.10/bioc/src/contrib/interactiveDisplayBase_1.24.0.tar.gz && rm -rf interactiveDisplayBase.buildbin-libdir && mkdir interactiveDisplayBase.buildbin-libdir && C:\Users\biocbuild\bbs-3.10-bioc\R\bin\R.exe CMD INSTALL --merge-multiarch --build --library=interactiveDisplayBase.buildbin-libdir interactiveDisplayBase_1.24.0.tar.gz && C:\Users\biocbuild\bbs-3.10-bioc\R\bin\R.exe CMD INSTALL interactiveDisplayBase_1.24.0.zip && rm interactiveDisplayBase_1.24.0.tar.gz interactiveDisplayBase_1.24.0.zip
###
##############################################################################
##############################################################################
  % Total    % Received % Xferd  Average Speed   Time    Time     Time  Current
                                 Dload  Upload   Total   Spent    Left  Speed
  0     0    0     0    0     0      0      0 --:--:-- --:--:-- --:--:--     0
100  7620  100  7620    0     0   163k      0 --:--:-- --:--:-- --:--:--  177k
install for i386
* installing *source* package 'interactiveDisplayBase' ...
** using staged installation
** R
** inst
** byte-compile and prepare package for lazy loading
** help
*** installing help indices
  converting help for package 'interactiveDisplayBase'
    finding HTML links ... done
    dot_runApp                              html  
    interactiveDisplayBase-methods          html  
** building package indices
** installing vignettes
** testing if installed package can be loaded from temporary location
** testing if installed package can be loaded from final location
** testing if installed package keeps a record of temporary installation path
install for x64
* installing *source* package 'interactiveDisplayBase' ...
** testing if installed package can be loaded
* MD5 sums
packaged installation of 'interactiveDisplayBase' as interactiveDisplayBase_1.24.0.zip
* DONE (interactiveDisplayBase)
* installing to library 'C:/Users/biocbuild/bbs-3.10-bioc/R/library'
package 'interactiveDisplayBase' successfully unpacked and MD5 sums checked