| Back to Multiple platform build/check report for BioC 3.10 | 
 | 
This page was generated on 2020-04-15 12:23:22 -0400 (Wed, 15 Apr 2020).
| Package 853/1823 | Hostname | OS / Arch | INSTALL | BUILD | CHECK | BUILD BIN | ||||||
| interactiveDisplayBase 1.24.0 Shawn Balcome 
 | malbec1 | Linux (Ubuntu 18.04.4 LTS) / x86_64 | OK | OK | WARNINGS |  | ||||||
| tokay1 | Windows Server 2012 R2 Standard / x64 | OK | OK | WARNINGS | [ OK ] |  | ||||||
| merida1 | OS X 10.11.6 El Capitan / x86_64 | OK | OK | WARNINGS | OK |  | 
| Package: interactiveDisplayBase | 
| Version: 1.24.0 | 
| Command: rm -rf interactiveDisplayBase.buildbin-libdir && mkdir interactiveDisplayBase.buildbin-libdir && C:\Users\biocbuild\bbs-3.10-bioc\R\bin\R.exe CMD INSTALL --merge-multiarch --build --library=interactiveDisplayBase.buildbin-libdir interactiveDisplayBase_1.24.0.tar.gz | 
| StartedAt: 2020-04-15 08:59:34 -0400 (Wed, 15 Apr 2020) | 
| EndedAt: 2020-04-15 09:00:12 -0400 (Wed, 15 Apr 2020) | 
| EllapsedTime: 37.6 seconds | 
| RetCode: 0 | 
| Status: OK | 
| PackageFile: interactiveDisplayBase_1.24.0.zip | 
| PackageFileSize: 46.79 KiB | 
##############################################################################
##############################################################################
###
### Running command:
###
###   rm -rf interactiveDisplayBase.buildbin-libdir && mkdir interactiveDisplayBase.buildbin-libdir && C:\Users\biocbuild\bbs-3.10-bioc\R\bin\R.exe CMD INSTALL --merge-multiarch --build --library=interactiveDisplayBase.buildbin-libdir interactiveDisplayBase_1.24.0.tar.gz
###
##############################################################################
##############################################################################
install for i386
* installing *source* package 'interactiveDisplayBase' ...
** using staged installation
** R
** inst
** byte-compile and prepare package for lazy loading
** help
*** installing help indices
  converting help for package 'interactiveDisplayBase'
    finding HTML links ... done
    dot_runApp                              html  
    interactiveDisplayBase-methods          html  
** building package indices
** installing vignettes
** testing if installed package can be loaded from temporary location
** testing if installed package can be loaded from final location
** testing if installed package keeps a record of temporary installation path
install for x64
* installing *source* package 'interactiveDisplayBase' ...
** testing if installed package can be loaded
* MD5 sums
packaged installation of 'interactiveDisplayBase' as interactiveDisplayBase_1.24.0.zip
* DONE (interactiveDisplayBase)