| Back to Multiple platform build/check report for BioC 3.10 |
|
This page was generated on 2020-04-15 12:23:29 -0400 (Wed, 15 Apr 2020).
| Package 537/1823 | Hostname | OS / Arch | INSTALL | BUILD | CHECK | BUILD BIN | ||||||
| erccdashboard 1.20.0 Sarah Munro
| malbec1 | Linux (Ubuntu 18.04.4 LTS) / x86_64 | OK | OK | OK | |||||||
| tokay1 | Windows Server 2012 R2 Standard / x64 | OK | OK | OK | [ OK ] | |||||||
| merida1 | OS X 10.11.6 El Capitan / x86_64 | OK | OK | OK | OK |
| Package: erccdashboard |
| Version: 1.20.0 |
| Command: rm -rf erccdashboard.buildbin-libdir && mkdir erccdashboard.buildbin-libdir && C:\Users\biocbuild\bbs-3.10-bioc\R\bin\R.exe CMD INSTALL --merge-multiarch --build --library=erccdashboard.buildbin-libdir erccdashboard_1.20.0.tar.gz |
| StartedAt: 2020-04-15 08:40:18 -0400 (Wed, 15 Apr 2020) |
| EndedAt: 2020-04-15 08:40:55 -0400 (Wed, 15 Apr 2020) |
| EllapsedTime: 37.2 seconds |
| RetCode: 0 |
| Status: OK |
| PackageFile: erccdashboard_1.20.0.zip |
| PackageFileSize: 2.169 MiB |
##############################################################################
##############################################################################
###
### Running command:
###
### rm -rf erccdashboard.buildbin-libdir && mkdir erccdashboard.buildbin-libdir && C:\Users\biocbuild\bbs-3.10-bioc\R\bin\R.exe CMD INSTALL --merge-multiarch --build --library=erccdashboard.buildbin-libdir erccdashboard_1.20.0.tar.gz
###
##############################################################################
##############################################################################
install for i386
* installing *source* package 'erccdashboard' ...
** using staged installation
** R
** data
*** moving datasets to lazyload DB
** inst
** byte-compile and prepare package for lazy loading
** help
*** installing help indices
converting help for package 'erccdashboard'
finding HTML links ... done
ERCC html
ERCCDef html
ERCCMix1and2 html
MET.CTL.countDat html
MET.CTL.totalReads html
SEQC.Example html
UHRR.HBRR.arrayDat html
UHRR.HBRR.countDat html
UHRR.HBRR.totalReads html
annotLODR html
dynRangePlot html
erccROC html
estLODR html
est_r_m html
geneExprTest html
initDat html
maSignal html
runDashboard html
saveERCCPlots html
** building package indices
** installing vignettes
** testing if installed package can be loaded from temporary location
** testing if installed package can be loaded from final location
** testing if installed package keeps a record of temporary installation path
install for x64
* installing *source* package 'erccdashboard' ...
** testing if installed package can be loaded
* MD5 sums
packaged installation of 'erccdashboard' as erccdashboard_1.20.0.zip
* DONE (erccdashboard)