| Back to Multiple platform build/check report for BioC 3.10 | 
  | 
This page was generated on 2020-04-15 12:09:02 -0400 (Wed, 15 Apr 2020).
| Package 537/1823 | Hostname | OS / Arch | INSTALL | BUILD | CHECK | BUILD BIN | ||||||
| erccdashboard 1.20.0 Sarah Munro 
  | malbec1 | Linux (Ubuntu 18.04.4 LTS) / x86_64 | OK | OK | [ OK ] | |||||||
| tokay1 | Windows Server 2012 R2 Standard / x64 | OK | OK | OK | OK | |||||||
| merida1 | OS X 10.11.6 El Capitan / x86_64 | OK | OK | OK | OK | 
| Package: erccdashboard | 
| Version: 1.20.0 | 
| Command: /home/biocbuild/bbs-3.10-bioc/R/bin/R CMD check --install=check:erccdashboard.install-out.txt --library=/home/biocbuild/bbs-3.10-bioc/R/library --no-vignettes --timings erccdashboard_1.20.0.tar.gz | 
| StartedAt: 2020-04-15 02:25:43 -0400 (Wed, 15 Apr 2020) | 
| EndedAt: 2020-04-15 02:26:46 -0400 (Wed, 15 Apr 2020) | 
| EllapsedTime: 62.9 seconds | 
| RetCode: 0 | 
| Status: OK | 
| CheckDir: erccdashboard.Rcheck | 
| Warnings: 0 | 
##############################################################################
##############################################################################
###
### Running command:
###
###   /home/biocbuild/bbs-3.10-bioc/R/bin/R CMD check --install=check:erccdashboard.install-out.txt --library=/home/biocbuild/bbs-3.10-bioc/R/library --no-vignettes --timings erccdashboard_1.20.0.tar.gz
###
##############################################################################
##############################################################################
* using log directory ‘/home/biocbuild/bbs-3.10-bioc/meat/erccdashboard.Rcheck’
* using R version 3.6.3 (2020-02-29)
* using platform: x86_64-pc-linux-gnu (64-bit)
* using session charset: UTF-8
* using option ‘--no-vignettes’
* checking for file ‘erccdashboard/DESCRIPTION’ ... OK
* checking extension type ... Package
* this is package ‘erccdashboard’ version ‘1.20.0’
* checking package namespace information ... OK
* checking package dependencies ... OK
* checking if this is a source package ... OK
* checking if there is a namespace ... OK
* checking for hidden files and directories ... OK
* checking for portable file names ... OK
* checking for sufficient/correct file permissions ... OK
* checking whether package ‘erccdashboard’ can be installed ... OK
* checking installed package size ... OK
* checking package directory ... OK
* checking ‘build’ directory ... OK
* checking DESCRIPTION meta-information ... OK
* checking top-level files ... OK
* checking for left-over files ... OK
* checking index information ... OK
* checking package subdirectories ... OK
* checking R files for non-ASCII characters ... OK
* checking R files for syntax errors ... OK
* checking whether the package can be loaded ... OK
* checking whether the package can be loaded with stated dependencies ... OK
* checking whether the package can be unloaded cleanly ... OK
* checking whether the namespace can be loaded with stated dependencies ... OK
* checking whether the namespace can be unloaded cleanly ... OK
* checking dependencies in R code ... OK
* checking S3 generic/method consistency ... OK
* checking replacement functions ... OK
* checking foreign function calls ... OK
* checking R code for possible problems ... NOTE
dynRangePlot: no visible binding for global variable ‘value’
dynRangePlot: no visible binding for global variable ‘Rep’
saveERCCPlots: no visible global function definition for ‘par’
testDECount: no visible binding for global variable ‘Atrend’
testDECount: no visible binding for global variable ‘Dispersion’
testDECount: no visible binding for global variable ‘Ratio’
Undefined global functions or variables:
  Atrend Dispersion Ratio Rep par value
Consider adding
  importFrom("graphics", "par")
to your NAMESPACE file.
* checking Rd files ... OK
* checking Rd metadata ... OK
* checking Rd cross-references ... OK
* checking for missing documentation entries ... OK
* checking for code/documentation mismatches ... OK
* checking Rd \usage sections ... OK
* checking Rd contents ... OK
* checking for unstated dependencies in examples ... OK
* checking contents of ‘data’ directory ... OK
* checking data for non-ASCII characters ... OK
* checking data for ASCII and uncompressed saves ... OK
* checking files in ‘vignettes’ ... OK
* checking examples ... OK
Examples with CPU or elapsed time > 5s
        user system elapsed
estLODR 9.36  0.008   9.375
* checking for unstated dependencies in vignettes ... OK
* checking package vignettes in ‘inst/doc’ ... OK
* checking running R code from vignettes ... SKIPPED
* checking re-building of vignette outputs ... SKIPPED
* checking PDF version of manual ... OK
* DONE
Status: 1 NOTE
See
  ‘/home/biocbuild/bbs-3.10-bioc/meat/erccdashboard.Rcheck/00check.log’
for details.
erccdashboard.Rcheck/00install.out
############################################################################## ############################################################################## ### ### Running command: ### ### /home/biocbuild/bbs-3.10-bioc/R/bin/R CMD INSTALL erccdashboard ### ############################################################################## ############################################################################## * installing to library ‘/home/biocbuild/bbs-3.10-bioc/R/library’ * installing *source* package ‘erccdashboard’ ... ** using staged installation ** R ** data *** moving datasets to lazyload DB ** inst ** byte-compile and prepare package for lazy loading ** help *** installing help indices ** building package indices ** installing vignettes ** testing if installed package can be loaded from temporary location ** testing if installed package can be loaded from final location ** testing if installed package keeps a record of temporary installation path * DONE (erccdashboard)
erccdashboard.Rcheck/erccdashboard-Ex.timings
| name | user | system | elapsed | |
| ERCC | 0.004 | 0.000 | 0.003 | |
| SEQC.Example | 0.000 | 0.000 | 0.002 | |
| annotLODR | 1.452 | 0.024 | 1.478 | |
| dynRangePlot | 1.932 | 0.004 | 1.989 | |
| erccROC | 1.760 | 0.020 | 1.791 | |
| estLODR | 9.360 | 0.008 | 9.375 | |
| est_r_m | 1.024 | 0.004 | 1.028 | |
| geneExprTest | 1.172 | 0.000 | 1.170 | |
| initDat | 0.160 | 0.012 | 0.175 | |
| maSignal | 3.048 | 0.000 | 3.053 | |
| runDashboard | 0.004 | 0.000 | 0.000 | |
| saveERCCPlots | 0 | 0 | 0 | |