| Back to Multiple platform build/check report for BioC 3.10 |
|
This page was generated on 2020-01-15 12:07:21 -0500 (Wed, 15 Jan 2020).
| Package 497/1823 | Hostname | OS / Arch | INSTALL | BUILD | CHECK | BUILD BIN | ||||||
| easyRNASeq 2.22.2 Nicolas Delhomme
| malbec1 | Linux (Ubuntu 18.04.3 LTS) / x86_64 | OK | OK | [ OK ] | |||||||
| tokay1 | Windows Server 2012 R2 Standard / x64 | OK | ERROR | skipped | skipped | |||||||
| merida1 | OS X 10.11.6 El Capitan / x86_64 | OK | OK | OK | OK |
| Package: easyRNASeq |
| Version: 2.22.2 |
| Command: /home/biocbuild/bbs-3.10-bioc/R/bin/R CMD check --install=check:easyRNASeq.install-out.txt --library=/home/biocbuild/bbs-3.10-bioc/R/library --no-vignettes --timings easyRNASeq_2.22.2.tar.gz |
| StartedAt: 2020-01-15 02:06:54 -0500 (Wed, 15 Jan 2020) |
| EndedAt: 2020-01-15 02:15:56 -0500 (Wed, 15 Jan 2020) |
| EllapsedTime: 542.0 seconds |
| RetCode: 0 |
| Status: OK |
| CheckDir: easyRNASeq.Rcheck |
| Warnings: 0 |
##############################################################################
##############################################################################
###
### Running command:
###
### /home/biocbuild/bbs-3.10-bioc/R/bin/R CMD check --install=check:easyRNASeq.install-out.txt --library=/home/biocbuild/bbs-3.10-bioc/R/library --no-vignettes --timings easyRNASeq_2.22.2.tar.gz
###
##############################################################################
##############################################################################
* using log directory ‘/home/biocbuild/bbs-3.10-bioc/meat/easyRNASeq.Rcheck’
* using R version 3.6.2 (2019-12-12)
* using platform: x86_64-pc-linux-gnu (64-bit)
* using session charset: UTF-8
* using option ‘--no-vignettes’
* checking for file ‘easyRNASeq/DESCRIPTION’ ... OK
* checking extension type ... Package
* this is package ‘easyRNASeq’ version ‘2.22.2’
* package encoding: UTF-8
* checking package namespace information ... OK
* checking package dependencies ... NOTE
Files named as vignettes but with no recognized vignette engine:
‘inst/doc/01-Introduction.Rmd’
‘inst/doc/02-AnnotParam.Rmd’
‘inst/doc/03-SyntheticTranscripts.Rmd’
‘inst/doc/04-BamParam.Rmd’
‘inst/doc/05-RnaSeqParam.Rmd’
‘inst/doc/06-simpleRNASeq.Rmd’
‘inst/doc/07-cleanUp.Rmd’
‘inst/doc/08-Session-Info.Rmd’
‘inst/doc/09-Acknowledgments.Rmd’
‘inst/doc/10-Foonotes.Rmd’
‘inst/doc/11-Images.Rmd’
‘inst/doc/12-Appendix.Rmd’
(Is a VignetteBuilder field missing?)
* checking if this is a source package ... OK
* checking if there is a namespace ... OK
* checking for hidden files and directories ... OK
* checking for portable file names ... OK
* checking for sufficient/correct file permissions ... OK
* checking whether package ‘easyRNASeq’ can be installed ... OK
* checking installed package size ... OK
* checking package directory ... OK
* checking ‘build’ directory ... OK
* checking DESCRIPTION meta-information ... OK
* checking top-level files ... OK
* checking for left-over files ... OK
* checking index information ... OK
* checking package subdirectories ... OK
* checking R files for non-ASCII characters ... OK
* checking R files for syntax errors ... OK
* checking whether the package can be loaded ... OK
* checking whether the package can be loaded with stated dependencies ... OK
* checking whether the package can be unloaded cleanly ... OK
* checking whether the namespace can be loaded with stated dependencies ... OK
* checking whether the namespace can be unloaded cleanly ... OK
* checking dependencies in R code ... OK
* checking S3 generic/method consistency ... OK
* checking replacement functions ... OK
* checking foreign function calls ... OK
* checking R code for possible problems ... OK
* checking Rd files ... OK
* checking Rd metadata ... OK
* checking Rd cross-references ... OK
* checking for missing documentation entries ... OK
* checking for code/documentation mismatches ... OK
* checking Rd \usage sections ... OK
* checking Rd contents ... OK
* checking for unstated dependencies in examples ... OK
* checking contents of ‘data’ directory ... OK
* checking data for non-ASCII characters ... OK
* checking data for ASCII and uncompressed saves ... OK
* checking line endings in Makefiles ... OK
* checking for GNU extensions in Makefiles ... OK
* checking include directives in Makefiles ... OK
* checking files in ‘vignettes’ ... OK
* checking examples ... OK
Examples with CPU or elapsed time > 5s
user system elapsed
easyRNASeq-package 57.792 0.548 60.021
easyRNASeq-simpleRNASeq 45.004 0.580 47.522
easyRNASeq-synthetic-transcripts 36.364 0.036 37.655
easyRNASeq-BamFileList 11.496 0.136 13.483
Rsamtools-methods 9.200 0.124 11.621
BiocFileCache-methods 7.560 0.288 17.487
* checking for unstated dependencies in ‘tests’ ... OK
* checking tests ...
Running ‘runTests.R’
OK
* checking for unstated dependencies in vignettes ... OK
* checking package vignettes in ‘inst/doc’ ... OK
* checking running R code from vignettes ... SKIPPED
* checking re-building of vignette outputs ... SKIPPED
* checking PDF version of manual ... OK
* DONE
Status: 1 NOTE
See
‘/home/biocbuild/bbs-3.10-bioc/meat/easyRNASeq.Rcheck/00check.log’
for details.
easyRNASeq.Rcheck/00install.out
############################################################################## ############################################################################## ### ### Running command: ### ### /home/biocbuild/bbs-3.10-bioc/R/bin/R CMD INSTALL easyRNASeq ### ############################################################################## ############################################################################## * installing to library ‘/home/biocbuild/bbs-3.10-bioc/R/library’ * installing *source* package ‘easyRNASeq’ ... ** using staged installation ** R ** data ** inst ** byte-compile and prepare package for lazy loading Creating a generic function for ‘basename’ from package ‘base’ in package ‘easyRNASeq’ Creating a generic function for ‘file.exists’ from package ‘base’ in package ‘easyRNASeq’ ** help *** installing help indices ** building package indices ** installing vignettes ** testing if installed package can be loaded from temporary location ** testing if installed package can be loaded from final location ** testing if installed package keeps a record of temporary installation path * DONE (easyRNASeq)
easyRNASeq.Rcheck/tests/runTests.Rout
R version 3.6.2 (2019-12-12) -- "Dark and Stormy Night"
Copyright (C) 2019 The R Foundation for Statistical Computing
Platform: x86_64-pc-linux-gnu (64-bit)
R is free software and comes with ABSOLUTELY NO WARRANTY.
You are welcome to redistribute it under certain conditions.
Type 'license()' or 'licence()' for distribution details.
R is a collaborative project with many contributors.
Type 'contributors()' for more information and
'citation()' on how to cite R or R packages in publications.
Type 'demo()' for some demos, 'help()' for on-line help, or
'help.start()' for an HTML browser interface to help.
Type 'q()' to quit R.
> # get the example data
> library(easyRNASeq)
> tutorialData()
[1] "/home/biocbuild/.cache/easyRNASeq"
>
> # set the env.var
> #TUTORIAL.DATA <- get("TUTORIAL.DATA",envir=as.environment("package:easyRNASeq"))
>
> # run the tests
> BiocGenerics:::testPackage("easyRNASeq")
Loading required package: GenomicRanges
Loading required package: stats4
Loading required package: BiocGenerics
Loading required package: parallel
Attaching package: 'BiocGenerics'
The following objects are masked from 'package:parallel':
clusterApply, clusterApplyLB, clusterCall, clusterEvalQ,
clusterExport, clusterMap, parApply, parCapply, parLapply,
parLapplyLB, parRapply, parSapply, parSapplyLB
The following object is masked from 'package:easyRNASeq':
basename
The following objects are masked from 'package:stats':
IQR, mad, sd, var, xtabs
The following objects are masked from 'package:base':
Filter, Find, Map, Position, Reduce, anyDuplicated, append,
as.data.frame, basename, cbind, colnames, dirname, do.call,
duplicated, eval, evalq, get, grep, grepl, intersect, is.unsorted,
lapply, mapply, match, mget, order, paste, pmax, pmax.int, pmin,
pmin.int, rank, rbind, rownames, sapply, setdiff, sort, table,
tapply, union, unique, unsplit, which, which.max, which.min
Loading required package: S4Vectors
Attaching package: 'S4Vectors'
The following object is masked from 'package:base':
expand.grid
Loading required package: IRanges
Loading required package: GenomeInfoDb
No validation performed at that stage
Validated a datasource of type biomaRt
No validation performed at that stage
Validated a datasource of type rda
Read 1000 records
Validated a datasource of type gtf
Read 999 records
Validated a datasource of type gff3
RUNIT TEST PROTOCOL -- Wed Jan 15 02:15:50 2020
***********************************************
Number of test functions: 20
Number of errors: 0
Number of failures: 0
1 Test Suite :
easyRNASeq RUnit Tests - 20 test functions, 0 errors, 0 failures
Number of test functions: 20
Number of errors: 0
Number of failures: 0
There were 21 warnings (use warnings() to see them)
>
> # cleanup
> # removebfc(easyRNASeq:::.get_cache(),ask=FALSE)
>
> proc.time()
user system elapsed
66.964 1.076 83.335
easyRNASeq.Rcheck/easyRNASeq-Ex.timings
| name | user | system | elapsed | |
| BiocFileCache-methods | 7.560 | 0.288 | 17.487 | |
| DESeq-methods | 0 | 0 | 0 | |
| GenomicRanges-methods | 0.488 | 0.000 | 0.489 | |
| IRanges-methods | 0 | 0 | 0 | |
| Rsamtools-methods | 9.200 | 0.124 | 11.621 | |
| ShortRead-methods | 0 | 0 | 0 | |
| easyRNASeq-AnnotParam-accessors | 0.520 | 0.020 | 0.654 | |
| easyRNASeq-AnnotParam-class | 0.000 | 0.000 | 0.001 | |
| easyRNASeq-AnnotParam | 0.436 | 0.000 | 0.535 | |
| easyRNASeq-BamFileList | 11.496 | 0.136 | 13.483 | |
| easyRNASeq-BamParam-accessors | 0.000 | 0.000 | 0.002 | |
| easyRNASeq-BamParam-class | 0.000 | 0.000 | 0.001 | |
| easyRNASeq-BamParam | 0.004 | 0.000 | 0.003 | |
| easyRNASeq-RnaSeqParam-accessors | 0.004 | 0.000 | 0.004 | |
| easyRNASeq-RnaSeqParam-class | 0.000 | 0.000 | 0.001 | |
| easyRNASeq-RnaSeqParam | 0.004 | 0.000 | 0.005 | |
| easyRNASeq-accessors | 0 | 0 | 0 | |
| easyRNASeq-annotation-methods | 0.004 | 0.000 | 0.000 | |
| easyRNASeq-class | 0.000 | 0.000 | 0.001 | |
| easyRNASeq-correction-methods | 0 | 0 | 0 | |
| easyRNASeq-coverage-methods | 0 | 0 | 0 | |
| easyRNASeq-easyRNASeq | 0.004 | 0.000 | 0.000 | |
| easyRNASeq-island-methods | 0.000 | 0.000 | 0.001 | |
| easyRNASeq-package | 57.792 | 0.548 | 60.021 | |
| easyRNASeq-simpleRNASeq | 45.004 | 0.580 | 47.522 | |
| easyRNASeq-summarization-methods | 0 | 0 | 0 | |
| easyRNASeq-synthetic-transcripts | 36.364 | 0.036 | 37.655 | |
| edgeR-methods | 0 | 0 | 0 | |
| genomeIntervals-methods | 2.524 | 0.268 | 3.364 | |
| parallel-methods | 0 | 0 | 0 | |