| Back to Multiple platform build/check report for BioC 3.10 |
|
This page was generated on 2020-04-15 12:29:41 -0400 (Wed, 15 Apr 2020).
| Package 483/1823 | Hostname | OS / Arch | INSTALL | BUILD | CHECK | BUILD BIN | ||||||
| drawProteins 1.6.0 Paul Brennan
| malbec1 | Linux (Ubuntu 18.04.4 LTS) / x86_64 | OK | OK | OK | |||||||
| tokay1 | Windows Server 2012 R2 Standard / x64 | OK | OK | OK | [ OK ] | |||||||
| merida1 | OS X 10.11.6 El Capitan / x86_64 | OK | OK | OK | OK |
| Package: drawProteins |
| Version: 1.6.0 |
| Command: rm -rf drawProteins.buildbin-libdir && mkdir drawProteins.buildbin-libdir && C:\Users\biocbuild\bbs-3.10-bioc\R\bin\R.exe CMD INSTALL --merge-multiarch --build --library=drawProteins.buildbin-libdir drawProteins_1.6.0.tar.gz |
| StartedAt: 2020-04-15 08:37:19 -0400 (Wed, 15 Apr 2020) |
| EndedAt: 2020-04-15 08:37:30 -0400 (Wed, 15 Apr 2020) |
| EllapsedTime: 10.6 seconds |
| RetCode: 0 |
| Status: OK |
| PackageFile: drawProteins_1.6.0.zip |
| PackageFileSize: 855.3 KiB |
##############################################################################
##############################################################################
###
### Running command:
###
### rm -rf drawProteins.buildbin-libdir && mkdir drawProteins.buildbin-libdir && C:\Users\biocbuild\bbs-3.10-bioc\R\bin\R.exe CMD INSTALL --merge-multiarch --build --library=drawProteins.buildbin-libdir drawProteins_1.6.0.tar.gz
###
##############################################################################
##############################################################################
install for i386
* installing *source* package 'drawProteins' ...
** using staged installation
** R
** data
** inst
** byte-compile and prepare package for lazy loading
** help
*** installing help indices
converting help for package 'drawProteins'
finding HTML links ... done
drawProteins html
draw_canvas html
draw_chains html
draw_domains html
draw_folding html
draw_motif html
draw_phospho html
draw_recept_dom html
draw_regions html
draw_repeat html
extract_feat_acc html
extract_names html
extract_transcripts html
feature_to_dataframe html
five_rel_data html
five_rel_list html
get_features html
parse_gff html
phospho_site_info html
protein_json html
rel_A_features html
rel_json html
tnfs_data html
** building package indices
** installing vignettes
** testing if installed package can be loaded from temporary location
** testing if installed package can be loaded from final location
** testing if installed package keeps a record of temporary installation path
install for x64
* installing *source* package 'drawProteins' ...
** testing if installed package can be loaded
* MD5 sums
packaged installation of 'drawProteins' as drawProteins_1.6.0.zip
* DONE (drawProteins)