| Back to Multiple platform build/check report for BioC 3.10 | 
 | 
This page was generated on 2020-04-15 12:46:37 -0400 (Wed, 15 Apr 2020).
| Package 483/1823 | Hostname | OS / Arch | INSTALL | BUILD | CHECK | BUILD BIN | ||||||
| drawProteins 1.6.0 Paul Brennan 
 | malbec1 | Linux (Ubuntu 18.04.4 LTS) / x86_64 | OK | OK | OK |  | ||||||
| tokay1 | Windows Server 2012 R2 Standard / x64 | OK | OK | OK | OK |  | ||||||
| merida1 | OS X 10.11.6 El Capitan / x86_64 | OK | [ OK ] | OK | OK |  | 
| Package: drawProteins | 
| Version: 1.6.0 | 
| Command: /Library/Frameworks/R.framework/Versions/Current/Resources/bin/R CMD build --keep-empty-dirs --no-resave-data drawProteins | 
| StartedAt: 2020-04-14 22:48:23 -0400 (Tue, 14 Apr 2020) | 
| EndedAt: 2020-04-14 22:49:17 -0400 (Tue, 14 Apr 2020) | 
| EllapsedTime: 54.0 seconds | 
| RetCode: 0 | 
| Status: OK | 
| PackageFile: drawProteins_1.6.0.tar.gz | 
| PackageFileSize: 1.546 MiB | 
############################################################################## ############################################################################## ### ### Running command: ### ### /Library/Frameworks/R.framework/Versions/Current/Resources/bin/R CMD build --keep-empty-dirs --no-resave-data drawProteins ### ############################################################################## ############################################################################## * checking for file ‘drawProteins/DESCRIPTION’ ... OK * preparing ‘drawProteins’: * checking DESCRIPTION meta-information ... OK * installing the package to build vignettes * creating vignettes ... OK * checking for LF line-endings in source and make files and shell scripts * checking for empty or unneeded directories * looking to see if a ‘data/datalist’ file should be added * building ‘drawProteins_1.6.0.tar.gz’