| Back to Multiple platform build/check report for BioC 3.10 |
|
This page was generated on 2020-04-15 12:23:29 -0400 (Wed, 15 Apr 2020).
| Package 346/1823 | Hostname | OS / Arch | INSTALL | BUILD | CHECK | BUILD BIN | ||||||
| compEpiTools 1.20.0 Kamal Kishore
| malbec1 | Linux (Ubuntu 18.04.4 LTS) / x86_64 | OK | OK | OK | |||||||
| tokay1 | Windows Server 2012 R2 Standard / x64 | [ OK ] | OK | OK | OK | |||||||
| merida1 | OS X 10.11.6 El Capitan / x86_64 | OK | OK | OK | OK |
| Package: compEpiTools |
| Version: 1.20.0 |
| Command: C:\cygwin\bin\curl.exe -O https://malbec1.bioconductor.org/BBS/3.10/bioc/src/contrib/compEpiTools_1.20.0.tar.gz && rm -rf compEpiTools.buildbin-libdir && mkdir compEpiTools.buildbin-libdir && C:\Users\biocbuild\bbs-3.10-bioc\R\bin\R.exe CMD INSTALL --merge-multiarch --build --library=compEpiTools.buildbin-libdir compEpiTools_1.20.0.tar.gz && C:\Users\biocbuild\bbs-3.10-bioc\R\bin\R.exe CMD INSTALL compEpiTools_1.20.0.zip && rm compEpiTools_1.20.0.tar.gz compEpiTools_1.20.0.zip |
| StartedAt: 2020-04-14 20:22:13 -0400 (Tue, 14 Apr 2020) |
| EndedAt: 2020-04-14 20:23:26 -0400 (Tue, 14 Apr 2020) |
| EllapsedTime: 72.5 seconds |
| RetCode: 0 |
| Status: OK |
##############################################################################
##############################################################################
###
### Running command:
###
### C:\cygwin\bin\curl.exe -O https://malbec1.bioconductor.org/BBS/3.10/bioc/src/contrib/compEpiTools_1.20.0.tar.gz && rm -rf compEpiTools.buildbin-libdir && mkdir compEpiTools.buildbin-libdir && C:\Users\biocbuild\bbs-3.10-bioc\R\bin\R.exe CMD INSTALL --merge-multiarch --build --library=compEpiTools.buildbin-libdir compEpiTools_1.20.0.tar.gz && C:\Users\biocbuild\bbs-3.10-bioc\R\bin\R.exe CMD INSTALL compEpiTools_1.20.0.zip && rm compEpiTools_1.20.0.tar.gz compEpiTools_1.20.0.zip
###
##############################################################################
##############################################################################
% Total % Received % Xferd Average Speed Time Time Time Current
Dload Upload Total Spent Left Speed
0 0 0 0 0 0 0 0 --:--:-- --:--:-- --:--:-- 0
100 2066k 100 2066k 0 0 18.6M 0 --:--:-- --:--:-- --:--:-- 19.4M
install for i386
* installing *source* package 'compEpiTools' ...
** using staged installation
** R
** inst
** byte-compile and prepare package for lazy loading
groupGOTerms: GOBPTerm, GOMFTerm, GOCCTerm environments built.
** help
*** installing help indices
converting help for package 'compEpiTools'
finding HTML links ... done
GR2fasta-methods html
GRanges2ucsc-methods html
GRangesInPromoters-methods html
GRannotate-methods html
GRannotateSimple html
GRbaseCoverage-methods html
GRcoverage-methods html
GRcoverageSummit-methods html
GRenrichment-methods html
GRmidpoint-methods html
GRsetwidth html
TSS html
compEpiTools-package html
countOverlapsInBins-methods html
distanceFromTSS-methods html
enhancers html
findLncRNA html
getPromoterClass-methods html
finding level-2 HTML links ... done
heatmapData html
heatmapPlot html
makeGtfFromDb html
matchEnhancers html
overlapOfGRanges-methods html
palette2d html
plotStallingIndex html
simplifyGOterms html
stallingIndex html
topGOres html
ucsc2GRanges html
unionMaxScore-methods html
** building package indices
** installing vignettes
** testing if installed package can be loaded from temporary location
groupGOTerms: GOBPTerm, GOMFTerm, GOCCTerm environments built.
** testing if installed package can be loaded from final location
groupGOTerms: GOBPTerm, GOMFTerm, GOCCTerm environments built.
** testing if installed package keeps a record of temporary installation path
install for x64
* installing *source* package 'compEpiTools' ...
** testing if installed package can be loaded
groupGOTerms: GOBPTerm, GOMFTerm, GOCCTerm environments built.
* MD5 sums
packaged installation of 'compEpiTools' as compEpiTools_1.20.0.zip
* DONE (compEpiTools)
* installing to library 'C:/Users/biocbuild/bbs-3.10-bioc/R/library'
package 'compEpiTools' successfully unpacked and MD5 sums checked