| Back to Multiple platform build/check report for BioC 3.10 |
|
This page was generated on 2020-04-15 12:23:29 -0400 (Wed, 15 Apr 2020).
| Package 346/1823 | Hostname | OS / Arch | INSTALL | BUILD | CHECK | BUILD BIN | ||||||
| compEpiTools 1.20.0 Kamal Kishore
| malbec1 | Linux (Ubuntu 18.04.4 LTS) / x86_64 | OK | OK | OK | |||||||
| tokay1 | Windows Server 2012 R2 Standard / x64 | OK | [ OK ] | OK | OK | |||||||
| merida1 | OS X 10.11.6 El Capitan / x86_64 | OK | OK | OK | OK |
| Package: compEpiTools |
| Version: 1.20.0 |
| Command: chmod a+r compEpiTools -R && C:\Users\biocbuild\bbs-3.10-bioc\R\bin\R.exe CMD build --keep-empty-dirs --no-resave-data compEpiTools |
| StartedAt: 2020-04-14 22:11:16 -0400 (Tue, 14 Apr 2020) |
| EndedAt: 2020-04-14 22:12:58 -0400 (Tue, 14 Apr 2020) |
| EllapsedTime: 102.5 seconds |
| RetCode: 0 |
| Status: OK |
| PackageFile: compEpiTools_1.20.0.tar.gz |
| PackageFileSize: 2.194 MiB |
############################################################################## ############################################################################## ### ### Running command: ### ### chmod a+r compEpiTools -R && C:\Users\biocbuild\bbs-3.10-bioc\R\bin\R.exe CMD build --keep-empty-dirs --no-resave-data compEpiTools ### ############################################################################## ############################################################################## * checking for file 'compEpiTools/DESCRIPTION' ... OK * preparing 'compEpiTools': * checking DESCRIPTION meta-information ... OK * installing the package to build vignettes * creating vignettes ... OK * checking for LF line-endings in source and make files and shell scripts * checking for empty or unneeded directories * building 'compEpiTools_1.20.0.tar.gz'