| Back to Multiple platform build/check report for BioC 3.10 |
|
This page was generated on 2019-12-19 12:47:23 -0500 (Thu, 19 Dec 2019).
| Package 283/1823 | Hostname | OS / Arch | INSTALL | BUILD | CHECK | BUILD BIN | ||||||
| chroGPS 2.4.0 Oscar Reina
| malbec1 | Linux (Ubuntu 18.04.3 LTS) / x86_64 | ERROR | ERROR | skipped | |||||||
| tokay1 | Windows Server 2012 R2 Standard / x64 | OK | OK | OK | [ OK ] | |||||||
| merida1 | OS X 10.11.6 El Capitan / x86_64 | ERROR | ERROR | skipped | skipped |
| Package: chroGPS |
| Version: 2.4.0 |
| Command: rm -rf chroGPS.buildbin-libdir && mkdir chroGPS.buildbin-libdir && C:\Users\biocbuild\bbs-3.10-bioc\R\bin\R.exe CMD INSTALL --merge-multiarch --build --library=chroGPS.buildbin-libdir chroGPS_2.4.0.tar.gz |
| StartedAt: 2019-12-19 08:45:56 -0500 (Thu, 19 Dec 2019) |
| EndedAt: 2019-12-19 08:47:04 -0500 (Thu, 19 Dec 2019) |
| EllapsedTime: 68.3 seconds |
| RetCode: 0 |
| Status: OK |
| PackageFile: chroGPS_2.4.0.zip |
| PackageFileSize: 4.181 MiB |
##############################################################################
##############################################################################
###
### Running command:
###
### rm -rf chroGPS.buildbin-libdir && mkdir chroGPS.buildbin-libdir && C:\Users\biocbuild\bbs-3.10-bioc\R\bin\R.exe CMD INSTALL --merge-multiarch --build --library=chroGPS.buildbin-libdir chroGPS_2.4.0.tar.gz
###
##############################################################################
##############################################################################
install for i386
* installing *source* package 'chroGPS' ...
** using staged installation
** R
** data
** inst
** byte-compile and prepare package for lazy loading
** help
*** installing help indices
converting help for package 'chroGPS'
finding HTML links ... done
addVar html
adjustPeaks html
bg3 html
boostMDS html
clusGPS-class html
clusGPS html
combineGenesMatrix html
diffFactors html
diffGenes html
distGPS-class html
distGPS html
domainDist html
geneSetGPS html
getURL html
gff2RDList html
gps2xgmml html
mds-class html
mds html
mergeClusters html
mergeReplicates html
procrustesAdj html
profileClusters html
rankFactorsbyDomain html
rankFactorsbyProfile html
s2 html
splitDistGPS-class html
** building package indices
** installing vignettes
** testing if installed package can be loaded from temporary location
** testing if installed package can be loaded from final location
** testing if installed package keeps a record of temporary installation path
install for x64
* installing *source* package 'chroGPS' ...
** testing if installed package can be loaded
* MD5 sums
packaged installation of 'chroGPS' as chroGPS_2.4.0.zip
* DONE (chroGPS)