| Back to Multiple platform build/check report for BioC 3.10 | 
 | 
This page was generated on 2020-04-15 12:38:13 -0400 (Wed, 15 Apr 2020).
| Package 283/1823 | Hostname | OS / Arch | INSTALL | BUILD | CHECK | BUILD BIN | ||||||
| chroGPS 2.4.0 Oscar Reina 
 | malbec1 | Linux (Ubuntu 18.04.4 LTS) / x86_64 | ERROR | ERROR | skipped | |||||||
| tokay1 | Windows Server 2012 R2 Standard / x64 | ERROR | ERROR | skipped | skipped | |||||||
| merida1 | OS X 10.11.6 El Capitan / x86_64 | ERROR | [ ERROR ] | skipped | skipped | 
| Package: chroGPS | 
| Version: 2.4.0 | 
| Command: /Library/Frameworks/R.framework/Versions/Current/Resources/bin/R CMD build --keep-empty-dirs --no-resave-data chroGPS | 
| StartedAt: 2020-04-14 20:42:15 -0400 (Tue, 14 Apr 2020) | 
| EndedAt: 2020-04-14 20:42:20 -0400 (Tue, 14 Apr 2020) | 
| EllapsedTime: 4.9 seconds | 
| RetCode: 1 | 
| Status: ERROR | 
| PackageFile: None | 
| PackageFileSize: NA | 
##############################################################################
##############################################################################
###
### Running command:
###
###   /Library/Frameworks/R.framework/Versions/Current/Resources/bin/R CMD build --keep-empty-dirs --no-resave-data chroGPS
###
##############################################################################
##############################################################################
* checking for file ‘chroGPS/DESCRIPTION’ ... OK
* preparing ‘chroGPS’:
* checking DESCRIPTION meta-information ... OK
* installing the package to build vignettes
      -----------------------------------
ERROR: dependency ‘DPpackage’ is not available for package ‘chroGPS’
* removing ‘/private/tmp/Rtmp7CEOxF/Rinst1349458cd28b3/chroGPS’
      -----------------------------------
ERROR: package installation failed