| Back to Multiple platform build/check report for BioC 3.10 | 
 | 
This page was generated on 2020-04-15 12:27:29 -0400 (Wed, 15 Apr 2020).
| Package 68/1823 | Hostname | OS / Arch | INSTALL | BUILD | CHECK | BUILD BIN | ||||||
| annotatr 1.12.1 Raymond G. Cavalcante 
 | malbec1 | Linux (Ubuntu 18.04.4 LTS) / x86_64 | OK | OK | OK |  | ||||||
| tokay1 | Windows Server 2012 R2 Standard / x64 | [ OK ] | OK | OK | OK |  | ||||||
| merida1 | OS X 10.11.6 El Capitan / x86_64 | OK | OK | OK | OK |  | 
| Package: annotatr | 
| Version: 1.12.1 | 
| Command: C:\cygwin\bin\curl.exe -O https://malbec1.bioconductor.org/BBS/3.10/bioc/src/contrib/annotatr_1.12.1.tar.gz && rm -rf annotatr.buildbin-libdir && mkdir annotatr.buildbin-libdir && C:\Users\biocbuild\bbs-3.10-bioc\R\bin\R.exe CMD INSTALL --merge-multiarch --build --library=annotatr.buildbin-libdir annotatr_1.12.1.tar.gz && C:\Users\biocbuild\bbs-3.10-bioc\R\bin\R.exe CMD INSTALL annotatr_1.12.1.zip && rm annotatr_1.12.1.tar.gz annotatr_1.12.1.zip | 
| StartedAt: 2020-04-14 19:57:13 -0400 (Tue, 14 Apr 2020) | 
| EndedAt: 2020-04-14 19:58:10 -0400 (Tue, 14 Apr 2020) | 
| EllapsedTime: 57.1 seconds | 
| RetCode: 0 | 
| Status: OK | 
##############################################################################
##############################################################################
###
### Running command:
###
###   C:\cygwin\bin\curl.exe -O https://malbec1.bioconductor.org/BBS/3.10/bioc/src/contrib/annotatr_1.12.1.tar.gz && rm -rf annotatr.buildbin-libdir && mkdir annotatr.buildbin-libdir && C:\Users\biocbuild\bbs-3.10-bioc\R\bin\R.exe CMD INSTALL --merge-multiarch --build --library=annotatr.buildbin-libdir annotatr_1.12.1.tar.gz && C:\Users\biocbuild\bbs-3.10-bioc\R\bin\R.exe CMD INSTALL annotatr_1.12.1.zip && rm annotatr_1.12.1.tar.gz annotatr_1.12.1.zip
###
##############################################################################
##############################################################################
  % Total    % Received % Xferd  Average Speed   Time    Time     Time  Current
                                 Dload  Upload   Total   Spent    Left  Speed
  0     0    0     0    0     0      0      0 --:--:-- --:--:-- --:--:--     0
100 1466k  100 1466k    0     0  4202k      0 --:--:-- --:--:-- --:--:-- 4251k
install for i386
* installing *source* package 'annotatr' ...
** using staged installation
** R
** data
*** moving datasets to lazyload DB
** inst
** byte-compile and prepare package for lazy loading
** help
*** installing help indices
  converting help for package 'annotatr'
    finding HTML links ... done
    annotate_regions                        html  
    annotations                             html  
    annotatr                                html  
    annotatr_cache                          html  
    build_ah_annots                         html  
    build_annotations                       html  
    build_cpg_annots                        html  
    build_enhancer_annots                   html  
    build_gene_annots                       html  
    build_hmm_annots                        html  
    build_lncrna_annots                     html  
    builtin_annotations                     html  
    builtin_genomes                         html  
    check_annotations                       html  
    expand_annotations                      html  
    get_cellline_from_code                  html  
    get_cellline_from_shortcut              html  
    get_orgdb_name                          html  
    get_txdb_name                           html  
    plot_annotation                         html  
    plot_categorical                        html  
    plot_coannotations                      html  
    plot_numerical                          html  
    plot_numerical_coannotations            html  
    randomize_regions                       html  
    read_annotations                        html  
    read_regions                            html  
    reformat_hmm_codes                      html  
    subset_order_tbl                        html  
    summarize_annotations                   html  
    summarize_categorical                   html  
    summarize_numerical                     html  
    tidy_annotations                        html  
** building package indices
** installing vignettes
** testing if installed package can be loaded from temporary location
** testing if installed package can be loaded from final location
** testing if installed package keeps a record of temporary installation path
install for x64
* installing *source* package 'annotatr' ...
** testing if installed package can be loaded
* MD5 sums
packaged installation of 'annotatr' as annotatr_1.12.1.zip
* DONE (annotatr)
* installing to library 'C:/Users/biocbuild/bbs-3.10-bioc/R/library'
package 'annotatr' successfully unpacked and MD5 sums checked