| Back to Multiple platform build/check report for BioC 3.10 | 
 | 
This page was generated on 2020-04-15 12:27:29 -0400 (Wed, 15 Apr 2020).
| Package 68/1823 | Hostname | OS / Arch | INSTALL | BUILD | CHECK | BUILD BIN | ||||||
| annotatr 1.12.1 Raymond G. Cavalcante 
 | malbec1 | Linux (Ubuntu 18.04.4 LTS) / x86_64 | OK | OK | OK |  | ||||||
| tokay1 | Windows Server 2012 R2 Standard / x64 | OK | OK | [ OK ] | OK |  | ||||||
| merida1 | OS X 10.11.6 El Capitan / x86_64 | OK | OK | OK | OK |  | 
| Package: annotatr | 
| Version: 1.12.1 | 
| Command: C:\Users\biocbuild\bbs-3.10-bioc\R\bin\R.exe CMD check --force-multiarch --install=check:annotatr.install-out.txt --library=C:\Users\biocbuild\bbs-3.10-bioc\R\library --no-vignettes --timings annotatr_1.12.1.tar.gz | 
| StartedAt: 2020-04-15 01:16:32 -0400 (Wed, 15 Apr 2020) | 
| EndedAt: 2020-04-15 01:25:37 -0400 (Wed, 15 Apr 2020) | 
| EllapsedTime: 545.0 seconds | 
| RetCode: 0 | 
| Status: OK | 
| CheckDir: annotatr.Rcheck | 
| Warnings: 0 | 
##############################################################################
##############################################################################
###
### Running command:
###
###   C:\Users\biocbuild\bbs-3.10-bioc\R\bin\R.exe CMD check --force-multiarch --install=check:annotatr.install-out.txt --library=C:\Users\biocbuild\bbs-3.10-bioc\R\library --no-vignettes --timings annotatr_1.12.1.tar.gz
###
##############################################################################
##############################################################################
* using log directory 'C:/Users/biocbuild/bbs-3.10-bioc/meat/annotatr.Rcheck'
* using R version 3.6.3 (2020-02-29)
* using platform: x86_64-w64-mingw32 (64-bit)
* using session charset: ISO8859-1
* using option '--no-vignettes'
* checking for file 'annotatr/DESCRIPTION' ... OK
* this is package 'annotatr' version '1.12.1'
* checking package namespace information ... OK
* checking package dependencies ... OK
* checking if this is a source package ... OK
* checking if there is a namespace ... OK
* checking for hidden files and directories ... OK
* checking for portable file names ... OK
* checking whether package 'annotatr' can be installed ... OK
* checking installed package size ... OK
* checking package directory ... OK
* checking 'build' directory ... OK
* checking DESCRIPTION meta-information ... OK
* checking top-level files ... OK
* checking for left-over files ... OK
* checking index information ... OK
* checking package subdirectories ... OK
* checking R files for non-ASCII characters ... OK
* checking R files for syntax errors ... OK
* loading checks for arch 'i386'
** checking whether the package can be loaded ... OK
** checking whether the package can be loaded with stated dependencies ... OK
** checking whether the package can be unloaded cleanly ... OK
** checking whether the namespace can be loaded with stated dependencies ... OK
** checking whether the namespace can be unloaded cleanly ... OK
* loading checks for arch 'x64'
** checking whether the package can be loaded ... OK
** checking whether the package can be loaded with stated dependencies ... OK
** checking whether the package can be unloaded cleanly ... OK
** checking whether the namespace can be loaded with stated dependencies ... OK
** checking whether the namespace can be unloaded cleanly ... OK
* checking dependencies in R code ... OK
* checking S3 generic/method consistency ... OK
* checking replacement functions ... OK
* checking foreign function calls ... OK
* checking R code for possible problems ... NOTE
plot_coannotations: no visible binding for global variable '.'
plot_numerical_coannotations: no visible binding for global variable
  '.'
Undefined global functions or variables:
  .
* checking Rd files ... OK
* checking Rd metadata ... OK
* checking Rd cross-references ... OK
* checking for missing documentation entries ... OK
* checking for code/documentation mismatches ... OK
* checking Rd \usage sections ... OK
* checking Rd contents ... OK
* checking for unstated dependencies in examples ... OK
* checking contents of 'data' directory ... OK
* checking data for non-ASCII characters ... OK
* checking data for ASCII and uncompressed saves ... OK
* checking files in 'vignettes' ... OK
* checking examples ...
** running examples for arch 'i386' ... OK
Examples with CPU or elapsed time > 5s
                 user system elapsed
build_ah_annots 11.28   1.73   21.56
** running examples for arch 'x64' ... OK
Examples with CPU or elapsed time > 5s
                 user system elapsed
build_ah_annots 10.75   1.31   18.94
* checking for unstated dependencies in 'tests' ... OK
* checking tests ...
** running tests for arch 'i386' ...
  Running 'testthat.R'
 OK
** running tests for arch 'x64' ...
  Running 'testthat.R'
 OK
* checking for unstated dependencies in vignettes ... OK
* checking package vignettes in 'inst/doc' ... OK
* checking running R code from vignettes ... SKIPPED
* checking re-building of vignette outputs ... SKIPPED
* checking PDF version of manual ... OK
* DONE
Status: 1 NOTE
See
  'C:/Users/biocbuild/bbs-3.10-bioc/meat/annotatr.Rcheck/00check.log'
for details.
annotatr.Rcheck/00install.out
##############################################################################
##############################################################################
###
### Running command:
###
###   C:\cygwin\bin\curl.exe -O https://malbec1.bioconductor.org/BBS/3.10/bioc/src/contrib/annotatr_1.12.1.tar.gz && rm -rf annotatr.buildbin-libdir && mkdir annotatr.buildbin-libdir && C:\Users\biocbuild\bbs-3.10-bioc\R\bin\R.exe CMD INSTALL --merge-multiarch --build --library=annotatr.buildbin-libdir annotatr_1.12.1.tar.gz && C:\Users\biocbuild\bbs-3.10-bioc\R\bin\R.exe CMD INSTALL annotatr_1.12.1.zip && rm annotatr_1.12.1.tar.gz annotatr_1.12.1.zip
###
##############################################################################
##############################################################################
  % Total    % Received % Xferd  Average Speed   Time    Time     Time  Current
                                 Dload  Upload   Total   Spent    Left  Speed
  0     0    0     0    0     0      0      0 --:--:-- --:--:-- --:--:--     0
100 1466k  100 1466k    0     0  4202k      0 --:--:-- --:--:-- --:--:-- 4251k
install for i386
* installing *source* package 'annotatr' ...
** using staged installation
** R
** data
*** moving datasets to lazyload DB
** inst
** byte-compile and prepare package for lazy loading
** help
*** installing help indices
  converting help for package 'annotatr'
    finding HTML links ... done
    annotate_regions                        html  
    annotations                             html  
    annotatr                                html  
    annotatr_cache                          html  
    build_ah_annots                         html  
    build_annotations                       html  
    build_cpg_annots                        html  
    build_enhancer_annots                   html  
    build_gene_annots                       html  
    build_hmm_annots                        html  
    build_lncrna_annots                     html  
    builtin_annotations                     html  
    builtin_genomes                         html  
    check_annotations                       html  
    expand_annotations                      html  
    get_cellline_from_code                  html  
    get_cellline_from_shortcut              html  
    get_orgdb_name                          html  
    get_txdb_name                           html  
    plot_annotation                         html  
    plot_categorical                        html  
    plot_coannotations                      html  
    plot_numerical                          html  
    plot_numerical_coannotations            html  
    randomize_regions                       html  
    read_annotations                        html  
    read_regions                            html  
    reformat_hmm_codes                      html  
    subset_order_tbl                        html  
    summarize_annotations                   html  
    summarize_categorical                   html  
    summarize_numerical                     html  
    tidy_annotations                        html  
** building package indices
** installing vignettes
** testing if installed package can be loaded from temporary location
** testing if installed package can be loaded from final location
** testing if installed package keeps a record of temporary installation path
install for x64
* installing *source* package 'annotatr' ...
** testing if installed package can be loaded
* MD5 sums
packaged installation of 'annotatr' as annotatr_1.12.1.zip
* DONE (annotatr)
* installing to library 'C:/Users/biocbuild/bbs-3.10-bioc/R/library'
package 'annotatr' successfully unpacked and MD5 sums checked
| annotatr.Rcheck/tests_i386/testthat.Rout 
R version 3.6.3 (2020-02-29) -- "Holding the Windsock"
Copyright (C) 2020 The R Foundation for Statistical Computing
Platform: i386-w64-mingw32/i386 (32-bit)
R is free software and comes with ABSOLUTELY NO WARRANTY.
You are welcome to redistribute it under certain conditions.
Type 'license()' or 'licence()' for distribution details.
R is a collaborative project with many contributors.
Type 'contributors()' for more information and
'citation()' on how to cite R or R packages in publications.
Type 'demo()' for some demos, 'help()' for on-line help, or
'help.start()' for an HTML browser interface to help.
Type 'q()' to quit R.
> library(testthat)
> library(annotatr)
> 
> test_check("annotatr")
== testthat results  ===========================================================
[ OK: 72 | SKIPPED: 0 | WARNINGS: 0 | FAILED: 0 ]
> 
> proc.time()
   user  system elapsed 
  40.14    3.45   72.95 
 | annotatr.Rcheck/tests_x64/testthat.Rout 
R version 3.6.3 (2020-02-29) -- "Holding the Windsock"
Copyright (C) 2020 The R Foundation for Statistical Computing
Platform: x86_64-w64-mingw32/x64 (64-bit)
R is free software and comes with ABSOLUTELY NO WARRANTY.
You are welcome to redistribute it under certain conditions.
Type 'license()' or 'licence()' for distribution details.
R is a collaborative project with many contributors.
Type 'contributors()' for more information and
'citation()' on how to cite R or R packages in publications.
Type 'demo()' for some demos, 'help()' for on-line help, or
'help.start()' for an HTML browser interface to help.
Type 'q()' to quit R.
> library(testthat)
> library(annotatr)
> 
> test_check("annotatr")
== testthat results  ===========================================================
[ OK: 72 | SKIPPED: 0 | WARNINGS: 0 | FAILED: 0 ]
> 
> proc.time()
   user  system elapsed 
  44.40    2.73   81.98 
 | 
| annotatr.Rcheck/examples_i386/annotatr-Ex.timings 
 | annotatr.Rcheck/examples_x64/annotatr-Ex.timings 
 |