| Back to Multiple platform build/check report for BioC 3.10 | 
 | 
This page was generated on 2020-04-15 12:17:39 -0400 (Wed, 15 Apr 2020).
| Package 1774/1823 | Hostname | OS / Arch | INSTALL | BUILD | CHECK | BUILD BIN | ||||||
| TypeInfo 1.52.0 Duncan Temple Lang 
 | malbec1 | Linux (Ubuntu 18.04.4 LTS) / x86_64 | OK | OK | OK |  | ||||||
| tokay1 | Windows Server 2012 R2 Standard / x64 | [ OK ] | OK | OK | OK |  | ||||||
| merida1 | OS X 10.11.6 El Capitan / x86_64 | OK | OK | OK | OK |  | 
| Package: TypeInfo | 
| Version: 1.52.0 | 
| Command: C:\cygwin\bin\curl.exe -O https://malbec1.bioconductor.org/BBS/3.10/bioc/src/contrib/TypeInfo_1.52.0.tar.gz && rm -rf TypeInfo.buildbin-libdir && mkdir TypeInfo.buildbin-libdir && C:\Users\biocbuild\bbs-3.10-bioc\R\bin\R.exe CMD INSTALL --merge-multiarch --build --library=TypeInfo.buildbin-libdir TypeInfo_1.52.0.tar.gz && C:\Users\biocbuild\bbs-3.10-bioc\R\bin\R.exe CMD INSTALL TypeInfo_1.52.0.zip && rm TypeInfo_1.52.0.tar.gz TypeInfo_1.52.0.zip | 
| StartedAt: 2020-04-14 18:40:33 -0400 (Tue, 14 Apr 2020) | 
| EndedAt: 2020-04-14 18:40:58 -0400 (Tue, 14 Apr 2020) | 
| EllapsedTime: 25.4 seconds | 
| RetCode: 0 | 
| Status: OK | 
##############################################################################
##############################################################################
###
### Running command:
###
###   C:\cygwin\bin\curl.exe -O https://malbec1.bioconductor.org/BBS/3.10/bioc/src/contrib/TypeInfo_1.52.0.tar.gz && rm -rf TypeInfo.buildbin-libdir && mkdir TypeInfo.buildbin-libdir && C:\Users\biocbuild\bbs-3.10-bioc\R\bin\R.exe CMD INSTALL --merge-multiarch --build --library=TypeInfo.buildbin-libdir TypeInfo_1.52.0.tar.gz && C:\Users\biocbuild\bbs-3.10-bioc\R\bin\R.exe CMD INSTALL TypeInfo_1.52.0.zip && rm TypeInfo_1.52.0.tar.gz TypeInfo_1.52.0.zip
###
##############################################################################
##############################################################################
  % Total    % Received % Xferd  Average Speed   Time    Time     Time  Current
                                 Dload  Upload   Total   Spent    Left  Speed
  0     0    0     0    0     0      0      0 --:--:-- --:--:-- --:--:--     0
100 33044  100 33044    0     0   734k      0 --:--:-- --:--:-- --:--:--  827k
install for i386
* installing *source* package 'TypeInfo' ...
** using staged installation
** R
** byte-compile and prepare package for lazy loading
** help
*** installing help indices
  converting help for package 'TypeInfo'
    finding HTML links ... done
    ClassNameOrExpression-class             html  
    DynamicTypeTest-class                   html  
    IndependentTypeSpecification-class      html  
    IndependentTypeSpecification            html  
    NamedTypeTest-class                     html  
    ReturnTypeSpecification                 html  
    SimultaneousTypeSpecification           html  
    TypedSignature-class                    html  
    TypedSignature                          html  
    checkArgs                               html  
    checkReturnValue                        html  
    hasParameterType                        html  
    paramNames                              html  
    rewriteTypeCheck                        html  
    showTypeInfo                            html  
    typeInfo                                html  
** building package indices
** installing vignettes
** testing if installed package can be loaded from temporary location
** testing if installed package can be loaded from final location
** testing if installed package keeps a record of temporary installation path
install for x64
* installing *source* package 'TypeInfo' ...
** testing if installed package can be loaded
* MD5 sums
packaged installation of 'TypeInfo' as TypeInfo_1.52.0.zip
* DONE (TypeInfo)
* installing to library 'C:/Users/biocbuild/bbs-3.10-bioc/R/library'
package 'TypeInfo' successfully unpacked and MD5 sums checked