| Back to Multiple platform build/check report for BioC 3.10 | 
  | 
This page was generated on 2020-04-15 12:34:44 -0400 (Wed, 15 Apr 2020).
| Package 1774/1823 | Hostname | OS / Arch | INSTALL | BUILD | CHECK | BUILD BIN | ||||||
| TypeInfo 1.52.0 Duncan Temple Lang 
  | malbec1 | Linux (Ubuntu 18.04.4 LTS) / x86_64 | OK | OK | OK | |||||||
| tokay1 | Windows Server 2012 R2 Standard / x64 | OK | OK | OK | OK | |||||||
| merida1 | OS X 10.11.6 El Capitan / x86_64 | OK | [ OK ] | OK | OK | 
| Package: TypeInfo | 
| Version: 1.52.0 | 
| Command: /Library/Frameworks/R.framework/Versions/Current/Resources/bin/R CMD build --keep-empty-dirs --no-resave-data TypeInfo | 
| StartedAt: 2020-04-14 19:54:40 -0400 (Tue, 14 Apr 2020) | 
| EndedAt: 2020-04-14 19:55:00 -0400 (Tue, 14 Apr 2020) | 
| EllapsedTime: 19.5 seconds | 
| RetCode: 0 | 
| Status: OK | 
| PackageFile: TypeInfo_1.52.0.tar.gz | 
| PackageFileSize: 176.7 KiB | 
############################################################################## ############################################################################## ### ### Running command: ### ### /Library/Frameworks/R.framework/Versions/Current/Resources/bin/R CMD build --keep-empty-dirs --no-resave-data TypeInfo ### ############################################################################## ############################################################################## * checking for file ‘TypeInfo/DESCRIPTION’ ... OK * preparing ‘TypeInfo’: * checking DESCRIPTION meta-information ... OK * installing the package to build vignettes * creating vignettes ... OK * checking for LF line-endings in source and make files and shell scripts * checking for empty or unneeded directories * building ‘TypeInfo_1.52.0.tar.gz’