| Back to Multiple platform build/check report for BioC 3.10 | 
 | 
This page was generated on 2020-04-15 12:18:57 -0400 (Wed, 15 Apr 2020).
| Package 1488/1823 | Hostname | OS / Arch | INSTALL | BUILD | CHECK | BUILD BIN | ||||||
| RTCA 1.38.0 Jitao David Zhang 
 | malbec1 | Linux (Ubuntu 18.04.4 LTS) / x86_64 | OK | OK | WARNINGS |  | ||||||
| tokay1 | Windows Server 2012 R2 Standard / x64 | [ OK ] | OK | WARNINGS | OK |  | ||||||
| merida1 | OS X 10.11.6 El Capitan / x86_64 | OK | OK | WARNINGS | OK |  | 
| Package: RTCA | 
| Version: 1.38.0 | 
| Command: C:\cygwin\bin\curl.exe -O https://malbec1.bioconductor.org/BBS/3.10/bioc/src/contrib/RTCA_1.38.0.tar.gz && rm -rf RTCA.buildbin-libdir && mkdir RTCA.buildbin-libdir && C:\Users\biocbuild\bbs-3.10-bioc\R\bin\R.exe CMD INSTALL --merge-multiarch --build --library=RTCA.buildbin-libdir RTCA_1.38.0.tar.gz && C:\Users\biocbuild\bbs-3.10-bioc\R\bin\R.exe CMD INSTALL RTCA_1.38.0.zip && rm RTCA_1.38.0.tar.gz RTCA_1.38.0.zip | 
| StartedAt: 2020-04-14 18:38:17 -0400 (Tue, 14 Apr 2020) | 
| EndedAt: 2020-04-14 18:38:50 -0400 (Tue, 14 Apr 2020) | 
| EllapsedTime: 33.9 seconds | 
| RetCode: 0 | 
| Status: OK | 
##############################################################################
##############################################################################
###
### Running command:
###
###   C:\cygwin\bin\curl.exe -O https://malbec1.bioconductor.org/BBS/3.10/bioc/src/contrib/RTCA_1.38.0.tar.gz && rm -rf RTCA.buildbin-libdir && mkdir RTCA.buildbin-libdir && C:\Users\biocbuild\bbs-3.10-bioc\R\bin\R.exe CMD INSTALL --merge-multiarch --build --library=RTCA.buildbin-libdir RTCA_1.38.0.tar.gz && C:\Users\biocbuild\bbs-3.10-bioc\R\bin\R.exe CMD INSTALL RTCA_1.38.0.zip && rm RTCA_1.38.0.tar.gz RTCA_1.38.0.zip
###
##############################################################################
##############################################################################
  % Total    % Received % Xferd  Average Speed   Time    Time     Time  Current
                                 Dload  Upload   Total   Spent    Left  Speed
  0     0    0     0    0     0      0      0 --:--:-- --:--:-- --:--:--     0
100 56905  100 56905    0     0  1004k      0 --:--:-- --:--:-- --:--:-- 1068k
install for i386
* installing *source* package 'RTCA' ...
** using staged installation
** R
** inst
** byte-compile and prepare package for lazy loading
** help
*** installing help indices
  converting help for package 'RTCA'
    finding HTML links ... done
    RTCA-class                              html  
    finding level-2 HTML links ... done
    RTCAtimeline-class                      html  
    alphaNames                              html  
    combineRTCA                             html  
    controlView                             html  
    derivativeTransform                     html  
    factor2numeric                          html  
    interpolationTransform                  html  
    nearestTimeIndex                        html  
    parseRTCA                               html  
    plateView                               html  
    plotGridEffect                          html  
    ratioTransform                          html  
    rgrTransform                            html  
    sliceRTCA                               html  
    smoothTransform                         html  
    spectramaxImport                        html  
** building package indices
** installing vignettes
** testing if installed package can be loaded from temporary location
** testing if installed package can be loaded from final location
** testing if installed package keeps a record of temporary installation path
install for x64
* installing *source* package 'RTCA' ...
** testing if installed package can be loaded
* MD5 sums
packaged installation of 'RTCA' as RTCA_1.38.0.zip
* DONE (RTCA)
* installing to library 'C:/Users/biocbuild/bbs-3.10-bioc/R/library'
package 'RTCA' successfully unpacked and MD5 sums checked