| Back to Multiple platform build/check report for BioC 3.10 |
|
This page was generated on 2020-04-15 12:18:58 -0400 (Wed, 15 Apr 2020).
| Package 1488/1823 | Hostname | OS / Arch | INSTALL | BUILD | CHECK | BUILD BIN | ||||||
| RTCA 1.38.0 Jitao David Zhang
| malbec1 | Linux (Ubuntu 18.04.4 LTS) / x86_64 | OK | OK | WARNINGS | |||||||
| tokay1 | Windows Server 2012 R2 Standard / x64 | OK | OK | WARNINGS | [ OK ] | |||||||
| merida1 | OS X 10.11.6 El Capitan / x86_64 | OK | OK | WARNINGS | OK |
| Package: RTCA |
| Version: 1.38.0 |
| Command: rm -rf RTCA.buildbin-libdir && mkdir RTCA.buildbin-libdir && C:\Users\biocbuild\bbs-3.10-bioc\R\bin\R.exe CMD INSTALL --merge-multiarch --build --library=RTCA.buildbin-libdir RTCA_1.38.0.tar.gz |
| StartedAt: 2020-04-15 09:35:59 -0400 (Wed, 15 Apr 2020) |
| EndedAt: 2020-04-15 09:36:37 -0400 (Wed, 15 Apr 2020) |
| EllapsedTime: 38.6 seconds |
| RetCode: 0 |
| Status: OK |
| PackageFile: RTCA_1.38.0.zip |
| PackageFileSize: 647.5 KiB |
##############################################################################
##############################################################################
###
### Running command:
###
### rm -rf RTCA.buildbin-libdir && mkdir RTCA.buildbin-libdir && C:\Users\biocbuild\bbs-3.10-bioc\R\bin\R.exe CMD INSTALL --merge-multiarch --build --library=RTCA.buildbin-libdir RTCA_1.38.0.tar.gz
###
##############################################################################
##############################################################################
install for i386
* installing *source* package 'RTCA' ...
** using staged installation
** R
** inst
** byte-compile and prepare package for lazy loading
** help
*** installing help indices
converting help for package 'RTCA'
finding HTML links ... done
RTCA-class html
finding level-2 HTML links ... done
RTCAtimeline-class html
alphaNames html
combineRTCA html
controlView html
derivativeTransform html
factor2numeric html
interpolationTransform html
nearestTimeIndex html
parseRTCA html
plateView html
plotGridEffect html
ratioTransform html
rgrTransform html
sliceRTCA html
smoothTransform html
spectramaxImport html
** building package indices
** installing vignettes
** testing if installed package can be loaded from temporary location
** testing if installed package can be loaded from final location
** testing if installed package keeps a record of temporary installation path
install for x64
* installing *source* package 'RTCA' ...
** testing if installed package can be loaded
* MD5 sums
packaged installation of 'RTCA' as RTCA_1.38.0.zip
* DONE (RTCA)