| Back to Multiple platform build/check report for BioC 3.10 | 
 | 
This page was generated on 2020-04-15 12:44:26 -0400 (Wed, 15 Apr 2020).
| Package 1122/1823 | Hostname | OS / Arch | INSTALL | BUILD | CHECK | BUILD BIN | ||||||
| MutationalPatterns 1.12.0 Roel Janssen 
 | malbec1 | Linux (Ubuntu 18.04.4 LTS) / x86_64 | OK | OK | OK |  | ||||||
| tokay1 | Windows Server 2012 R2 Standard / x64 | OK | OK | OK | OK |  | ||||||
| merida1 | OS X 10.11.6 El Capitan / x86_64 | OK | OK | [ OK ] | OK |  | 
| Package: MutationalPatterns | 
| Version: 1.12.0 | 
| Command: /Library/Frameworks/R.framework/Versions/Current/Resources/bin/R CMD check --install=check:MutationalPatterns.install-out.txt --library=/Library/Frameworks/R.framework/Versions/Current/Resources/library --no-vignettes --timings MutationalPatterns_1.12.0.tar.gz | 
| StartedAt: 2020-04-15 04:09:41 -0400 (Wed, 15 Apr 2020) | 
| EndedAt: 2020-04-15 04:16:47 -0400 (Wed, 15 Apr 2020) | 
| EllapsedTime: 426.5 seconds | 
| RetCode: 0 | 
| Status: OK | 
| CheckDir: MutationalPatterns.Rcheck | 
| Warnings: 0 | 
##############################################################################
##############################################################################
###
### Running command:
###
###   /Library/Frameworks/R.framework/Versions/Current/Resources/bin/R CMD check --install=check:MutationalPatterns.install-out.txt --library=/Library/Frameworks/R.framework/Versions/Current/Resources/library --no-vignettes --timings MutationalPatterns_1.12.0.tar.gz
###
##############################################################################
##############################################################################
* using log directory ‘/Users/biocbuild/bbs-3.10-bioc/meat/MutationalPatterns.Rcheck’
* using R version 3.6.3 (2020-02-29)
* using platform: x86_64-apple-darwin15.6.0 (64-bit)
* using session charset: UTF-8
* using option ‘--no-vignettes’
* checking for file ‘MutationalPatterns/DESCRIPTION’ ... OK
* checking extension type ... Package
* this is package ‘MutationalPatterns’ version ‘1.12.0’
* package encoding: UTF-8
* checking package namespace information ... OK
* checking package dependencies ... OK
* checking if this is a source package ... OK
* checking if there is a namespace ... OK
* checking for hidden files and directories ... OK
* checking for portable file names ... OK
* checking for sufficient/correct file permissions ... OK
* checking whether package ‘MutationalPatterns’ can be installed ... OK
* checking installed package size ... OK
* checking package directory ... OK
* checking ‘build’ directory ... OK
* checking DESCRIPTION meta-information ... OK
* checking top-level files ... OK
* checking for left-over files ... OK
* checking index information ... OK
* checking package subdirectories ... OK
* checking R files for non-ASCII characters ... OK
* checking R files for syntax errors ... OK
* checking whether the package can be loaded ... OK
* checking whether the package can be loaded with stated dependencies ... OK
* checking whether the package can be unloaded cleanly ... OK
* checking whether the namespace can be loaded with stated dependencies ... OK
* checking whether the namespace can be unloaded cleanly ... OK
* checking dependencies in R code ... OK
* checking S3 generic/method consistency ... OK
* checking replacement functions ... OK
* checking foreign function calls ... OK
* checking R code for possible problems ... OK
* checking Rd files ... OK
* checking Rd metadata ... OK
* checking Rd cross-references ... OK
* checking for missing documentation entries ... OK
* checking for code/documentation mismatches ... OK
* checking Rd \usage sections ... OK
* checking Rd contents ... OK
* checking for unstated dependencies in examples ... OK
* checking sizes of PDF files under ‘inst/doc’ ... OK
* checking files in ‘vignettes’ ... OK
* checking examples ... OK
Examples with CPU or elapsed time > 5s
                       user system elapsed
mut_matrix_stranded  25.500 11.339   5.451
genomic_distribution 24.551  1.158  25.958
read_vcfs_as_granges 11.385  6.633   2.485
mut_matrix           11.561  5.264   2.599
plot_spectrum         9.846  0.225  10.141
mut_type_occurrences  7.274  0.305   7.652
* checking for unstated dependencies in ‘tests’ ... OK
* checking tests ...
  Running ‘testthat.R’
 OK
* checking for unstated dependencies in vignettes ... OK
* checking package vignettes in ‘inst/doc’ ... OK
* checking running R code from vignettes ... SKIPPED
* checking re-building of vignette outputs ... SKIPPED
* checking PDF version of manual ... OK
* DONE
Status: OK
MutationalPatterns.Rcheck/00install.out
############################################################################## ############################################################################## ### ### Running command: ### ### /Library/Frameworks/R.framework/Versions/Current/Resources/bin/R CMD INSTALL MutationalPatterns ### ############################################################################## ############################################################################## * installing to library ‘/Library/Frameworks/R.framework/Versions/3.6/Resources/library’ * installing *source* package ‘MutationalPatterns’ ... ** using staged installation ** R ** inst ** byte-compile and prepare package for lazy loading ** help *** installing help indices ** building package indices ** installing vignettes ** testing if installed package can be loaded from temporary location ** testing if installed package can be loaded from final location ** testing if installed package keeps a record of temporary installation path * DONE (MutationalPatterns)
MutationalPatterns.Rcheck/tests/testthat.Rout
R version 3.6.3 (2020-02-29) -- "Holding the Windsock"
Copyright (C) 2020 The R Foundation for Statistical Computing
Platform: x86_64-apple-darwin15.6.0 (64-bit)
R is free software and comes with ABSOLUTELY NO WARRANTY.
You are welcome to redistribute it under certain conditions.
Type 'license()' or 'licence()' for distribution details.
R is a collaborative project with many contributors.
Type 'contributors()' for more information and
'citation()' on how to cite R or R packages in publications.
Type 'demo()' for some demos, 'help()' for on-line help, or
'help.start()' for an HTML browser interface to help.
Type 'q()' to quit R.
> library(testthat)
> library(MutationalPatterns)
Loading required package: GenomicRanges
Loading required package: stats4
Loading required package: BiocGenerics
Loading required package: parallel
Attaching package: 'BiocGenerics'
The following objects are masked from 'package:parallel':
    clusterApply, clusterApplyLB, clusterCall, clusterEvalQ,
    clusterExport, clusterMap, parApply, parCapply, parLapply,
    parLapplyLB, parRapply, parSapply, parSapplyLB
The following objects are masked from 'package:stats':
    IQR, mad, sd, var, xtabs
The following objects are masked from 'package:base':
    Filter, Find, Map, Position, Reduce, anyDuplicated, append,
    as.data.frame, basename, cbind, colnames, dirname, do.call,
    duplicated, eval, evalq, get, grep, grepl, intersect, is.unsorted,
    lapply, mapply, match, mget, order, paste, pmax, pmax.int, pmin,
    pmin.int, rank, rbind, rownames, sapply, setdiff, sort, table,
    tapply, union, unique, unsplit, which, which.max, which.min
Loading required package: S4Vectors
Attaching package: 'S4Vectors'
The following object is masked from 'package:base':
    expand.grid
Loading required package: IRanges
Loading required package: GenomeInfoDb
Loading required package: NMF
Loading required package: pkgmaker
Loading required package: registry
Attaching package: 'pkgmaker'
The following object is masked from 'package:S4Vectors':
    new2
Loading required package: rngtools
Loading required package: cluster
NMF - BioConductor layer [OK] | Shared memory capabilities [NO: synchronicity] | Cores 23/24
  To enable shared memory capabilities, try: install.extras('
NMF
')
Attaching package: 'NMF'
The following object is masked from 'package:S4Vectors':
    nrun
The following object is masked from 'package:testthat':
    compare
> 
> test_check("MutationalPatterns")
══ testthat results  ═══════════════════════════════════════════════════════════
[ OK: 10 | SKIPPED: 0 | WARNINGS: 0 | FAILED: 0 ]
> 
> proc.time()
   user  system elapsed 
168.036  68.992  50.778 
MutationalPatterns.Rcheck/MutationalPatterns-Ex.timings
| name | user | system | elapsed | |
| binomial_test | 0.011 | 0.001 | 0.011 | |
| cluster_signatures | 0.037 | 0.003 | 0.041 | |
| cos_sim | 0.000 | 0.001 | 0.000 | |
| cos_sim_matrix | 0.016 | 0.002 | 0.019 | |
| enrichment_depletion_test | 0.159 | 0.020 | 0.183 | |
| explained_by_signatures | 0.017 | 0.003 | 0.019 | |
| extract_signatures | 0.001 | 0.000 | 0.002 | |
| fit_to_signatures | 0.049 | 0.008 | 0.057 | |
| genomic_distribution | 24.551 | 1.158 | 25.958 | |
| mut_context | 1.126 | 0.034 | 1.172 | |
| mut_matrix | 11.561 | 5.264 | 2.599 | |
| mut_matrix_stranded | 25.500 | 11.339 | 5.451 | |
| mut_strand | 0.282 | 0.038 | 0.319 | |
| mut_type | 0.039 | 0.005 | 0.045 | |
| mut_type_occurrences | 7.274 | 0.305 | 7.652 | |
| mutation_context | 0.863 | 0.028 | 0.901 | |
| mutation_types | 0.038 | 0.002 | 0.039 | |
| mutations_from_vcf | 0.039 | 0.000 | 0.040 | |
| plot_192_profile | 1.370 | 0.023 | 1.408 | |
| plot_96_profile | 1.470 | 0.005 | 1.491 | |
| plot_compare_profiles | 1.129 | 0.005 | 1.149 | |
| plot_contribution | 1.276 | 0.006 | 1.296 | |
| plot_contribution_heatmap | 0.751 | 0.005 | 0.764 | |
| plot_cosine_heatmap | 0.515 | 0.004 | 0.522 | |
| plot_enrichment_depletion | 3.215 | 0.012 | 3.249 | |
| plot_rainfall | 1.272 | 0.004 | 1.287 | |
| plot_signature_strand_bias | 0.571 | 0.002 | 0.575 | |
| plot_spectrum | 9.846 | 0.225 | 10.141 | |
| plot_strand | 0.224 | 0.006 | 0.233 | |
| plot_strand_bias | 0.808 | 0.008 | 0.817 | |
| read_vcfs_as_granges | 11.385 | 6.633 | 2.485 | |
| strand_bias_test | 0.235 | 0.038 | 0.275 | |
| strand_occurrences | 0.177 | 0.020 | 0.197 | |
| type_context | 0.956 | 0.059 | 1.019 | |