| Back to Multiple platform build/check report for BioC 3.10 | 
 | 
This page was generated on 2020-04-15 12:11:59 -0400 (Wed, 15 Apr 2020).
| Package 1122/1823 | Hostname | OS / Arch | INSTALL | BUILD | CHECK | BUILD BIN | ||||||
| MutationalPatterns 1.12.0 Roel Janssen 
 | malbec1 | Linux (Ubuntu 18.04.4 LTS) / x86_64 | OK | OK | [ OK ] |  | ||||||
| tokay1 | Windows Server 2012 R2 Standard / x64 | OK | OK | OK | OK |  | ||||||
| merida1 | OS X 10.11.6 El Capitan / x86_64 | OK | OK | OK | OK |  | 
| Package: MutationalPatterns | 
| Version: 1.12.0 | 
| Command: /home/biocbuild/bbs-3.10-bioc/R/bin/R CMD check --install=check:MutationalPatterns.install-out.txt --library=/home/biocbuild/bbs-3.10-bioc/R/library --no-vignettes --timings MutationalPatterns_1.12.0.tar.gz | 
| StartedAt: 2020-04-15 04:16:16 -0400 (Wed, 15 Apr 2020) | 
| EndedAt: 2020-04-15 04:23:13 -0400 (Wed, 15 Apr 2020) | 
| EllapsedTime: 416.4 seconds | 
| RetCode: 0 | 
| Status: OK | 
| CheckDir: MutationalPatterns.Rcheck | 
| Warnings: 0 | 
##############################################################################
##############################################################################
###
### Running command:
###
###   /home/biocbuild/bbs-3.10-bioc/R/bin/R CMD check --install=check:MutationalPatterns.install-out.txt --library=/home/biocbuild/bbs-3.10-bioc/R/library --no-vignettes --timings MutationalPatterns_1.12.0.tar.gz
###
##############################################################################
##############################################################################
* using log directory ‘/home/biocbuild/bbs-3.10-bioc/meat/MutationalPatterns.Rcheck’
* using R version 3.6.3 (2020-02-29)
* using platform: x86_64-pc-linux-gnu (64-bit)
* using session charset: UTF-8
* using option ‘--no-vignettes’
* checking for file ‘MutationalPatterns/DESCRIPTION’ ... OK
* checking extension type ... Package
* this is package ‘MutationalPatterns’ version ‘1.12.0’
* package encoding: UTF-8
* checking package namespace information ... OK
* checking package dependencies ... OK
* checking if this is a source package ... OK
* checking if there is a namespace ... OK
* checking for hidden files and directories ... OK
* checking for portable file names ... OK
* checking for sufficient/correct file permissions ... OK
* checking whether package ‘MutationalPatterns’ can be installed ... OK
* checking installed package size ... OK
* checking package directory ... OK
* checking ‘build’ directory ... OK
* checking DESCRIPTION meta-information ... OK
* checking top-level files ... OK
* checking for left-over files ... OK
* checking index information ... OK
* checking package subdirectories ... OK
* checking R files for non-ASCII characters ... OK
* checking R files for syntax errors ... OK
* checking whether the package can be loaded ... OK
* checking whether the package can be loaded with stated dependencies ... OK
* checking whether the package can be unloaded cleanly ... OK
* checking whether the namespace can be loaded with stated dependencies ... OK
* checking whether the namespace can be unloaded cleanly ... OK
* checking dependencies in R code ... OK
* checking S3 generic/method consistency ... OK
* checking replacement functions ... OK
* checking foreign function calls ... OK
* checking R code for possible problems ... OK
* checking Rd files ... OK
* checking Rd metadata ... OK
* checking Rd cross-references ... OK
* checking for missing documentation entries ... OK
* checking for code/documentation mismatches ... OK
* checking Rd \usage sections ... OK
* checking Rd contents ... OK
* checking for unstated dependencies in examples ... OK
* checking files in ‘vignettes’ ... OK
* checking examples ... OK
Examples with CPU or elapsed time > 5s
                       user system elapsed
genomic_distribution 23.996  0.176  24.504
mut_matrix_stranded  16.816  5.356   5.120
plot_spectrum        10.448  0.132  10.604
mut_matrix            7.884  2.516  10.025
read_vcfs_as_granges  7.476  2.888   2.230
mut_type_occurrences  7.252  0.204   7.489
* checking for unstated dependencies in ‘tests’ ... OK
* checking tests ...
  Running ‘testthat.R’
 OK
* checking for unstated dependencies in vignettes ... OK
* checking package vignettes in ‘inst/doc’ ... OK
* checking running R code from vignettes ... SKIPPED
* checking re-building of vignette outputs ... SKIPPED
* checking PDF version of manual ... OK
* DONE
Status: OK
MutationalPatterns.Rcheck/00install.out
############################################################################## ############################################################################## ### ### Running command: ### ### /home/biocbuild/bbs-3.10-bioc/R/bin/R CMD INSTALL MutationalPatterns ### ############################################################################## ############################################################################## * installing to library ‘/home/biocbuild/bbs-3.10-bioc/R/library’ * installing *source* package ‘MutationalPatterns’ ... ** using staged installation ** R ** inst ** byte-compile and prepare package for lazy loading ** help *** installing help indices ** building package indices ** installing vignettes ** testing if installed package can be loaded from temporary location ** testing if installed package can be loaded from final location ** testing if installed package keeps a record of temporary installation path * DONE (MutationalPatterns)
MutationalPatterns.Rcheck/tests/testthat.Rout
R version 3.6.3 (2020-02-29) -- "Holding the Windsock"
Copyright (C) 2020 The R Foundation for Statistical Computing
Platform: x86_64-pc-linux-gnu (64-bit)
R is free software and comes with ABSOLUTELY NO WARRANTY.
You are welcome to redistribute it under certain conditions.
Type 'license()' or 'licence()' for distribution details.
R is a collaborative project with many contributors.
Type 'contributors()' for more information and
'citation()' on how to cite R or R packages in publications.
Type 'demo()' for some demos, 'help()' for on-line help, or
'help.start()' for an HTML browser interface to help.
Type 'q()' to quit R.
> library(testthat)
> library(MutationalPatterns)
Loading required package: GenomicRanges
Loading required package: stats4
Loading required package: BiocGenerics
Loading required package: parallel
Attaching package: 'BiocGenerics'
The following objects are masked from 'package:parallel':
    clusterApply, clusterApplyLB, clusterCall, clusterEvalQ,
    clusterExport, clusterMap, parApply, parCapply, parLapply,
    parLapplyLB, parRapply, parSapply, parSapplyLB
The following objects are masked from 'package:stats':
    IQR, mad, sd, var, xtabs
The following objects are masked from 'package:base':
    Filter, Find, Map, Position, Reduce, anyDuplicated, append,
    as.data.frame, basename, cbind, colnames, dirname, do.call,
    duplicated, eval, evalq, get, grep, grepl, intersect, is.unsorted,
    lapply, mapply, match, mget, order, paste, pmax, pmax.int, pmin,
    pmin.int, rank, rbind, rownames, sapply, setdiff, sort, table,
    tapply, union, unique, unsplit, which, which.max, which.min
Loading required package: S4Vectors
Attaching package: 'S4Vectors'
The following object is masked from 'package:base':
    expand.grid
Loading required package: IRanges
Loading required package: GenomeInfoDb
Loading required package: NMF
Loading required package: pkgmaker
Loading required package: registry
Attaching package: 'pkgmaker'
The following object is masked from 'package:S4Vectors':
    new2
Loading required package: rngtools
Loading required package: cluster
NMF - BioConductor layer [OK] | Shared memory capabilities [NO: synchronicity] | Cores 19/20
  To enable shared memory capabilities, try: install.extras('
NMF
')
Attaching package: 'NMF'
The following object is masked from 'package:S4Vectors':
    nrun
The following object is masked from 'package:testthat':
    compare
> 
> test_check("MutationalPatterns")
══ testthat results  ═══════════════════════════════════════════════════════════
[ OK: 10 | SKIPPED: 0 | WARNINGS: 0 | FAILED: 0 ]
> 
> proc.time()
   user  system elapsed 
118.388  32.176  46.315 
MutationalPatterns.Rcheck/MutationalPatterns-Ex.timings
| name | user | system | elapsed | |
| binomial_test | 0.008 | 0.000 | 0.010 | |
| cluster_signatures | 0.032 | 0.000 | 0.053 | |
| cos_sim | 0.004 | 0.000 | 0.000 | |
| cos_sim_matrix | 0.012 | 0.004 | 0.022 | |
| enrichment_depletion_test | 0.136 | 0.008 | 0.147 | |
| explained_by_signatures | 0.008 | 0.008 | 0.018 | |
| extract_signatures | 0.000 | 0.000 | 0.002 | |
| fit_to_signatures | 0.056 | 0.004 | 0.059 | |
| genomic_distribution | 23.996 | 0.176 | 24.504 | |
| mut_context | 1.140 | 0.024 | 2.173 | |
| mut_matrix | 7.884 | 2.516 | 10.025 | |
| mut_matrix_stranded | 16.816 | 5.356 | 5.120 | |
| mut_strand | 0.376 | 0.012 | 0.390 | |
| mut_type | 0.052 | 0.004 | 0.057 | |
| mut_type_occurrences | 7.252 | 0.204 | 7.489 | |
| mutation_context | 0.916 | 0.000 | 0.915 | |
| mutation_types | 0.044 | 0.004 | 0.050 | |
| mutations_from_vcf | 0.044 | 0.000 | 0.048 | |
| plot_192_profile | 1.044 | 0.016 | 1.062 | |
| plot_96_profile | 1.232 | 0.000 | 1.230 | |
| plot_compare_profiles | 0.828 | 0.000 | 0.832 | |
| plot_contribution | 1.228 | 0.000 | 1.229 | |
| plot_contribution_heatmap | 0.832 | 0.000 | 0.833 | |
| plot_cosine_heatmap | 0.560 | 0.004 | 0.564 | |
| plot_enrichment_depletion | 3.348 | 0.004 | 3.353 | |
| plot_rainfall | 1.364 | 0.000 | 1.362 | |
| plot_signature_strand_bias | 0.628 | 0.000 | 0.631 | |
| plot_spectrum | 10.448 | 0.132 | 10.604 | |
| plot_strand | 0.232 | 0.000 | 0.235 | |
| plot_strand_bias | 0.712 | 0.000 | 0.712 | |
| read_vcfs_as_granges | 7.476 | 2.888 | 2.230 | |
| strand_bias_test | 0.216 | 0.036 | 0.252 | |
| strand_occurrences | 0.216 | 0.004 | 0.221 | |
| type_context | 0.936 | 0.024 | 0.965 | |