| Back to Multiple platform build/check report for BioC 3.10 |
|
This page was generated on 2020-04-15 12:44:25 -0400 (Wed, 15 Apr 2020).
| Package 1081/1823 | Hostname | OS / Arch | INSTALL | BUILD | CHECK | BUILD BIN | ||||||
| MoonlightR 1.12.0 Antonio Colaprico
| malbec1 | Linux (Ubuntu 18.04.4 LTS) / x86_64 | ERROR | ERROR | skipped | |||||||
| tokay1 | Windows Server 2012 R2 Standard / x64 | ERROR | ERROR | skipped | skipped | |||||||
| merida1 | OS X 10.11.6 El Capitan / x86_64 | ERROR | [ ERROR ] | skipped | skipped |
| Package: MoonlightR |
| Version: 1.12.0 |
| Command: /Library/Frameworks/R.framework/Versions/Current/Resources/bin/R CMD build --keep-empty-dirs --no-resave-data MoonlightR |
| StartedAt: 2020-04-14 22:19:16 -0400 (Tue, 14 Apr 2020) |
| EndedAt: 2020-04-14 22:19:44 -0400 (Tue, 14 Apr 2020) |
| EllapsedTime: 28.0 seconds |
| RetCode: 1 |
| Status: ERROR |
| PackageFile: None |
| PackageFileSize: NA |
##############################################################################
##############################################################################
###
### Running command:
###
### /Library/Frameworks/R.framework/Versions/Current/Resources/bin/R CMD build --keep-empty-dirs --no-resave-data MoonlightR
###
##############################################################################
##############################################################################
* checking for file ‘MoonlightR/DESCRIPTION’ ... OK
* preparing ‘MoonlightR’:
* checking DESCRIPTION meta-information ... OK
* installing the package to build vignettes
-----------------------------------
* installing *source* package ‘MoonlightR’ ...
** using staged installation
** R
** data
*** moving datasets to lazyload DB
** inst
** byte-compile and prepare package for lazy loading
Warning: 'rgl.init' failed, running with 'rgl.useNULL = TRUE'.
Error: object ‘TCGAanalyze_DMR’ is not exported by 'namespace:TCGAbiolinks'
Execution halted
ERROR: lazy loading failed for package ‘MoonlightR’
* removing ‘/private/tmp/RtmpTc69oW/Rinst98141cf2673/MoonlightR’
-----------------------------------
ERROR: package installation failed