| Back to Multiple platform build/check report for BioC 3.10 |
|
This page was generated on 2020-04-15 12:11:58 -0400 (Wed, 15 Apr 2020).
| Package 1081/1823 | Hostname | OS / Arch | INSTALL | BUILD | CHECK | BUILD BIN | ||||||
| MoonlightR 1.12.0 Antonio Colaprico
| malbec1 | Linux (Ubuntu 18.04.4 LTS) / x86_64 | ERROR | [ ERROR ] | skipped | |||||||
| tokay1 | Windows Server 2012 R2 Standard / x64 | ERROR | ERROR | skipped | skipped | |||||||
| merida1 | OS X 10.11.6 El Capitan / x86_64 | ERROR | ERROR | skipped | skipped |
| Package: MoonlightR |
| Version: 1.12.0 |
| Command: /home/biocbuild/bbs-3.10-bioc/R/bin/R CMD build --keep-empty-dirs --no-resave-data MoonlightR |
| StartedAt: 2020-04-14 22:14:44 -0400 (Tue, 14 Apr 2020) |
| EndedAt: 2020-04-14 22:15:05 -0400 (Tue, 14 Apr 2020) |
| EllapsedTime: 20.8 seconds |
| RetCode: 1 |
| Status: ERROR |
| PackageFile: None |
| PackageFileSize: NA |
##############################################################################
##############################################################################
###
### Running command:
###
### /home/biocbuild/bbs-3.10-bioc/R/bin/R CMD build --keep-empty-dirs --no-resave-data MoonlightR
###
##############################################################################
##############################################################################
* checking for file ‘MoonlightR/DESCRIPTION’ ... OK
* preparing ‘MoonlightR’:
* checking DESCRIPTION meta-information ... OK
* installing the package to build vignettes
-----------------------------------
* installing *source* package ‘MoonlightR’ ...
** using staged installation
** R
** data
*** moving datasets to lazyload DB
** inst
** byte-compile and prepare package for lazy loading
Error: object ‘TCGAanalyze_DMR’ is not exported by 'namespace:TCGAbiolinks'
Execution halted
ERROR: lazy loading failed for package ‘MoonlightR’
* removing ‘/tmp/RtmpMqm4Dg/Rinst5b0e6af3854/MoonlightR’
-----------------------------------
ERROR: package installation failed