| Back to Multiple platform build/check report for BioC 3.10 | 
 | 
This page was generated on 2020-04-15 12:31:57 -0400 (Wed, 15 Apr 2020).
| Package 1077/1823 | Hostname | OS / Arch | INSTALL | BUILD | CHECK | BUILD BIN | ||||||
| Modstrings 1.2.1 Felix G.M. Ernst 
 | malbec1 | Linux (Ubuntu 18.04.4 LTS) / x86_64 | OK | OK | OK |  | ||||||
| tokay1 | Windows Server 2012 R2 Standard / x64 | OK | OK | OK | [ OK ] |  | ||||||
| merida1 | OS X 10.11.6 El Capitan / x86_64 | OK | OK | OK | OK |  | 
| Package: Modstrings | 
| Version: 1.2.1 | 
| Command: rm -rf Modstrings.buildbin-libdir && mkdir Modstrings.buildbin-libdir && C:\Users\biocbuild\bbs-3.10-bioc\R\bin\R.exe CMD INSTALL --merge-multiarch --build --library=Modstrings.buildbin-libdir Modstrings_1.2.1.tar.gz | 
| StartedAt: 2020-04-15 09:12:15 -0400 (Wed, 15 Apr 2020) | 
| EndedAt: 2020-04-15 09:13:04 -0400 (Wed, 15 Apr 2020) | 
| EllapsedTime: 48.2 seconds | 
| RetCode: 0 | 
| Status: OK | 
| PackageFile: Modstrings_1.2.1.zip | 
| PackageFileSize: 1.295 MiB | 
##############################################################################
##############################################################################
###
### Running command:
###
###   rm -rf Modstrings.buildbin-libdir && mkdir Modstrings.buildbin-libdir && C:\Users\biocbuild\bbs-3.10-bioc\R\bin\R.exe CMD INSTALL --merge-multiarch --build --library=Modstrings.buildbin-libdir Modstrings_1.2.1.tar.gz
###
##############################################################################
##############################################################################
install for i386
* installing *source* package 'Modstrings' ...
** using staged installation
** R
** data
** inst
** byte-compile and prepare package for lazy loading
** help
*** installing help indices
  converting help for package 'Modstrings'
    finding HTML links ... done
    MaskedModString                         html  
    ModDNAString                            html  
    ModRNAString                            html  
    ModString                               html  
    ModStringSet-io                         html  
    ModStringSet                            html  
    ModStringSetList                        html  
    ModStringViews                          html  
    Modstrings-internals                    html  
    Modstrings                              html  
    QualityScaledModStringSet               html  
    alphabet                                html  
    letterFrequency                         html  
    modifyNucleotides                       html  
    replaceLetterAt                         html  
    sanitizeInput                           html  
    separate                                html  
** building package indices
** installing vignettes
** testing if installed package can be loaded from temporary location
** testing if installed package can be loaded from final location
** testing if installed package keeps a record of temporary installation path
install for x64
* installing *source* package 'Modstrings' ...
** testing if installed package can be loaded
* MD5 sums
packaged installation of 'Modstrings' as Modstrings_1.2.1.zip
* DONE (Modstrings)