| Back to Multiple platform build/check report for BioC 3.10 | 
 | 
This page was generated on 2020-04-15 12:48:52 -0400 (Wed, 15 Apr 2020).
| Package 1077/1823 | Hostname | OS / Arch | INSTALL | BUILD | CHECK | BUILD BIN | ||||||
| Modstrings 1.2.1 Felix G.M. Ernst 
 | malbec1 | Linux (Ubuntu 18.04.4 LTS) / x86_64 | OK | OK | OK |  | ||||||
| tokay1 | Windows Server 2012 R2 Standard / x64 | OK | OK | OK | OK |  | ||||||
| merida1 | OS X 10.11.6 El Capitan / x86_64 | OK | OK | OK | [ OK ] |  | 
| Package: Modstrings | 
| Version: 1.2.1 | 
| Command: rm -rf Modstrings.buildbin-libdir && mkdir Modstrings.buildbin-libdir && /Users/biocbuild/BBS/utils/build-universal.sh Modstrings_1.2.1.tar.gz /Library/Frameworks/R.framework/Versions/Current/Resources/bin/R Modstrings.buildbin-libdir | 
| StartedAt: 2020-04-15 08:06:07 -0400 (Wed, 15 Apr 2020) | 
| EndedAt: 2020-04-15 08:07:03 -0400 (Wed, 15 Apr 2020) | 
| EllapsedTime: 56.7 seconds | 
| RetCode: 0 | 
| Status: OK | 
| PackageFile: Modstrings_1.2.1.tgz | 
| PackageFileSize: 1.262 MiB | 
############################################################################## ############################################################################## ### ### Running command: ### ### rm -rf Modstrings.buildbin-libdir && mkdir Modstrings.buildbin-libdir && /Users/biocbuild/BBS/utils/build-universal.sh Modstrings_1.2.1.tar.gz /Library/Frameworks/R.framework/Versions/Current/Resources/bin/R Modstrings.buildbin-libdir ### ############################################################################## ############################################################################## >>>>>>> >>>>>>> INSTALLATION WITH 'R CMD INSTALL --preclean --no-multiarch --library=Modstrings.buildbin-libdir Modstrings_1.2.1.tar.gz' >>>>>>> * installing *source* package ‘Modstrings’ ... ** using staged installation ** R ** data ** inst ** byte-compile and prepare package for lazy loading ** help *** installing help indices ** building package indices ** installing vignettes ** testing if installed package can be loaded from temporary location ** testing if installed package can be loaded from final location ** testing if installed package keeps a record of temporary installation path * DONE (Modstrings)