| Back to Multiple platform build/check report for BioC 3.10 | 
  | 
This page was generated on 2020-04-15 12:26:41 -0400 (Wed, 15 Apr 2020).
| Package 1072/1823 | Hostname | OS / Arch | INSTALL | BUILD | CHECK | BUILD BIN | ||||||
| MMDiff2 1.14.0 Gabriele Schweikert 
  | malbec1 | Linux (Ubuntu 18.04.4 LTS) / x86_64 | OK | OK | OK | |||||||
| tokay1 | Windows Server 2012 R2 Standard / x64 | OK | OK | WARNINGS | [ OK ] | |||||||
| merida1 | OS X 10.11.6 El Capitan / x86_64 | OK | OK | OK | OK | 
| Package: MMDiff2 | 
| Version: 1.14.0 | 
| Command: rm -rf MMDiff2.buildbin-libdir && mkdir MMDiff2.buildbin-libdir && C:\Users\biocbuild\bbs-3.10-bioc\R\bin\R.exe --arch i386 CMD INSTALL --no-multiarch --build --library=MMDiff2.buildbin-libdir MMDiff2_1.14.0.tar.gz | 
| StartedAt: 2020-04-15 09:11:58 -0400 (Wed, 15 Apr 2020) | 
| EndedAt: 2020-04-15 09:12:43 -0400 (Wed, 15 Apr 2020) | 
| EllapsedTime: 44.8 seconds | 
| RetCode: 0 | 
| Status: OK | 
| PackageFile: MMDiff2_1.14.0.zip | 
| PackageFileSize: 2.963 MiB | 
##############################################################################
##############################################################################
###
### Running command:
###
###   rm -rf MMDiff2.buildbin-libdir && mkdir MMDiff2.buildbin-libdir && C:\Users\biocbuild\bbs-3.10-bioc\R\bin\R.exe --arch i386 CMD INSTALL --no-multiarch --build --library=MMDiff2.buildbin-libdir MMDiff2_1.14.0.tar.gz
###
##############################################################################
##############################################################################
* installing *source* package 'MMDiff2' ...
** using staged installation
** R
** data
** inst
** byte-compile and prepare package for lazy loading
Warning: replacing previous import 'GenomicRanges::windows' by 'grDevices::windows' when loading 'MMDiff2'
** help
*** installing help indices
  converting help for package 'MMDiff2'
    finding HTML links ... done
    Cfp1-Peaks                              html  
    DBAmmd-Accessors                        html  
    DBAmmd-class                            html  
    MMD                                     html  
    compDists                               html  
    compHists                               html  
    compPvals                               html  
    estimateFragmentCenters                 html  
    getPeakReads                            html  
    mm9-Genes                               html  
    myGeneric                               html  
    plotDISTS4Peak                          html  
    plotDists                               html  
    plotPeak                                html  
    reportResults                           html  
    runShinyMMDiff2                         html  
    server.MMDiff2                          html  
    ui.MMDiff2                              html  
** building package indices
** installing vignettes
** testing if installed package can be loaded from temporary location
Warning: replacing previous import 'GenomicRanges::windows' by 'grDevices::windows' when loading 'MMDiff2'
** testing if installed package can be loaded from final location
Warning: replacing previous import 'GenomicRanges::windows' by 'grDevices::windows' when loading 'MMDiff2'
** testing if installed package keeps a record of temporary installation path
* MD5 sums
packaged installation of 'MMDiff2' as MMDiff2_1.14.0.zip
* DONE (MMDiff2)