| Back to Multiple platform build/check report for BioC 3.10 | 
 | 
This page was generated on 2020-04-15 12:43:40 -0400 (Wed, 15 Apr 2020).
| Package 1072/1823 | Hostname | OS / Arch | INSTALL | BUILD | CHECK | BUILD BIN | ||||||
| MMDiff2 1.14.0 Gabriele Schweikert 
 | malbec1 | Linux (Ubuntu 18.04.4 LTS) / x86_64 | OK | OK | OK |  | ||||||
| tokay1 | Windows Server 2012 R2 Standard / x64 | OK | OK | WARNINGS | OK |  | ||||||
| merida1 | OS X 10.11.6 El Capitan / x86_64 | OK | OK | [ OK ] | OK |  | 
| Package: MMDiff2 | 
| Version: 1.14.0 | 
| Command: /Library/Frameworks/R.framework/Versions/Current/Resources/bin/R CMD check --install=check:MMDiff2.install-out.txt --library=/Library/Frameworks/R.framework/Versions/Current/Resources/library --no-vignettes --timings MMDiff2_1.14.0.tar.gz | 
| StartedAt: 2020-04-15 03:59:08 -0400 (Wed, 15 Apr 2020) | 
| EndedAt: 2020-04-15 04:04:47 -0400 (Wed, 15 Apr 2020) | 
| EllapsedTime: 339.0 seconds | 
| RetCode: 0 | 
| Status: OK | 
| CheckDir: MMDiff2.Rcheck | 
| Warnings: 0 | 
##############################################################################
##############################################################################
###
### Running command:
###
###   /Library/Frameworks/R.framework/Versions/Current/Resources/bin/R CMD check --install=check:MMDiff2.install-out.txt --library=/Library/Frameworks/R.framework/Versions/Current/Resources/library --no-vignettes --timings MMDiff2_1.14.0.tar.gz
###
##############################################################################
##############################################################################
* using log directory ‘/Users/biocbuild/bbs-3.10-bioc/meat/MMDiff2.Rcheck’
* using R version 3.6.3 (2020-02-29)
* using platform: x86_64-apple-darwin15.6.0 (64-bit)
* using session charset: UTF-8
* using option ‘--no-vignettes’
* checking for file ‘MMDiff2/DESCRIPTION’ ... OK
* checking extension type ... Package
* this is package ‘MMDiff2’ version ‘1.14.0’
* checking package namespace information ... OK
* checking package dependencies ... OK
* checking if this is a source package ... OK
* checking if there is a namespace ... OK
* checking for hidden files and directories ... NOTE
Found the following hidden files and directories:
  .BBSoptions
These were most likely included in error. See section ‘Package
structure’ in the ‘Writing R Extensions’ manual.
* checking for portable file names ... OK
* checking for sufficient/correct file permissions ... OK
* checking whether package ‘MMDiff2’ can be installed ... OK
* checking installed package size ... OK
* checking package directory ... OK
* checking ‘build’ directory ... OK
* checking DESCRIPTION meta-information ... OK
* checking top-level files ... OK
* checking for left-over files ... OK
* checking index information ... OK
* checking package subdirectories ... OK
* checking R files for non-ASCII characters ... OK
* checking R files for syntax errors ... OK
* checking whether the package can be loaded ... OK
* checking whether the package can be loaded with stated dependencies ... OK
* checking whether the package can be unloaded cleanly ... OK
* checking whether the namespace can be loaded with stated dependencies ... OK
* checking whether the namespace can be unloaded cleanly ... OK
* checking dependencies in R code ... NOTE
Namespace in Imports field not imported from: ‘methods’
  All declared Imports should be used.
* checking S3 generic/method consistency ... OK
* checking replacement functions ... OK
* checking foreign function calls ... OK
* checking R code for possible problems ... NOTE
DBAmmd: no visible global function definition for ‘new’
getReads: no visible global function definition for ‘IRangesList’
Undefined global functions or variables:
  IRangesList new
Consider adding
  importFrom("methods", "new")
to your NAMESPACE file (and ensure that your DESCRIPTION Imports field
contains 'methods').
* checking Rd files ... OK
* checking Rd metadata ... OK
* checking Rd cross-references ... OK
* checking for missing documentation entries ... OK
* checking for code/documentation mismatches ... OK
* checking Rd \usage sections ... OK
* checking Rd contents ... OK
* checking for unstated dependencies in examples ... OK
* checking contents of ‘data’ directory ... OK
* checking data for non-ASCII characters ... OK
* checking data for ASCII and uncompressed saves ... OK
* checking sizes of PDF files under ‘inst/doc’ ... OK
* checking files in ‘vignettes’ ... OK
* checking examples ... OK
Examples with CPU or elapsed time > 5s
                   user system elapsed
compDists        28.947  9.725  39.011
plotPeak         10.944  0.719  11.744
DBAmmd-Accessors  5.395  0.652   6.108
compHists         4.606  0.503   5.158
* checking for unstated dependencies in vignettes ... OK
* checking package vignettes in ‘inst/doc’ ... OK
* checking running R code from vignettes ... SKIPPED
* checking re-building of vignette outputs ... SKIPPED
* checking PDF version of manual ... OK
* DONE
Status: 3 NOTEs
See
  ‘/Users/biocbuild/bbs-3.10-bioc/meat/MMDiff2.Rcheck/00check.log’
for details.
MMDiff2.Rcheck/00install.out
############################################################################## ############################################################################## ### ### Running command: ### ### /Library/Frameworks/R.framework/Versions/Current/Resources/bin/R CMD INSTALL MMDiff2 ### ############################################################################## ############################################################################## * installing to library ‘/Library/Frameworks/R.framework/Versions/3.6/Resources/library’ * installing *source* package ‘MMDiff2’ ... ** using staged installation ** R ** data ** byte-compile and prepare package for lazy loading ** help *** installing help indices ** building package indices ** installing vignettes ** testing if installed package can be loaded from temporary location ** testing if installed package can be loaded from final location ** testing if installed package keeps a record of temporary installation path * DONE (MMDiff2)
MMDiff2.Rcheck/MMDiff2-Ex.timings
| name | user | system | elapsed | |
| Cfp1-Peaks | 0.000 | 0.001 | 0.000 | |
| DBAmmd-Accessors | 5.395 | 0.652 | 6.108 | |
| DBAmmd-class | 0.054 | 0.001 | 0.055 | |
| MMD | 0.000 | 0.001 | 0.000 | |
| compDists | 28.947 | 9.725 | 39.011 | |
| compHists | 4.606 | 0.503 | 5.158 | |
| compPvals | 1.769 | 0.206 | 1.987 | |
| estimateFragmentCenters | 2.176 | 0.248 | 2.468 | |
| getPeakReads | 0.348 | 0.008 | 0.362 | |
| mm9-Genes | 0 | 0 | 0 | |
| plotDISTS4Peak | 2.310 | 0.391 | 2.722 | |
| plotDists | 1.518 | 0.171 | 1.703 | |
| plotPeak | 10.944 | 0.719 | 11.744 | |
| reportResults | 1.672 | 0.194 | 1.885 | |
| runShinyMMDiff2 | 0.000 | 0.000 | 0.001 | |
| server.MMDiff2 | 0.000 | 0.000 | 0.001 | |
| ui.MMDiff2 | 0 | 0 | 0 | |