| Back to Multiple platform build/check report for BioC 3.10 | 
  | 
This page was generated on 2020-04-15 12:15:54 -0400 (Wed, 15 Apr 2020).
| Package 894/1823 | Hostname | OS / Arch | INSTALL | BUILD | CHECK | BUILD BIN | ||||||
| KnowSeq 1.0.0 Daniel Castillo Secilla 
  | malbec1 | Linux (Ubuntu 18.04.4 LTS) / x86_64 | OK | [ OK ] | OK | |||||||
| tokay1 | Windows Server 2012 R2 Standard / x64 | OK | OK | OK | OK | |||||||
| merida1 | OS X 10.11.6 El Capitan / x86_64 | OK | OK | OK | OK | 
| Package: KnowSeq | 
| Version: 1.0.0 | 
| Command: /home/biocbuild/bbs-3.10-bioc/R/bin/R CMD build --keep-empty-dirs --no-resave-data KnowSeq | 
| StartedAt: 2020-04-14 23:41:33 -0400 (Tue, 14 Apr 2020) | 
| EndedAt: 2020-04-14 23:44:46 -0400 (Tue, 14 Apr 2020) | 
| EllapsedTime: 193.1 seconds | 
| RetCode: 0 | 
| Status: OK | 
| PackageFile: KnowSeq_1.0.0.tar.gz | 
| PackageFileSize: 3.696 MiB | 
############################################################################## ############################################################################## ### ### Running command: ### ### /home/biocbuild/bbs-3.10-bioc/R/bin/R CMD build --keep-empty-dirs --no-resave-data KnowSeq ### ############################################################################## ############################################################################## * checking for file ‘KnowSeq/DESCRIPTION’ ... OK * preparing ‘KnowSeq’: * checking DESCRIPTION meta-information ... OK * installing the package to build vignettes * creating vignettes ... OK * checking for LF line-endings in source and make files and shell scripts * checking for empty or unneeded directories * building ‘KnowSeq_1.0.0.tar.gz’