| Back to Multiple platform build/check report for BioC 3.10 | 
 | 
This page was generated on 2020-04-15 12:19:57 -0400 (Wed, 15 Apr 2020).
| Package 449/1823 | Hostname | OS / Arch | INSTALL | BUILD | CHECK | BUILD BIN | ||||||
| DEXSeq 1.32.0 Alejandro Reyes 
 | malbec1 | Linux (Ubuntu 18.04.4 LTS) / x86_64 | OK | OK | OK |  | ||||||
| tokay1 | Windows Server 2012 R2 Standard / x64 | OK | [ OK ] | OK | OK |  | ||||||
| merida1 | OS X 10.11.6 El Capitan / x86_64 | OK | OK | OK | OK |  | 
| Package: DEXSeq | 
| Version: 1.32.0 | 
| Command: chmod a+r DEXSeq -R && C:\Users\biocbuild\bbs-3.10-bioc\R\bin\R.exe CMD build --keep-empty-dirs --no-resave-data DEXSeq | 
| StartedAt: 2020-04-14 21:18:05 -0400 (Tue, 14 Apr 2020) | 
| EndedAt: 2020-04-14 21:19:48 -0400 (Tue, 14 Apr 2020) | 
| EllapsedTime: 102.5 seconds | 
| RetCode: 0 | 
| Status: OK | 
| PackageFile: DEXSeq_1.32.0.tar.gz | 
| PackageFileSize: 556.5 KiB | 
############################################################################## ############################################################################## ### ### Running command: ### ### chmod a+r DEXSeq -R && C:\Users\biocbuild\bbs-3.10-bioc\R\bin\R.exe CMD build --keep-empty-dirs --no-resave-data DEXSeq ### ############################################################################## ############################################################################## * checking for file 'DEXSeq/DESCRIPTION' ... OK * preparing 'DEXSeq': * checking DESCRIPTION meta-information ... OK * installing the package to build vignettes * creating vignettes ... OK * checking for LF line-endings in source and make files and shell scripts * checking for empty or unneeded directories * building 'DEXSeq_1.32.0.tar.gz'