| Back to Multiple platform build/check report for BioC 3.10 | 
 | 
This page was generated on 2020-04-15 12:19:57 -0400 (Wed, 15 Apr 2020).
| Package 449/1823 | Hostname | OS / Arch | INSTALL | BUILD | CHECK | BUILD BIN | ||||||
| DEXSeq 1.32.0 Alejandro Reyes 
 | malbec1 | Linux (Ubuntu 18.04.4 LTS) / x86_64 | OK | OK | OK |  | ||||||
| tokay1 | Windows Server 2012 R2 Standard / x64 | OK | OK | OK | [ OK ] |  | ||||||
| merida1 | OS X 10.11.6 El Capitan / x86_64 | OK | OK | OK | OK |  | 
| Package: DEXSeq | 
| Version: 1.32.0 | 
| Command: rm -rf DEXSeq.buildbin-libdir && mkdir DEXSeq.buildbin-libdir && C:\Users\biocbuild\bbs-3.10-bioc\R\bin\R.exe CMD INSTALL --merge-multiarch --build --library=DEXSeq.buildbin-libdir DEXSeq_1.32.0.tar.gz | 
| StartedAt: 2020-04-15 08:35:20 -0400 (Wed, 15 Apr 2020) | 
| EndedAt: 2020-04-15 08:36:05 -0400 (Wed, 15 Apr 2020) | 
| EllapsedTime: 45.3 seconds | 
| RetCode: 0 | 
| Status: OK | 
| PackageFile: DEXSeq_1.32.0.zip | 
| PackageFileSize: 990.8 KiB | 
##############################################################################
##############################################################################
###
### Running command:
###
###   rm -rf DEXSeq.buildbin-libdir && mkdir DEXSeq.buildbin-libdir && C:\Users\biocbuild\bbs-3.10-bioc\R\bin\R.exe CMD INSTALL --merge-multiarch --build --library=DEXSeq.buildbin-libdir DEXSeq_1.32.0.tar.gz
###
##############################################################################
##############################################################################
install for i386
* installing *source* package 'DEXSeq' ...
** using staged installation
** R
** inst
** byte-compile and prepare package for lazy loading
** help
*** installing help indices
  converting help for package 'DEXSeq'
    finding HTML links ... done
    DEXSeq-defunct                          html  
    DEXSeq                                  html  
    DEXSeqDataSet                           html  
    DEXSeqHTML                              html  
    DEXSeqResults                           html  
    accessors                               html  
    counts                                  html  
    estimateDispersions                     html  
    estimateExonFoldChanges                 html  
    estimateSizeFactors                     html  
    methods-gr                              html  
    otherMethods                            html  
    perGeneQValue                           html  
    plotDEXSeq                              html  
    plotDispEsts                            html  
    plotMA                                  html  
    testForDEU                              html  
** building package indices
** installing vignettes
** testing if installed package can be loaded from temporary location
** testing if installed package can be loaded from final location
** testing if installed package keeps a record of temporary installation path
install for x64
* installing *source* package 'DEXSeq' ...
** testing if installed package can be loaded
* MD5 sums
packaged installation of 'DEXSeq' as DEXSeq_1.32.0.zip
* DONE (DEXSeq)