| Back to Multiple platform build/check report for BioC 3.10 | 
  | 
This page was generated on 2020-04-15 12:28:41 -0400 (Wed, 15 Apr 2020).
| Package 309/1823 | Hostname | OS / Arch | INSTALL | BUILD | CHECK | BUILD BIN | ||||||
| ClusterJudge 1.8.0 Adrian Pasculescu 
  | malbec1 | Linux (Ubuntu 18.04.4 LTS) / x86_64 | OK | OK | ERROR | |||||||
| tokay1 | Windows Server 2012 R2 Standard / x64 | [ OK ] | OK | ERROR | OK | |||||||
| merida1 | OS X 10.11.6 El Capitan / x86_64 | OK | OK | ERROR | OK | 
| Package: ClusterJudge | 
| Version: 1.8.0 | 
| Command: C:\cygwin\bin\curl.exe -O https://malbec1.bioconductor.org/BBS/3.10/bioc/src/contrib/ClusterJudge_1.8.0.tar.gz && rm -rf ClusterJudge.buildbin-libdir && mkdir ClusterJudge.buildbin-libdir && C:\Users\biocbuild\bbs-3.10-bioc\R\bin\R.exe CMD INSTALL --merge-multiarch --build --library=ClusterJudge.buildbin-libdir ClusterJudge_1.8.0.tar.gz && C:\Users\biocbuild\bbs-3.10-bioc\R\bin\R.exe CMD INSTALL ClusterJudge_1.8.0.zip && rm ClusterJudge_1.8.0.tar.gz ClusterJudge_1.8.0.zip | 
| StartedAt: 2020-04-14 19:20:11 -0400 (Tue, 14 Apr 2020) | 
| EndedAt: 2020-04-14 19:20:37 -0400 (Tue, 14 Apr 2020) | 
| EllapsedTime: 25.8 seconds | 
| RetCode: 0 | 
| Status: OK | 
##############################################################################
##############################################################################
###
### Running command:
###
###   C:\cygwin\bin\curl.exe -O https://malbec1.bioconductor.org/BBS/3.10/bioc/src/contrib/ClusterJudge_1.8.0.tar.gz && rm -rf ClusterJudge.buildbin-libdir && mkdir ClusterJudge.buildbin-libdir && C:\Users\biocbuild\bbs-3.10-bioc\R\bin\R.exe CMD INSTALL --merge-multiarch --build --library=ClusterJudge.buildbin-libdir ClusterJudge_1.8.0.tar.gz && C:\Users\biocbuild\bbs-3.10-bioc\R\bin\R.exe CMD INSTALL ClusterJudge_1.8.0.zip && rm ClusterJudge_1.8.0.tar.gz ClusterJudge_1.8.0.zip
###
##############################################################################
##############################################################################
  % Total    % Received % Xferd  Average Speed   Time    Time     Time  Current
                                 Dload  Upload   Total   Spent    Left  Speed
  0     0    0     0    0     0      0      0 --:--:-- --:--:-- --:--:--     0
100  799k  100  799k    0     0  17.9M      0 --:--:-- --:--:-- --:--:-- 19.5M
install for i386
* installing *source* package 'ClusterJudge' ...
** using staged installation
** R
** data
*** moving datasets to lazyload DB
** byte-compile and prepare package for lazy loading
** help
*** installing help indices
  converting help for package 'ClusterJudge'
    finding HTML links ... done
    ClusterJudge-package                    html  
    Yeast.GO.assocs                         html  
    attribute_mut_inf                       html  
    clusterJudge                            html  
    clusterJudge_z_score                    html  
    consolidate_entity_attribute            html  
    convert_Yeast_SGDId_2_systematic        html  
    download_Yeast_GO_mapping               html  
    download_Yeast_Go_terms                 html  
    entities_attribute_stats                html  
    mi.GO.Yeast                             html  
    validate_association                    html  
** building package indices
** installing vignettes
** testing if installed package can be loaded from temporary location
** testing if installed package can be loaded from final location
** testing if installed package keeps a record of temporary installation path
install for x64
* installing *source* package 'ClusterJudge' ...
** testing if installed package can be loaded
* MD5 sums
packaged installation of 'ClusterJudge' as ClusterJudge_1.8.0.zip
* DONE (ClusterJudge)
* installing to library 'C:/Users/biocbuild/bbs-3.10-bioc/R/library'
package 'ClusterJudge' successfully unpacked and MD5 sums checked