| Back to Multiple platform build/check report for BioC 3.10 | 
 | 
This page was generated on 2020-04-15 12:28:42 -0400 (Wed, 15 Apr 2020).
| Package 309/1823 | Hostname | OS / Arch | INSTALL | BUILD | CHECK | BUILD BIN | ||||||
| ClusterJudge 1.8.0 Adrian Pasculescu 
 | malbec1 | Linux (Ubuntu 18.04.4 LTS) / x86_64 | OK | OK | ERROR | |||||||
| tokay1 | Windows Server 2012 R2 Standard / x64 | OK | [ OK ] | ERROR | OK | |||||||
| merida1 | OS X 10.11.6 El Capitan / x86_64 | OK | OK | ERROR | OK | 
| Package: ClusterJudge | 
| Version: 1.8.0 | 
| Command: chmod a+r ClusterJudge -R && C:\Users\biocbuild\bbs-3.10-bioc\R\bin\R.exe CMD build --keep-empty-dirs --no-resave-data ClusterJudge | 
| StartedAt: 2020-04-14 23:44:30 -0400 (Tue, 14 Apr 2020) | 
| EndedAt: 2020-04-14 23:45:34 -0400 (Tue, 14 Apr 2020) | 
| EllapsedTime: 64.1 seconds | 
| RetCode: 0 | 
| Status: OK | 
| PackageFile: ClusterJudge_1.8.0.tar.gz | 
| PackageFileSize: 845 KiB | 
############################################################################## ############################################################################## ### ### Running command: ### ### chmod a+r ClusterJudge -R && C:\Users\biocbuild\bbs-3.10-bioc\R\bin\R.exe CMD build --keep-empty-dirs --no-resave-data ClusterJudge ### ############################################################################## ############################################################################## * checking for file 'ClusterJudge/DESCRIPTION' ... OK * preparing 'ClusterJudge': * checking DESCRIPTION meta-information ... OK * installing the package to process help pages * saving partial Rd database * creating vignettes ... OK * checking for LF line-endings in source and make files and shell scripts * checking for empty or unneeded directories * looking to see if a 'data/datalist' file should be added * building 'ClusterJudge_1.8.0.tar.gz'