Back to Multiple platform build/check report for BioC 3.10
A[B]CDEFGHIJKLMNOPQRSTUVWXYZ

BUILD BIN report for BiocSklearn on tokay1

This page was generated on 2019-09-20 12:32:03 -0400 (Fri, 20 Sep 2019).

Package 157/1770HostnameOS / ArchINSTALLBUILDCHECKBUILD BIN
BiocSklearn 1.7.0
VJ Carey
Snapshot Date: 2019-09-19 17:00:30 -0400 (Thu, 19 Sep 2019)
URL: https://git.bioconductor.org/packages/BiocSklearn
Branch: master
Last Commit: d71be87
Last Changed Date: 2019-05-02 12:14:59 -0400 (Thu, 02 May 2019)
malbec1 Linux (Ubuntu 18.04.2 LTS) / x86_64  OK  OK  OK UNNEEDED, same version exists in internal repository
tokay1 Windows Server 2012 R2 Standard / x64  OK  OK  ERROR [ OK ]
merida1 OS X 10.11.6 El Capitan / x86_64  OK  OK  OK  OK UNNEEDED, same version exists in internal repository

Summary

Package: BiocSklearn
Version: 1.7.0
Command: rm -rf BiocSklearn.buildbin-libdir && mkdir BiocSklearn.buildbin-libdir && C:\Users\biocbuild\bbs-3.10-bioc\R\bin\R.exe --arch x64 CMD INSTALL --no-multiarch --build --library=BiocSklearn.buildbin-libdir BiocSklearn_1.7.0.tar.gz
StartedAt: 2019-09-20 08:23:32 -0400 (Fri, 20 Sep 2019)
EndedAt: 2019-09-20 08:32:14 -0400 (Fri, 20 Sep 2019)
EllapsedTime: 522.9 seconds
RetCode: 0
Status:  OK  
PackageFile: BiocSklearn_1.7.0.zip
PackageFileSize: 32.67 MiB

Command output

##############################################################################
##############################################################################
###
### Running command:
###
###   rm -rf BiocSklearn.buildbin-libdir && mkdir BiocSklearn.buildbin-libdir && C:\Users\biocbuild\bbs-3.10-bioc\R\bin\R.exe --arch x64 CMD INSTALL --no-multiarch --build --library=BiocSklearn.buildbin-libdir BiocSklearn_1.7.0.tar.gz
###
##############################################################################
##############################################################################


* installing *source* package 'BiocSklearn' ...
** using staged installation
** R
** inst
** byte-compile and prepare package for lazy loading
** help
*** installing help indices
  converting help for package 'BiocSklearn'
    finding HTML links ... done
    H5matref                                html  
    SkDecomp-class                          html  
    SklearnEls                              html  
    h5mat                                   html  
    skIncrPCA                               html  
    skIncrPPCA                              html  
    skKMeans                                html  
    skPCA                                   html  
    skPartialPCA_step                       html  
** building package indices
** installing vignettes
** testing if installed package can be loaded from temporary location
** testing if installed package can be loaded from final location
** testing if installed package keeps a record of temporary installation path
* MD5 sums
packaged installation of 'BiocSklearn' as BiocSklearn_1.7.0.zip
* DONE (BiocSklearn)