Back to the "Multiple platform build/check report" A  B  C  D [E] F  G  H  I  J  K  L  M  N  O  P  Q  R  S  T  U  V  W  X  Y  Z 

BioC 3.1: CHECK report for eisa on moscato2

This page was generated on 2015-06-09 09:13:47 -0700 (Tue, 09 Jun 2015).

Package 294/1024HostnameOS / ArchINSTALLBUILDCHECKBUILD BIN
eisa 1.20.0
Gabor Csardi
Snapshot Date: 2015-06-08 17:20:17 -0700 (Mon, 08 Jun 2015)
URL: https://hedgehog.fhcrc.org/bioconductor/branches/RELEASE_3_1/madman/Rpacks/eisa
Last Changed Rev: 102591 / Revision: 104704
Last Changed Date: 2015-04-16 12:42:01 -0700 (Thu, 16 Apr 2015)
zin2 Linux (Ubuntu 14.04.2 LTS) / x86_64  OK  OK  OK UNNEEDED, same version exists in internal repository
moscato2 Windows Server 2008 R2 Enterprise SP1 (64-bit) / x64  OK  OK [ OK ] OK UNNEEDED, same version exists in internal repository
petty Mac OS X Snow Leopard (10.6.8) / x86_64  OK  OK  OK  OK UNNEEDED, same version exists in internal repository
morelia Mac OS X Mavericks (10.9.5) / x86_64  OK  OK  OK  OK UNNEEDED, same version exists in internal repository

Summary

Package: eisa
Version: 1.20.0
Command: rm -rf eisa.buildbin-libdir eisa.Rcheck && mkdir eisa.buildbin-libdir eisa.Rcheck && E:\biocbld\bbs-3.1-bioc\R\bin\R.exe CMD INSTALL --build --merge-multiarch --library=eisa.buildbin-libdir eisa_1.20.0.tar.gz >eisa.Rcheck\00install.out 2>&1 && cp eisa.Rcheck\00install.out eisa-install.out && E:\biocbld\bbs-3.1-bioc\R\bin\R.exe CMD check --library=eisa.buildbin-libdir --install="check:eisa-install.out" --force-multiarch --no-vignettes --timings eisa_1.20.0.tar.gz
StartedAt: 2015-06-09 01:37:37 -0700 (Tue, 09 Jun 2015)
EndedAt: 2015-06-09 01:45:57 -0700 (Tue, 09 Jun 2015)
EllapsedTime: 499.5 seconds
RetCode: 0
Status:  OK  
CheckDir: eisa.Rcheck
Warnings: 0

Command output

##############################################################################
##############################################################################
###
### Running command:
###
###   rm -rf eisa.buildbin-libdir eisa.Rcheck && mkdir eisa.buildbin-libdir eisa.Rcheck && E:\biocbld\bbs-3.1-bioc\R\bin\R.exe CMD INSTALL --build --merge-multiarch --library=eisa.buildbin-libdir eisa_1.20.0.tar.gz >eisa.Rcheck\00install.out 2>&1 && cp eisa.Rcheck\00install.out eisa-install.out  && E:\biocbld\bbs-3.1-bioc\R\bin\R.exe CMD check --library=eisa.buildbin-libdir --install="check:eisa-install.out" --force-multiarch --no-vignettes --timings eisa_1.20.0.tar.gz
###
##############################################################################
##############################################################################


* using log directory 'E:/biocbld/bbs-3.1-bioc/meat/eisa.Rcheck'
* using R version 3.2.0 (2015-04-16)
* using platform: x86_64-w64-mingw32 (64-bit)
* using session charset: ISO8859-1
* using option '--no-vignettes'
* checking for file 'eisa/DESCRIPTION' ... OK
* this is package 'eisa' version '1.20.0'
* checking package namespace information ... OK
* checking package dependencies ... OK
* checking if this is a source package ... OK
* checking if there is a namespace ... OK
* checking for hidden files and directories ... OK
* checking for portable file names ... OK
* checking whether package 'eisa' can be installed ... OK
* checking installed package size ... OK
* checking package directory ... OK
* checking 'build' directory ... OK
* checking DESCRIPTION meta-information ... OK
* checking top-level files ... OK
* checking for left-over files ... OK
* checking index information ... OK
* checking package subdirectories ... OK
* checking R files for non-ASCII characters ... OK
* checking R files for syntax errors ... OK
* loading checks for arch 'i386'
** checking whether the package can be loaded ... OK
** checking whether the package can be loaded with stated dependencies ... OK
** checking whether the package can be unloaded cleanly ... OK
** checking whether the namespace can be loaded with stated dependencies ... OK
** checking whether the namespace can be unloaded cleanly ... OK
* loading checks for arch 'x64'
** checking whether the package can be loaded ... OK
** checking whether the package can be loaded with stated dependencies ... OK
** checking whether the package can be unloaded cleanly ... OK
** checking whether the namespace can be loaded with stated dependencies ... OK
** checking whether the namespace can be unloaded cleanly ... OK
* checking dependencies in R code ... NOTE
'library' or 'require' calls in package code:
  'GO.db' 'KEGG.db' 'MASS' 'biclust' 'igraph' 'xtable'
  Please use :: or requireNamespace() instead.
  See section 'Suggested packages' in the 'Writing R Extensions' manual.
Unexported objects imported by ':::' calls:
  'Category:::getDataEnv' 'Category:::getKeggToProbeMap'
  'Category:::probeToEntrezMapHelper'
  See the note in ?`:::` about the use of this operator.
* checking S3 generic/method consistency ... OK
* checking replacement functions ... OK
* checking foreign function calls ... OK
* checking R code for possible problems ... NOTE
ISAHTMLModules: no visible global function definition for 'GO_dbconn'
ISAHTMLModules : go.graph: no visible global function definition for
  'graph.data.frame'
ISAHTMLTable: no visible global function definition for 'GO_dbconn'
ISAHTMLTable : f: no visible binding for global variable
  'KEGGPATHID2NAME'
ISASweepGraph: no visible global function definition for 'V'
ISASweepGraph: no visible global function definition for 'V<-'
ISASweepGraph: no visible global function definition for
  'remove.vertex.attribute'
ISASweepGraphPlot: no visible global function definition for 'V'
gograph: no visible binding for global variable 'GOTERM'
gograph: no visible global function definition for 'GO_dbconn'
gograph: no visible global function definition for 'graph.data.frame'
gograph: no visible global function definition for 'V'
gograph: no visible global function definition for 'vcount'
gograph: no visible global function definition for 'neighborhood'
gograph: no visible global function definition for 'subgraph'
gograph: no visible global function definition for 'V<-'
gograph: no visible global function definition for 'topological.sort'
gograph: no visible global function definition for 'unfold.tree'
gograph: no visible global function definition for 'E'
gograph: no visible global function definition for 'E<-'
gograph: no visible global function definition for
  'layout.reingold.tilford'
gographPlot: no visible global function definition for 'V'
html.df: no visible global function definition for 'xtable'
isa.autogen.module : tabulate: no visible binding for global variable
  'KEGGPATHID2NAME'
isa.autogen.module : gp: no visible global function definition for
  'graph.empty'
isa.autogen.module : ann: no visible global function definition for
  'vcount'
isa.autogen.module : ann: no visible global function definition for 'V'
overlap: no visible global function definition for 'isoMDS'
overlap: no visible global function definition for 'graph.adjacency'
overlap: no visible global function definition for 'V'
overlap: no visible global function definition for 'V<-'
overlap: no visible global function definition for 'graph.empty'
overlap: no visible global function definition for 'E'
overlap: no visible global function definition for 'E<-'
overlap: no visible global function definition for
  'layout.fruchterman.reingold'
overlap: no visible global function definition for 'layout.drl'
overlap: no visible global function definition for 'ecount'
overlapPlot: no visible global function definition for 'V'
overlapPlot: no visible global function definition for 'layout.norm'
htmlReport,GOListHyperGResult: no visible binding for global variable
  'GOTERM'
htmlReport,KEGGListHyperGResult: no visible binding for global variable
  'KEGGPATHID2NAME'
* checking Rd files ... OK
* checking Rd metadata ... OK
* checking Rd cross-references ... OK
* checking for missing documentation entries ... OK
* checking for code/documentation mismatches ... OK
* checking Rd \usage sections ... OK
* checking Rd contents ... OK
* checking for unstated dependencies in examples ... OK
* checking contents of 'data' directory ... OK
* checking data for non-ASCII characters ... OK
* checking data for ASCII and uncompressed saves ... OK
* checking installed files from 'inst/doc' ... OK
* checking files in 'vignettes' ... OK
* checking examples ...
** running examples for arch 'i386' ... [155s] OK
Examples with CPU or elapsed time > 5s
                        user system elapsed
ISA                    24.14   0.43   24.57
ISA.html               18.48   1.10   20.19
ISA.sweep              14.65   0.42   15.09
ISA.GO                  8.89   0.24   16.68
ListHyperGResult-class  8.94   0.18    9.13
ISA.iterate             7.41   0.15    7.58
ISA.unique              7.31   0.18    7.49
gograph                 6.84   0.17    7.01
ListHyperGParams-class  6.07   0.13    6.19
ISA.normalize           5.23   0.12    5.35
** running examples for arch 'x64' ... [122s] OK
Examples with CPU or elapsed time > 5s
                        user system elapsed
ISA                    20.61   0.53   21.15
ISA.html               17.10   1.03   18.22
ISA.sweep              10.64   0.15   10.80
ISA.GO                  6.72   0.23    6.96
gograph                 6.56   0.09    6.66
ListHyperGResult-class  6.27   0.10    6.38
ISA.iterate             5.59   0.10    5.67
ListHyperGParams-class  5.35   0.18    5.63
ISA.unique              5.32   0.16    5.47
* checking for unstated dependencies in vignettes ... OK
* checking package vignettes in 'inst/doc' ... OK
* checking running R code from vignettes ... SKIPPED
* checking re-building of vignette outputs ... SKIPPED
* checking PDF version of manual ... OK
* DONE

Status: 2 NOTEs
See
  'E:/biocbld/bbs-3.1-bioc/meat/eisa.Rcheck/00check.log'
for details.

eisa.Rcheck/00install.out:


install for i386

* installing *source* package 'eisa' ...
** R
** data
** inst
** preparing package for lazy loading
in method for 'coerce' with signature '"Biclust","ISAModules"': no definition for class "Biclust"
in method for 'coerce' with signature '"ISAModules","Biclust"': no definition for class "Biclust"
** help
*** installing help indices
** building package indices
** installing vignettes
** testing if installed package can be loaded

install for x64

* installing *source* package 'eisa' ...
** testing if installed package can be loaded
* MD5 sums
packaged installation of 'eisa' as eisa_1.20.0.zip
* DONE (eisa)

eisa.Rcheck/examples_i386/eisa-Ex.timings:

nameusersystemelapsed
ALLModules0.220.000.21
ISA.CHR0.640.010.65
ISA.GO 8.89 0.2416.68
ISA.KEGG2.800.033.02
ISA24.14 0.4324.57
ISA.html18.48 1.1020.19
ISA.iterate7.410.157.58
ISA.miRNA1.230.052.35
ISA.normalize5.230.125.35
ISA.sweep14.65 0.4215.09
ISA.unique7.310.187.49
ISA2heatmap1.660.041.70
ISAExpressionSet4.270.114.38
ISAModules-class000
ListHyperGParams-class6.070.136.19
ListHyperGResult-class8.940.189.13
cond.plot2.010.052.06
eisa.biclust3.710.084.85
enrichment0.550.000.54
exp.plot1.740.031.78
gograph6.840.177.01
mnplot1.970.062.03
overlap0.510.220.73
profilePlot1.490.061.55
robustness2.410.102.51

eisa.Rcheck/examples_x64/eisa-Ex.timings:

nameusersystemelapsed
ALLModules0.030.000.03
ISA.CHR0.970.031.00
ISA.GO6.720.236.96
ISA.KEGG2.160.032.18
ISA20.61 0.5321.15
ISA.html17.10 1.0318.22
ISA.iterate5.590.105.67
ISA.miRNA0.790.030.83
ISA.normalize4.050.084.13
ISA.sweep10.64 0.1510.80
ISA.unique5.320.165.47
ISA2heatmap1.250.031.28
ISAExpressionSet3.930.094.03
ISAModules-class0.020.000.01
ListHyperGParams-class5.350.185.63
ListHyperGResult-class6.270.106.38
cond.plot1.700.041.73
eisa.biclust3.460.143.84
enrichment0.470.000.47
exp.plot2.060.032.09
gograph6.560.096.66
mnplot1.840.051.89
overlap0.530.170.81
profilePlot1.370.051.42
robustness2.340.002.34