Back to the "Multiple platform build/check report" A  B  C  D [E] F  G  H  I  J  K  L  M  N  O  P  Q  R  S  T  U  V  W  X  Y  Z 

BioC 3.1: CHECK report for eisa on morelia

This page was generated on 2015-06-09 09:28:46 -0700 (Tue, 09 Jun 2015).

Package 294/1024HostnameOS / ArchINSTALLBUILDCHECKBUILD BIN
eisa 1.20.0
Gabor Csardi
Snapshot Date: 2015-06-08 17:20:17 -0700 (Mon, 08 Jun 2015)
URL: https://hedgehog.fhcrc.org/bioconductor/branches/RELEASE_3_1/madman/Rpacks/eisa
Last Changed Rev: 102591 / Revision: 104704
Last Changed Date: 2015-04-16 12:42:01 -0700 (Thu, 16 Apr 2015)
zin2 Linux (Ubuntu 14.04.2 LTS) / x86_64  OK  OK  OK UNNEEDED, same version exists in internal repository
moscato2 Windows Server 2008 R2 Enterprise SP1 (64-bit) / x64  OK  OK  OK  OK UNNEEDED, same version exists in internal repository
petty Mac OS X Snow Leopard (10.6.8) / x86_64  OK  OK  OK  OK UNNEEDED, same version exists in internal repository
morelia Mac OS X Mavericks (10.9.5) / x86_64  OK  OK [ OK ] OK UNNEEDED, same version exists in internal repository

Summary

Package: eisa
Version: 1.20.0
Command: /Library/Frameworks/R.framework/Versions/Current/Resources/bin/R CMD check --no-vignettes --timings --no-multiarch eisa_1.20.0.tar.gz
StartedAt: 2015-06-09 01:17:24 -0700 (Tue, 09 Jun 2015)
EndedAt: 2015-06-09 01:23:52 -0700 (Tue, 09 Jun 2015)
EllapsedTime: 388.0 seconds
RetCode: 0
Status:  OK 
CheckDir: eisa.Rcheck
Warnings: 0

Command output

##############################################################################
##############################################################################
###
### Running command:
###
###   /Library/Frameworks/R.framework/Versions/Current/Resources/bin/R CMD check --no-vignettes --timings --no-multiarch eisa_1.20.0.tar.gz
###
##############################################################################
##############################################################################


* using log directory ‘/Users/biocbuild/bbs-3.1-bioc/meat/eisa.Rcheck’
* using R version 3.2.0 Patched (2015-04-23 r68254)
* using platform: x86_64-apple-darwin13.4.0 (64-bit)
* using session charset: UTF-8
* using option ‘--no-vignettes’
* checking for file ‘eisa/DESCRIPTION’ ... OK
* this is package ‘eisa’ version ‘1.20.0’
* checking package namespace information ... OK
* checking package dependencies ... OK
* checking if this is a source package ... OK
* checking if there is a namespace ... OK
* checking for hidden files and directories ... OK
* checking for portable file names ... OK
* checking for sufficient/correct file permissions ... OK
* checking whether package ‘eisa’ can be installed ... [13s/18s] OK
* checking installed package size ... OK
* checking package directory ... OK
* checking ‘build’ directory ... OK
* checking DESCRIPTION meta-information ... OK
* checking top-level files ... OK
* checking for left-over files ... OK
* checking index information ... OK
* checking package subdirectories ... OK
* checking R files for non-ASCII characters ... OK
* checking R files for syntax errors ... OK
* checking whether the package can be loaded ... OK
* checking whether the package can be loaded with stated dependencies ... OK
* checking whether the package can be unloaded cleanly ... OK
* checking whether the namespace can be loaded with stated dependencies ... OK
* checking whether the namespace can be unloaded cleanly ... OK
* checking dependencies in R code ... NOTE
'library' or 'require' calls in package code:
  ‘GO.db’ ‘KEGG.db’ ‘MASS’ ‘biclust’ ‘igraph’ ‘xtable’
  Please use :: or requireNamespace() instead.
  See section 'Suggested packages' in the 'Writing R Extensions' manual.
Unexported objects imported by ':::' calls:
  ‘Category:::getDataEnv’ ‘Category:::getKeggToProbeMap’
  ‘Category:::probeToEntrezMapHelper’
  See the note in ?`:::` about the use of this operator.
* checking S3 generic/method consistency ... OK
* checking replacement functions ... OK
* checking foreign function calls ... OK
* checking R code for possible problems ... NOTE
ISAHTMLModules: no visible global function definition for ‘GO_dbconn’
ISAHTMLModules : go.graph: no visible global function definition for
  ‘graph.data.frame’
ISAHTMLTable: no visible global function definition for ‘GO_dbconn’
ISAHTMLTable : f: no visible binding for global variable
  ‘KEGGPATHID2NAME’
ISASweepGraph: no visible global function definition for ‘V’
ISASweepGraph: no visible global function definition for ‘V<-’
ISASweepGraph: no visible global function definition for
  ‘remove.vertex.attribute’
ISASweepGraphPlot: no visible global function definition for ‘V’
gograph: no visible binding for global variable ‘GOTERM’
gograph: no visible global function definition for ‘GO_dbconn’
gograph: no visible global function definition for ‘graph.data.frame’
gograph: no visible global function definition for ‘V’
gograph: no visible global function definition for ‘vcount’
gograph: no visible global function definition for ‘neighborhood’
gograph: no visible global function definition for ‘subgraph’
gograph: no visible global function definition for ‘V<-’
gograph: no visible global function definition for ‘topological.sort’
gograph: no visible global function definition for ‘unfold.tree’
gograph: no visible global function definition for ‘E’
gograph: no visible global function definition for ‘E<-’
gograph: no visible global function definition for
  ‘layout.reingold.tilford’
gographPlot: no visible global function definition for ‘V’
html.df: no visible global function definition for ‘xtable’
isa.autogen.module : tabulate: no visible binding for global variable
  ‘KEGGPATHID2NAME’
isa.autogen.module : gp: no visible global function definition for
  ‘graph.empty’
isa.autogen.module : ann: no visible global function definition for
  ‘vcount’
isa.autogen.module : ann: no visible global function definition for ‘V’
overlap: no visible global function definition for ‘isoMDS’
overlap: no visible global function definition for ‘graph.adjacency’
overlap: no visible global function definition for ‘V’
overlap: no visible global function definition for ‘V<-’
overlap: no visible global function definition for ‘graph.empty’
overlap: no visible global function definition for ‘E’
overlap: no visible global function definition for ‘E<-’
overlap: no visible global function definition for
  ‘layout.fruchterman.reingold’
overlap: no visible global function definition for ‘layout.drl’
overlap: no visible global function definition for ‘ecount’
overlapPlot: no visible global function definition for ‘V’
overlapPlot: no visible global function definition for ‘layout.norm’
htmlReport,GOListHyperGResult: no visible binding for global variable
  ‘GOTERM’
htmlReport,KEGGListHyperGResult: no visible binding for global variable
  ‘KEGGPATHID2NAME’
* checking Rd files ... OK
* checking Rd metadata ... OK
* checking Rd cross-references ... OK
* checking for missing documentation entries ... OK
* checking for code/documentation mismatches ... OK
* checking Rd \usage sections ... OK
* checking Rd contents ... OK
* checking for unstated dependencies in examples ... OK
* checking contents of ‘data’ directory ... OK
* checking data for non-ASCII characters ... OK
* checking data for ASCII and uncompressed saves ... OK
* checking sizes of PDF files under ‘inst/doc’ ... OK
* checking installed files from ‘inst/doc’ ... OK
* checking files in ‘vignettes’ ... OK
* checking examples ... [96s/250s] OK
Examples with CPU or elapsed time > 5s
                         user system elapsed
ISA.html               17.346  1.265  26.239
ISA                    14.077  0.667  14.891
ISA.sweep               7.099  0.745   7.851
ISA.GO                  5.931  0.816  72.825
gograph                 4.717  0.259  36.585
ListHyperGResult-class  4.346  0.299  38.946
ListHyperGParams-class  3.673  0.215  12.165
* checking for unstated dependencies in vignettes ... OK
* checking package vignettes in ‘inst/doc’ ... OK
* checking running R code from vignettes ... SKIPPED
* checking re-building of vignette outputs ... SKIPPED
* checking PDF version of manual ... OK
* DONE

Status: 2 NOTEs
See
  ‘/Users/biocbuild/bbs-3.1-bioc/meat/eisa.Rcheck/00check.log’
for details.

eisa.Rcheck/00install.out:

* installing *source* package ‘eisa’ ...
** R
** data
** inst
** preparing package for lazy loading
in method for ‘coerce’ with signature ‘"Biclust","ISAModules"’: no definition for class “Biclust”
in method for ‘coerce’ with signature ‘"ISAModules","Biclust"’: no definition for class “Biclust”
** help
*** installing help indices
** building package indices
** installing vignettes
** testing if installed package can be loaded
* DONE (eisa)

eisa.Rcheck/eisa-Ex.timings:

nameusersystemelapsed
ALLModules0.0190.0020.021
ISA.CHR0.8900.0421.923
ISA.GO 5.931 0.81672.825
ISA.KEGG2.0270.0472.143
ISA14.077 0.66714.891
ISA.html17.346 1.26526.239
ISA.iterate4.2360.3664.604
ISA.miRNA0.6240.0321.543
ISA.normalize3.1400.2013.341
ISA.sweep7.0990.7457.851
ISA.unique3.9520.3584.310
ISA2heatmap1.0760.0331.110
ISAExpressionSet2.9540.1533.108
ISAModules-class0.0080.0000.009
ListHyperGParams-class 3.673 0.21512.165
ListHyperGResult-class 4.346 0.29938.946
cond.plot1.2740.0631.382
eisa.biclust2.3430.4074.139
enrichment0.2720.0050.296
exp.plot1.3080.0731.381
gograph 4.717 0.25936.585
mnplot1.2700.0551.343
overlap0.0630.0210.173
profilePlot0.9850.0331.018
robustness1.6730.0671.741